{"text_format":"1","workbook":"xlsx","n_sheets":3,"sheets":["Chart1","LEAST SQUARE METHOD","RANDOM WAVE GENERATOR"],"not_rendered":{"charts":4,"images":0,"macros":1,"external_links":0,"defined_names":0,"comments":0,"pivot_tables":0},"unopened":[{"sheet":"Chart1","index":0,"reason":"not_a_worksheet"}],"bounds":{"document_bytes":16777216,"sheet_cells":100000,"rows_first":2000,"rows_last":500,"rows_between":2000,"halvings":0,"cell_chars":16384,"cell_head_chars":4096},"cells_cut":0,"cells_raw":0,"read":"whole","date_system":"1900"}

{"sheet":"LEAST SQUARE METHOD","index":1,"n_rows":25,"n_cols":14,"rows_kept":25,"cut":false,"hidden":false,"merged":[]}
["a0","a1","a2","a3","a4","a5","a6"]
[0.41760260384719583,0.3623582428821574,0.74781700554498076,-0.74674967005220316,0.19900948390869819,-2.0302304598063162E-2,6.8615025948400498E-4]
[]
["x0","x1","x2","x3","x4","x5","x6","y","y-LSM"]
[1,{"$f":"INDEX('RANDOM WAVE GENERATOR'!A:A, (ROW()-ROW(B$5))*50+2)","v":0},{"$f":"B5*$B5","v":0},{"$f":"C5*$B5","v":0},{"$f":"D5*$B5","v":0},{"$f":"E5*$B5","v":0},{"$f":"F5*$B5","v":0},0.69586623060326558,{"$f":"SUMPRODUCT($A$2:$G$2,A5:G5)","v":0.41760260384719583},0,0,0,0,0]
[1,{"$f":"INDEX('RANDOM WAVE GENERATOR'!A:A, (ROW()-ROW(B$5))*50+2)","v":0.31415926535897926},{"$f":"B6*$B6","v":9.8696044010893547E-2},{"$f":"C6*$B6","v":3.1006276680299802E-2},9.7409091034002353E-3,3.0601968478528112E-3,9.6138919357530324E-4,-5.5259912170601999E-2,0.58397052034100461]
[1,{"$f":"INDEX('RANDOM WAVE GENERATOR'!A:A, (ROW()-ROW(B$5))*50+2)","v":0.62831853071795962},0.39478417604357557,0.24805021344239972,0.15585454565440487,9.7926299131290834E-2,6.152890838882006E-2,0.72404794117700644,0.78434452914825314]
[1,{"$f":"INDEX('RANDOM WAVE GENERATOR'!A:A, (ROW()-ROW(B$5))*50+2)","v":0.9424777960769416},0.88826439609804908,0.83716947036810474,0.78901363737543184,0.74362783402824817,0.70085272211641303,1.7373762688532444,0.94062512529029862]
[1,{"$f":"INDEX('RANDOM WAVE GENERATOR'!A:A, (ROW()-ROW(B$5))*50+2)","v":1.2566370614359235},1.579136704174313,1.9844017075392177,2.4936727304705113,3.1336415722013591,3.9378501368845629,0.6469210346309241,1.0073556967969577]
[1,{"$f":"INDEX('RANDOM WAVE GENERATOR'!A:A, (ROW()-ROW(B$5))*50+2)","v":1.5707963267949054},2.4674011002723675,3.8757845850375432,6.0880681896252895,9.5631151495403142,15.021706149614639,1.4345088816582368,0.96545442228263956]
[1,{"$f":"INDEX('RANDOM WAVE GENERATOR'!A:A, (ROW()-ROW(B$5))*50+2)","v":1.8849555921538874},3.5530575843922123,6.6973557629448832,12.624218198007023,23.796090688904211,44.854574215451045,0.75001277423266344,{"$f":"SUMPRODUCT($A$2:$G$2,A11:G11)","v":0.81642112188261062}]
[1,{"$f":"INDEX('RANDOM WAVE GENERATOR'!A:A, (ROW()-ROW(B$5))*50+2)","v":2.1991148575128694},4.8361061565338481,10.635152901343044,23.38792275726459,51.432728421863914,113.10647723494537,-0.57248203386481322,0.57701906154940497]
[1,{"$f":"INDEX('RANDOM WAVE GENERATOR'!A:A, (ROW()-ROW(B$5))*50+2)","v":2.5132741228718514},6.316546816697274,15.875213660313825,39.898763687528465,100.27653031044437,252.0224087606147,0.68931869383136146,0.27443171070936784]
[1,{"$f":"INDEX('RANDOM WAVE GENERATOR'!A:A, (ROW()-ROW(B$5))*50+2)","v":2.8274333882308333},7.9943795648824905,22.603575699939036,63.91010462741076,180.70156366886707,510.92163442287449,9.9808532502472902E-2,{"$f":"SUMPRODUCT($A$2:$G$2,A14:G14)","v":-5.8105546720672474E-2}]
[1,{"$f":"INDEX('RANDOM WAVE GENERATOR'!A:A, (ROW()-ROW(B$5))*50+2)","v":3.1415926535898153},9.8696044010894965,31.00627668030047,97.409091034005158,306.01968478529216,961.38919357534485,2.2624589153599606E-2,-0.38519874795656073]
[1,{"$f":"INDEX('RANDOM WAVE GENERATOR'!A:A, (ROW()-ROW(B$5))*50+2)","v":3.4557519189487973},11.942221325318295,41.269354261479947,142.61665018288704,492.84776254356126,1703.1596011595329,-0.85754313511206881,-0.67271373360987075]
[1,{"$f":"INDEX('RANDOM WAVE GENERATOR'!A:A, (ROW()-ROW(B$5))*50+2)","v":3.7699111843077793},14.212230337568883,53.578846103559258,201.98749116811334,761.47490204493931,2870.6927497888873,-0.88753418537056272,-0.8907195765908047]
[1,{"$f":"INDEX('RANDOM WAVE GENERATOR'!A:A, (ROW()-ROW(B$5))*50+2)","v":4.084070449666755},16.679631437841209,68.120789866619887,278.21010490222079,1136.2296682298479,4640.4420120521827,-0.79842369455849249,-1.0159570576509407]
[1,{"$f":"INDEX('RANDOM WAVE GENERATOR'!A:A, (ROW()-ROW(B$5))*50+2)","v":4.3982297150257148},19.344424626135179,85.081223210742948,374.2067641162252,1645.8473094996,7238.8145430362647,-1.5078833439318369,-1.0338321875658947]
[1,{"$f":"INDEX('RANDOM WAVE GENERATOR'!A:A, (ROW()-ROW(B$5))*50+2)","v":4.7123889803846746},22.206609902450914,104.64618379601089,493.133523359631,2323.8369813381937,10950.82378306849,-0.60920795020720664,-0.93993477595780917]
[1,{"$f":"INDEX('RANDOM WAVE GENERATOR'!A:A, (ROW()-ROW(B$5))*50+2)","v":5.0265482457436343},25.266187266788407,127.00170928250542,638.38021900042065,3208.8489699340016,16129.434160678024,-1.1461833092515985,-0.74108204675753875]
[1,{"$f":"INDEX('RANDOM WAVE GENERATOR'!A:A, (ROW()-ROW(B$5))*50+2)","v":5.3407075111025941},28.523156719147664,152.33383733030837,813.57046922505867,4345.0419158015329,23205.59799577685,-0.23929068726577268,-0.45588730030716995]
[1,{"$f":"INDEX('RANDOM WAVE GENERATOR'!A:A, (ROW()-ROW(B$5))*50+2)","v":5.6548667764615539},31.977518259528686,180.82860559950146,1022.5616740384905,5782.4500374031695,32698.984603060053,5.7288280148960063E-2,-0.11485362210179773]
[1,{"$f":"INDEX('RANDOM WAVE GENERATOR'!A:A, (ROW()-ROW(B$5))*50+2)","v":5.9690260418205137},35.629271887931466,212.67205175016645,1269.4450152641434,7577.3503547709115,45229.401595625481,0.1033711180186023,0.2400073618284857]
[1,{"$f":"INDEX('RANDOM WAVE GENERATOR'!A:A, (ROW()-ROW(B$5))*50+2)","v":6.2831853071794734},39.478417604356011,248.05021344238514,1558.5454565439265,9792.629913128123,61528.908388812823,0.56764314891595513,0.5560316828965739]

{"sheet":"RANDOM WAVE GENERATOR","index":2,"n_rows":1002,"n_cols":14,"rows_kept":1002,"cut":false,"hidden":false,"merged":[]}
["x","y",null,null,1,2,3,4,5,6,7,8,9,10]
[0,{"$f":"SIN($A2+2*PI()*$F$2)+$E$2*SUM($E$4:$N$4*SIN($A2*$E$5:$N$5*$E$6:$N$6+2*PI()*$E$3:$N$3))","v":-0.26982547659487077},null,"a",{"$f":"0.3","v":0.3},{"$f":"RAND()","v":0.81183034416553224}]
[{"$f":"2*PI()/1000+A2","v":6.2831853071795866E-3},{"$f":"SIN($A3+2*PI()*$F$2)+$E$2*SUM($E$4:$N$4*SIN($A3*$E$5:$N$5*$E$6:$N$6+2*PI()*$E$3:$N$3))","v":-0.29469928352714703},null,"b",{"$f":"RAND()","v":6.5023687910235828E-2},{"$f":"RAND()","v":0.43149168405060234},0.36996845510228515,0.21285916796381654,2.4132154856989829E-2,0.1856561375286051,3.3250587901817563E-2,0.79585584911137663,0.74597753735986649,5.4851373064860542E-2]
[{"$f":"2*PI()/1000+A3","v":1.2566370614359173E-2},{"$f":"SIN($A4+2*PI()*$F$2)+$E$2*SUM($E$4:$N$4*SIN($A4*$E$5:$N$5*$E$6:$N$6+2*PI()*$E$3:$N$3))","v":-0.48210686342018294},null,"c",{"$f":"RAND()","v":0.65182465180004256},{"$f":"RAND()","v":0.77172399531120028},0.41443775511881475,0.89419294751823142,0.33772467710683862,0.39504864141147811,1.8832443603821303E-2,6.9434717649977107E-2,0.24521897418818861,0.96491520897556138]
[1.8849555921538759E-2,{"$f":"SIN($A5+2*PI()*$F$2)+$E$2*SUM($E$4:$N$4*SIN($A5*$E$5:$N$5*$E$6:$N$6+2*PI()*$E$3:$N$3))","v":-0.61913626760181195},null,"d",{"$f":"1/RAND()","v":2.3710140719708441},{"$f":"1/RAND()","v":1.0287104197064192},1.719856533541424,2.5892223857066035,12.963586245817009,1.0296799242603105,1.6374842319096352,1.0840662754499384,1.3452716902976125,3.6273089132422589]
[2.5132741228718346E-2,{"$f":"SIN($A6+2*PI()*$F$2)+$E$2*SUM($E$4:$N$4*SIN($A6*$E$5:$N$5*$E$6:$N$6+2*PI()*$E$3:$N$3))","v":-0.28259879308360336},null,"2^n",1,{"$f":"E6*2","v":2},{"$f":"F6*2","v":4},8,16,32,64,128,256,512]
[3.1415926535897934E-2,{"$f":"SIN($A7+2*PI()*$F$2)+$E$2*SUM($E$4:$N$4*SIN($A7*$E$5:$N$5*$E$6:$N$6+2*PI()*$E$3:$N$3))","v":-3.2484316089068432E-2}]
[3.7699111843077518E-2,{"$f":"SIN($A8+2*PI()*$F$2)+$E$2*SUM($E$4:$N$4*SIN($A8*$E$5:$N$5*$E$6:$N$6+2*PI()*$E$3:$N$3))","v":-7.6104466987655606E-2}]
[4.3982297150257102E-2,{"$f":"SIN($A9+2*PI()*$F$2)+$E$2*SUM($E$4:$N$4*SIN($A9*$E$5:$N$5*$E$6:$N$6+2*PI()*$E$3:$N$3))","v":-0.25672179033895659}]
[5.0265482457436686E-2,{"$f":"SIN($A10+2*PI()*$F$2)+$E$2*SUM($E$4:$N$4*SIN($A10*$E$5:$N$5*$E$6:$N$6+2*PI()*$E$3:$N$3))","v":-0.7137875316626523}]
[5.654866776461627E-2,{"$f":"SIN($A11+2*PI()*$F$2)+$E$2*SUM($E$4:$N$4*SIN($A11*$E$5:$N$5*$E$6:$N$6+2*PI()*$E$3:$N$3))","v":-0.91383223118847989}]
[6.2831853071795854E-2,{"$f":"SIN($A12+2*PI()*$F$2)+$E$2*SUM($E$4:$N$4*SIN($A12*$E$5:$N$5*$E$6:$N$6+2*PI()*$E$3:$N$3))","v":-0.62106907465773042}]
[6.9115038378975438E-2,{"$f":"SIN($A13+2*PI()*$F$2)+$E$2*SUM($E$4:$N$4*SIN($A13*$E$5:$N$5*$E$6:$N$6+2*PI()*$E$3:$N$3))","v":-0.48867911871155134}]
[7.5398223686155022E-2,{"$f":"SIN($A14+2*PI()*$F$2)+$E$2*SUM($E$4:$N$4*SIN($A14*$E$5:$N$5*$E$6:$N$6+2*PI()*$E$3:$N$3))","v":-0.48512396435242272}]
[8.1681408993334606E-2,{"$f":"SIN($A15+2*PI()*$F$2)+$E$2*SUM($E$4:$N$4*SIN($A15*$E$5:$N$5*$E$6:$N$6+2*PI()*$E$3:$N$3))","v":-0.49862169386695254}]
[8.796459430051419E-2,{"$f":"SIN($A16+2*PI()*$F$2)+$E$2*SUM($E$4:$N$4*SIN($A16*$E$5:$N$5*$E$6:$N$6+2*PI()*$E$3:$N$3))","v":-0.78809053814484142}]
[9.4247779607693774E-2,{"$f":"SIN($A17+2*PI()*$F$2)+$E$2*SUM($E$4:$N$4*SIN($A17*$E$5:$N$5*$E$6:$N$6+2*PI()*$E$3:$N$3))","v":-0.97350795830274461}]
[0.10053096491487336,{"$f":"SIN($A18+2*PI()*$F$2)+$E$2*SUM($E$4:$N$4*SIN($A18*$E$5:$N$5*$E$6:$N$6+2*PI()*$E$3:$N$3))","v":-1.0195542826575259}]
[0.10681415022205294,{"$f":"SIN($A19+2*PI()*$F$2)+$E$2*SUM($E$4:$N$4*SIN($A19*$E$5:$N$5*$E$6:$N$6+2*PI()*$E$3:$N$3))","v":-1.1960916129737904}]
[0.11309733552923253,{"$f":"SIN($A20+2*PI()*$F$2)+$E$2*SUM($E$4:$N$4*SIN($A20*$E$5:$N$5*$E$6:$N$6+2*PI()*$E$3:$N$3))","v":-1.0381814160772718}]
[0.11938052083641211,{"$f":"SIN($A21+2*PI()*$F$2)+$E$2*SUM($E$4:$N$4*SIN($A21*$E$5:$N$5*$E$6:$N$6+2*PI()*$E$3:$N$3))","v":-0.68122272942599349}]
[0.12566370614359171,{"$f":"SIN($A22+2*PI()*$F$2)+$E$2*SUM($E$4:$N$4*SIN($A22*$E$5:$N$5*$E$6:$N$6+2*PI()*$E$3:$N$3))","v":-0.69615812842994351}]
[0.13194689145077129,{"$f":"SIN($A23+2*PI()*$F$2)+$E$2*SUM($E$4:$N$4*SIN($A23*$E$5:$N$5*$E$6:$N$6+2*PI()*$E$3:$N$3))","v":-0.86635580107838139}]
[0.13823007675795088,{"$f":"SIN($A24+2*PI()*$F$2)+$E$2*SUM($E$4:$N$4*SIN($A24*$E$5:$N$5*$E$6:$N$6+2*PI()*$E$3:$N$3))","v":-1.1627477489169145}]
[0.14451326206513046,{"$f":"SIN($A25+2*PI()*$F$2)+$E$2*SUM($E$4:$N$4*SIN($A25*$E$5:$N$5*$E$6:$N$6+2*PI()*$E$3:$N$3))","v":-1.4571548218630559}]
[0.15079644737231004,{"$f":"SIN($A26+2*PI()*$F$2)+$E$2*SUM($E$4:$N$4*SIN($A26*$E$5:$N$5*$E$6:$N$6+2*PI()*$E$3:$N$3))","v":-1.1870028130957206}]
[0.15707963267948963,{"$f":"SIN($A27+2*PI()*$F$2)+$E$2*SUM($E$4:$N$4*SIN($A27*$E$5:$N$5*$E$6:$N$6+2*PI()*$E$3:$N$3))","v":-0.7836590413379908}]
[0.16336281798666921,{"$f":"SIN($A28+2*PI()*$F$2)+$E$2*SUM($E$4:$N$4*SIN($A28*$E$5:$N$5*$E$6:$N$6+2*PI()*$E$3:$N$3))","v":-0.73509345294413408}]
[0.1696460032938488,{"$f":"SIN($A29+2*PI()*$F$2)+$E$2*SUM($E$4:$N$4*SIN($A29*$E$5:$N$5*$E$6:$N$6+2*PI()*$E$3:$N$3))","v":-0.72821650965581552}]
[0.17592918860102838,{"$f":"SIN($A30+2*PI()*$F$2)+$E$2*SUM($E$4:$N$4*SIN($A30*$E$5:$N$5*$E$6:$N$6+2*PI()*$E$3:$N$3))","v":-0.87833434978946334}]
[0.18221237390820796,{"$f":"SIN($A31+2*PI()*$F$2)+$E$2*SUM($E$4:$N$4*SIN($A31*$E$5:$N$5*$E$6:$N$6+2*PI()*$E$3:$N$3))","v":-1.1058744258181052}]
[0.18849555921538755,{"$f":"SIN($A32+2*PI()*$F$2)+$E$2*SUM($E$4:$N$4*SIN($A32*$E$5:$N$5*$E$6:$N$6+2*PI()*$E$3:$N$3))","v":-1.0158373598094979}]
[0.19477874452256713,{"$f":"SIN($A33+2*PI()*$F$2)+$E$2*SUM($E$4:$N$4*SIN($A33*$E$5:$N$5*$E$6:$N$6+2*PI()*$E$3:$N$3))","v":-0.96505084283718634}]
[0.20106192982974672,{"$f":"SIN($A34+2*PI()*$F$2)+$E$2*SUM($E$4:$N$4*SIN($A34*$E$5:$N$5*$E$6:$N$6+2*PI()*$E$3:$N$3))","v":-0.92015570063246477}]
[0.2073451151369263,{"$f":"SIN($A35+2*PI()*$F$2)+$E$2*SUM($E$4:$N$4*SIN($A35*$E$5:$N$5*$E$6:$N$6+2*PI()*$E$3:$N$3))","v":-0.5595343035723277}]
[0.21362830044410588,{"$f":"SIN($A36+2*PI()*$F$2)+$E$2*SUM($E$4:$N$4*SIN($A36*$E$5:$N$5*$E$6:$N$6+2*PI()*$E$3:$N$3))","v":-0.4320102963094864}]
[0.21991148575128547,{"$f":"SIN($A37+2*PI()*$F$2)+$E$2*SUM($E$4:$N$4*SIN($A37*$E$5:$N$5*$E$6:$N$6+2*PI()*$E$3:$N$3))","v":-0.64347332781652111}]
[0.22619467105846505,{"$f":"SIN($A38+2*PI()*$F$2)+$E$2*SUM($E$4:$N$4*SIN($A38*$E$5:$N$5*$E$6:$N$6+2*PI()*$E$3:$N$3))","v":-0.84574307205960775}]
[0.23247785636564464,{"$f":"SIN($A39+2*PI()*$F$2)+$E$2*SUM($E$4:$N$4*SIN($A39*$E$5:$N$5*$E$6:$N$6+2*PI()*$E$3:$N$3))","v":-1.1096131413994874}]
[0.23876104167282422,{"$f":"SIN($A40+2*PI()*$F$2)+$E$2*SUM($E$4:$N$4*SIN($A40*$E$5:$N$5*$E$6:$N$6+2*PI()*$E$3:$N$3))","v":-1.0273185480422293}]
[0.2450442269800038,{"$f":"SIN($A41+2*PI()*$F$2)+$E$2*SUM($E$4:$N$4*SIN($A41*$E$5:$N$5*$E$6:$N$6+2*PI()*$E$3:$N$3))","v":-0.51447007480782503}]
[0.25132741228718342,{"$f":"SIN($A42+2*PI()*$F$2)+$E$2*SUM($E$4:$N$4*SIN($A42*$E$5:$N$5*$E$6:$N$6+2*PI()*$E$3:$N$3))","v":-0.34269712948436726}]
[0.257610597594363,{"$f":"SIN($A43+2*PI()*$F$2)+$E$2*SUM($E$4:$N$4*SIN($A43*$E$5:$N$5*$E$6:$N$6+2*PI()*$E$3:$N$3))","v":-0.47228432088189948}]
[0.26389378290154258,{"$f":"SIN($A44+2*PI()*$F$2)+$E$2*SUM($E$4:$N$4*SIN($A44*$E$5:$N$5*$E$6:$N$6+2*PI()*$E$3:$N$3))","v":-0.61518089413889365}]
[0.27017696820872217,{"$f":"SIN($A45+2*PI()*$F$2)+$E$2*SUM($E$4:$N$4*SIN($A45*$E$5:$N$5*$E$6:$N$6+2*PI()*$E$3:$N$3))","v":-0.8980660722609799}]
[0.27646015351590175,{"$f":"SIN($A46+2*PI()*$F$2)+$E$2*SUM($E$4:$N$4*SIN($A46*$E$5:$N$5*$E$6:$N$6+2*PI()*$E$3:$N$3))","v":-0.92311168036521374}]
[0.28274333882308134,{"$f":"SIN($A47+2*PI()*$F$2)+$E$2*SUM($E$4:$N$4*SIN($A47*$E$5:$N$5*$E$6:$N$6+2*PI()*$E$3:$N$3))","v":-0.70587332833754357}]
[0.28902652413026092,{"$f":"SIN($A48+2*PI()*$F$2)+$E$2*SUM($E$4:$N$4*SIN($A48*$E$5:$N$5*$E$6:$N$6+2*PI()*$E$3:$N$3))","v":-0.67722523176816496}]
[0.2953097094374405,{"$f":"SIN($A49+2*PI()*$F$2)+$E$2*SUM($E$4:$N$4*SIN($A49*$E$5:$N$5*$E$6:$N$6+2*PI()*$E$3:$N$3))","v":-0.49934684496054205}]
[0.30159289474462009,{"$f":"SIN($A50+2*PI()*$F$2)+$E$2*SUM($E$4:$N$4*SIN($A50*$E$5:$N$5*$E$6:$N$6+2*PI()*$E$3:$N$3))","v":-0.27327780446724992}]
[0.30787608005179967,{"$f":"SIN($A51+2*PI()*$F$2)+$E$2*SUM($E$4:$N$4*SIN($A51*$E$5:$N$5*$E$6:$N$6+2*PI()*$E$3:$N$3))","v":-0.46592820245902294}]
[0.31415926535897926,{"$f":"SIN($A52+2*PI()*$F$2)+$E$2*SUM($E$4:$N$4*SIN($A52*$E$5:$N$5*$E$6:$N$6+2*PI()*$E$3:$N$3))","v":-0.70744192360297109}]
[0.32044245066615884,{"$f":"SIN($A53+2*PI()*$F$2)+$E$2*SUM($E$4:$N$4*SIN($A53*$E$5:$N$5*$E$6:$N$6+2*PI()*$E$3:$N$3))","v":-0.86627862113115239}]
[0.32672563597333842,{"$f":"SIN($A54+2*PI()*$F$2)+$E$2*SUM($E$4:$N$4*SIN($A54*$E$5:$N$5*$E$6:$N$6+2*PI()*$E$3:$N$3))","v":-0.9245490257786555}]
[0.33300882128051801,{"$f":"SIN($A55+2*PI()*$F$2)+$E$2*SUM($E$4:$N$4*SIN($A55*$E$5:$N$5*$E$6:$N$6+2*PI()*$E$3:$N$3))","v":-0.50033192444262642}]
[0.33929200658769759,{"$f":"SIN($A56+2*PI()*$F$2)+$E$2*SUM($E$4:$N$4*SIN($A56*$E$5:$N$5*$E$6:$N$6+2*PI()*$E$3:$N$3))","v":-0.12274869614169237}]
[0.34557519189487718,{"$f":"SIN($A57+2*PI()*$F$2)+$E$2*SUM($E$4:$N$4*SIN($A57*$E$5:$N$5*$E$6:$N$6+2*PI()*$E$3:$N$3))","v":-0.28042127934960059}]
[0.35185837720205676,{"$f":"SIN($A58+2*PI()*$F$2)+$E$2*SUM($E$4:$N$4*SIN($A58*$E$5:$N$5*$E$6:$N$6+2*PI()*$E$3:$N$3))","v":-0.50268400614702502}]
[0.35814156250923634,{"$f":"SIN($A59+2*PI()*$F$2)+$E$2*SUM($E$4:$N$4*SIN($A59*$E$5:$N$5*$E$6:$N$6+2*PI()*$E$3:$N$3))","v":-0.7289454898309079}]
[0.36442474781641593,{"$f":"SIN($A60+2*PI()*$F$2)+$E$2*SUM($E$4:$N$4*SIN($A60*$E$5:$N$5*$E$6:$N$6+2*PI()*$E$3:$N$3))","v":-0.87249912897772008}]
[0.37070793312359551,{"$f":"SIN($A61+2*PI()*$F$2)+$E$2*SUM($E$4:$N$4*SIN($A61*$E$5:$N$5*$E$6:$N$6+2*PI()*$E$3:$N$3))","v":-0.61878241512697063}]
[0.3769911184307751,{"$f":"SIN($A62+2*PI()*$F$2)+$E$2*SUM($E$4:$N$4*SIN($A62*$E$5:$N$5*$E$6:$N$6+2*PI()*$E$3:$N$3))","v":-0.45321991514917204}]
[0.38327430373795468,{"$f":"SIN($A63+2*PI()*$F$2)+$E$2*SUM($E$4:$N$4*SIN($A63*$E$5:$N$5*$E$6:$N$6+2*PI()*$E$3:$N$3))","v":-0.4772129641041658}]
[0.38955748904513426,{"$f":"SIN($A64+2*PI()*$F$2)+$E$2*SUM($E$4:$N$4*SIN($A64*$E$5:$N$5*$E$6:$N$6+2*PI()*$E$3:$N$3))","v":-0.34126408508469075}]
[0.39584067435231385,{"$f":"SIN($A65+2*PI()*$F$2)+$E$2*SUM($E$4:$N$4*SIN($A65*$E$5:$N$5*$E$6:$N$6+2*PI()*$E$3:$N$3))","v":-0.45916618676549537}]
[0.40212385965949343,{"$f":"SIN($A66+2*PI()*$F$2)+$E$2*SUM($E$4:$N$4*SIN($A66*$E$5:$N$5*$E$6:$N$6+2*PI()*$E$3:$N$3))","v":-0.8149561631360801}]
[0.40840704496667302,{"$f":"SIN($A67+2*PI()*$F$2)+$E$2*SUM($E$4:$N$4*SIN($A67*$E$5:$N$5*$E$6:$N$6+2*PI()*$E$3:$N$3))","v":-0.96604177998362883}]
[{"$f":"2*PI()/1000+A67","v":0.4146902302738526},{"$f":"SIN($A68+2*PI()*$F$2)+$E$2*SUM($E$4:$N$4*SIN($A68*$E$5:$N$5*$E$6:$N$6+2*PI()*$E$3:$N$3))","v":-1.050926816878391}]
[0.42097341558103218,{"$f":"SIN($A69+2*PI()*$F$2)+$E$2*SUM($E$4:$N$4*SIN($A69*$E$5:$N$5*$E$6:$N$6+2*PI()*$E$3:$N$3))","v":-0.86429314418495251}]
[0.42725660088821177,{"$f":"SIN($A70+2*PI()*$F$2)+$E$2*SUM($E$4:$N$4*SIN($A70*$E$5:$N$5*$E$6:$N$6+2*PI()*$E$3:$N$3))","v":-0.42756139758638106}]
[0.43353978619539135,{"$f":"SIN($A71+2*PI()*$F$2)+$E$2*SUM($E$4:$N$4*SIN($A71*$E$5:$N$5*$E$6:$N$6+2*PI()*$E$3:$N$3))","v":-0.49278194650704044}]
[0.43982297150257094,{"$f":"SIN($A72+2*PI()*$F$2)+$E$2*SUM($E$4:$N$4*SIN($A72*$E$5:$N$5*$E$6:$N$6+2*PI()*$E$3:$N$3))","v":-0.89120407600592655}]
[0.44610615680975052,{"$f":"SIN($A73+2*PI()*$F$2)+$E$2*SUM($E$4:$N$4*SIN($A73*$E$5:$N$5*$E$6:$N$6+2*PI()*$E$3:$N$3))","v":-1.1409683625887062}]
[0.4523893421169301,{"$f":"SIN($A74+2*PI()*$F$2)+$E$2*SUM($E$4:$N$4*SIN($A74*$E$5:$N$5*$E$6:$N$6+2*PI()*$E$3:$N$3))","v":-1.330935636121505}]
[0.45867252742410969,{"$f":"SIN($A75+2*PI()*$F$2)+$E$2*SUM($E$4:$N$4*SIN($A75*$E$5:$N$5*$E$6:$N$6+2*PI()*$E$3:$N$3))","v":-1.1846085126783619}]
[0.46495571273128927,{"$f":"SIN($A76+2*PI()*$F$2)+$E$2*SUM($E$4:$N$4*SIN($A76*$E$5:$N$5*$E$6:$N$6+2*PI()*$E$3:$N$3))","v":-0.84244424583629196}]
[0.47123889803846886,{"$f":"SIN($A77+2*PI()*$F$2)+$E$2*SUM($E$4:$N$4*SIN($A77*$E$5:$N$5*$E$6:$N$6+2*PI()*$E$3:$N$3))","v":-0.84865239360323574}]
[0.47752208334564844,{"$f":"SIN($A78+2*PI()*$F$2)+$E$2*SUM($E$4:$N$4*SIN($A78*$E$5:$N$5*$E$6:$N$6+2*PI()*$E$3:$N$3))","v":-0.86349646050110951}]
[0.48380526865282802,{"$f":"SIN($A79+2*PI()*$F$2)+$E$2*SUM($E$4:$N$4*SIN($A79*$E$5:$N$5*$E$6:$N$6+2*PI()*$E$3:$N$3))","v":-0.83311187035725565}]
[0.49008845396000761,{"$f":"SIN($A80+2*PI()*$F$2)+$E$2*SUM($E$4:$N$4*SIN($A80*$E$5:$N$5*$E$6:$N$6+2*PI()*$E$3:$N$3))","v":-1.0981504241739848}]
[0.49637163926718719,{"$f":"SIN($A81+2*PI()*$F$2)+$E$2*SUM($E$4:$N$4*SIN($A81*$E$5:$N$5*$E$6:$N$6+2*PI()*$E$3:$N$3))","v":-1.2334844542196703}]
[0.50265482457436683,{"$f":"SIN($A82+2*PI()*$F$2)+$E$2*SUM($E$4:$N$4*SIN($A82*$E$5:$N$5*$E$6:$N$6+2*PI()*$E$3:$N$3))","v":-1.144394455979767}]
[0.50893800988154647,{"$f":"SIN($A83+2*PI()*$F$2)+$E$2*SUM($E$4:$N$4*SIN($A83*$E$5:$N$5*$E$6:$N$6+2*PI()*$E$3:$N$3))","v":-1.0002783135879494}]
[0.51522119518872611,{"$f":"SIN($A84+2*PI()*$F$2)+$E$2*SUM($E$4:$N$4*SIN($A84*$E$5:$N$5*$E$6:$N$6+2*PI()*$E$3:$N$3))","v":-0.55947217078646017}]
[0.52150438049590575,{"$f":"SIN($A85+2*PI()*$F$2)+$E$2*SUM($E$4:$N$4*SIN($A85*$E$5:$N$5*$E$6:$N$6+2*PI()*$E$3:$N$3))","v":-0.31535432268442026}]
[0.52778756580308539,{"$f":"SIN($A86+2*PI()*$F$2)+$E$2*SUM($E$4:$N$4*SIN($A86*$E$5:$N$5*$E$6:$N$6+2*PI()*$E$3:$N$3))","v":-0.6353527311270426}]
[0.53407075111026503,{"$f":"SIN($A87+2*PI()*$F$2)+$E$2*SUM($E$4:$N$4*SIN($A87*$E$5:$N$5*$E$6:$N$6+2*PI()*$E$3:$N$3))","v":-0.87713535480110782}]
[0.54035393641744467,{"$f":"SIN($A88+2*PI()*$F$2)+$E$2*SUM($E$4:$N$4*SIN($A88*$E$5:$N$5*$E$6:$N$6+2*PI()*$E$3:$N$3))","v":-0.90266595829054252}]
[0.54663712172462431,{"$f":"SIN($A89+2*PI()*$F$2)+$E$2*SUM($E$4:$N$4*SIN($A89*$E$5:$N$5*$E$6:$N$6+2*PI()*$E$3:$N$3))","v":-0.75869082518814546}]
[0.55292030703180395,{"$f":"SIN($A90+2*PI()*$F$2)+$E$2*SUM($E$4:$N$4*SIN($A90*$E$5:$N$5*$E$6:$N$6+2*PI()*$E$3:$N$3))","v":-0.29077094245076884}]
[0.55920349233898359,{"$f":"SIN($A91+2*PI()*$F$2)+$E$2*SUM($E$4:$N$4*SIN($A91*$E$5:$N$5*$E$6:$N$6+2*PI()*$E$3:$N$3))","v":-6.8242760025277627E-2}]
[0.56548667764616323,{"$f":"SIN($A92+2*PI()*$F$2)+$E$2*SUM($E$4:$N$4*SIN($A92*$E$5:$N$5*$E$6:$N$6+2*PI()*$E$3:$N$3))","v":-0.19857312268759192}]
[0.57176986295334287,{"$f":"SIN($A93+2*PI()*$F$2)+$E$2*SUM($E$4:$N$4*SIN($A93*$E$5:$N$5*$E$6:$N$6+2*PI()*$E$3:$N$3))","v":-0.18968885842070121}]
[0.57805304826052251,{"$f":"SIN($A94+2*PI()*$F$2)+$E$2*SUM($E$4:$N$4*SIN($A94*$E$5:$N$5*$E$6:$N$6+2*PI()*$E$3:$N$3))","v":-0.30113827734972143}]
[0.58433623356770215,{"$f":"SIN($A95+2*PI()*$F$2)+$E$2*SUM($E$4:$N$4*SIN($A95*$E$5:$N$5*$E$6:$N$6+2*PI()*$E$3:$N$3))","v":-0.49308906219816756}]
[0.59061941887488179,{"$f":"SIN($A96+2*PI()*$F$2)+$E$2*SUM($E$4:$N$4*SIN($A96*$E$5:$N$5*$E$6:$N$6+2*PI()*$E$3:$N$3))","v":-0.3719609862314105}]
[0.59690260418206142,{"$f":"SIN($A97+2*PI()*$F$2)+$E$2*SUM($E$4:$N$4*SIN($A97*$E$5:$N$5*$E$6:$N$6+2*PI()*$E$3:$N$3))","v":-0.22227061728916797}]
[0.60318578948924106,{"$f":"SIN($A98+2*PI()*$F$2)+$E$2*SUM($E$4:$N$4*SIN($A98*$E$5:$N$5*$E$6:$N$6+2*PI()*$E$3:$N$3))","v":-1.8413178318840151E-3}]
[0.6094689747964207,{"$f":"SIN($A99+2*PI()*$F$2)+$E$2*SUM($E$4:$N$4*SIN($A99*$E$5:$N$5*$E$6:$N$6+2*PI()*$E$3:$N$3))","v":0.29092439894772959}]
[0.61575216010360034,{"$f":"SIN($A100+2*PI()*$F$2)+$E$2*SUM($E$4:$N$4*SIN($A100*$E$5:$N$5*$E$6:$N$6+2*PI()*$E$3:$N$3))","v":4.6798101559781258E-2}]
[0.62203534541077998,{"$f":"SIN($A101+2*PI()*$F$2)+$E$2*SUM($E$4:$N$4*SIN($A101*$E$5:$N$5*$E$6:$N$6+2*PI()*$E$3:$N$3))","v":-0.41999550732891811}]
[0.62831853071795962,{"$f":"SIN($A102+2*PI()*$F$2)+$E$2*SUM($E$4:$N$4*SIN($A102*$E$5:$N$5*$E$6:$N$6+2*PI()*$E$3:$N$3))","v":-0.53460295734678676}]
[{"$f":"2*PI()/1000+A102","v":0.63460171602513926},{"$f":"SIN($A103+2*PI()*$F$2)+$E$2*SUM($E$4:$N$4*SIN($A103*$E$5:$N$5*$E$6:$N$6+2*PI()*$E$3:$N$3))","v":-0.48758772056500832}]
[0.6408849013323189,{"$f":"SIN($A104+2*PI()*$F$2)+$E$2*SUM($E$4:$N$4*SIN($A104*$E$5:$N$5*$E$6:$N$6+2*PI()*$E$3:$N$3))","v":-0.20313514233546287}]
[0.64716808663949854,{"$f":"SIN($A105+2*PI()*$F$2)+$E$2*SUM($E$4:$N$4*SIN($A105*$E$5:$N$5*$E$6:$N$6+2*PI()*$E$3:$N$3))","v":9.6769464877802913E-2}]
[0.65345127194667818,{"$f":"SIN($A106+2*PI()*$F$2)+$E$2*SUM($E$4:$N$4*SIN($A106*$E$5:$N$5*$E$6:$N$6+2*PI()*$E$3:$N$3))","v":-0.11209081068436594}]
[0.65973445725385782,{"$f":"SIN($A107+2*PI()*$F$2)+$E$2*SUM($E$4:$N$4*SIN($A107*$E$5:$N$5*$E$6:$N$6+2*PI()*$E$3:$N$3))","v":-0.37085037393617359}]
[0.66601764256103746,{"$f":"SIN($A108+2*PI()*$F$2)+$E$2*SUM($E$4:$N$4*SIN($A108*$E$5:$N$5*$E$6:$N$6+2*PI()*$E$3:$N$3))","v":-0.45164840123997957}]
[0.6723008278682171,{"$f":"SIN($A109+2*PI()*$F$2)+$E$2*SUM($E$4:$N$4*SIN($A109*$E$5:$N$5*$E$6:$N$6+2*PI()*$E$3:$N$3))","v":-0.66143548368816751}]
[0.67858401317539674,{"$f":"SIN($A110+2*PI()*$F$2)+$E$2*SUM($E$4:$N$4*SIN($A110*$E$5:$N$5*$E$6:$N$6+2*PI()*$E$3:$N$3))","v":-0.65990469467272095}]
[0.68486719848257638,{"$f":"SIN($A111+2*PI()*$F$2)+$E$2*SUM($E$4:$N$4*SIN($A111*$E$5:$N$5*$E$6:$N$6+2*PI()*$E$3:$N$3))","v":-0.46601933453570871}]
[0.69115038378975602,{"$f":"SIN($A112+2*PI()*$F$2)+$E$2*SUM($E$4:$N$4*SIN($A112*$E$5:$N$5*$E$6:$N$6+2*PI()*$E$3:$N$3))","v":-0.39216340313033043}]
[0.69743356909693566,{"$f":"SIN($A113+2*PI()*$F$2)+$E$2*SUM($E$4:$N$4*SIN($A113*$E$5:$N$5*$E$6:$N$6+2*PI()*$E$3:$N$3))","v":-0.20694767000777536}]
[0.7037167544041153,{"$f":"SIN($A114+2*PI()*$F$2)+$E$2*SUM($E$4:$N$4*SIN($A114*$E$5:$N$5*$E$6:$N$6+2*PI()*$E$3:$N$3))","v":-0.24281023615122493}]
[0.70999993971129494,{"$f":"SIN($A115+2*PI()*$F$2)+$E$2*SUM($E$4:$N$4*SIN($A115*$E$5:$N$5*$E$6:$N$6+2*PI()*$E$3:$N$3))","v":-0.72192684613752389}]
[0.71628312501847458,{"$f":"SIN($A116+2*PI()*$F$2)+$E$2*SUM($E$4:$N$4*SIN($A116*$E$5:$N$5*$E$6:$N$6+2*PI()*$E$3:$N$3))","v":-0.92815594793655576}]
[0.72256631032565422,{"$f":"SIN($A117+2*PI()*$F$2)+$E$2*SUM($E$4:$N$4*SIN($A117*$E$5:$N$5*$E$6:$N$6+2*PI()*$E$3:$N$3))","v":-0.78386360868534199}]
[0.72884949563283385,{"$f":"SIN($A118+2*PI()*$F$2)+$E$2*SUM($E$4:$N$4*SIN($A118*$E$5:$N$5*$E$6:$N$6+2*PI()*$E$3:$N$3))","v":-0.54411027454442007}]
[0.73513268094001349,{"$f":"SIN($A119+2*PI()*$F$2)+$E$2*SUM($E$4:$N$4*SIN($A119*$E$5:$N$5*$E$6:$N$6+2*PI()*$E$3:$N$3))","v":-0.17072028067413825}]
[0.74141586624719313,{"$f":"SIN($A120+2*PI()*$F$2)+$E$2*SUM($E$4:$N$4*SIN($A120*$E$5:$N$5*$E$6:$N$6+2*PI()*$E$3:$N$3))","v":-0.18090435509093017}]
[0.74769905155437277,{"$f":"SIN($A121+2*PI()*$F$2)+$E$2*SUM($E$4:$N$4*SIN($A121*$E$5:$N$5*$E$6:$N$6+2*PI()*$E$3:$N$3))","v":-0.56572627152735455}]
[0.75398223686155241,{"$f":"SIN($A122+2*PI()*$F$2)+$E$2*SUM($E$4:$N$4*SIN($A122*$E$5:$N$5*$E$6:$N$6+2*PI()*$E$3:$N$3))","v":-0.67237224107497473}]
[0.76026542216873205,{"$f":"SIN($A123+2*PI()*$F$2)+$E$2*SUM($E$4:$N$4*SIN($A123*$E$5:$N$5*$E$6:$N$6+2*PI()*$E$3:$N$3))","v":-0.69796658843762449}]
[0.76654860747591169,{"$f":"SIN($A124+2*PI()*$F$2)+$E$2*SUM($E$4:$N$4*SIN($A124*$E$5:$N$5*$E$6:$N$6+2*PI()*$E$3:$N$3))","v":-0.71571145939716307}]
[0.77283179278309133,{"$f":"SIN($A125+2*PI()*$F$2)+$E$2*SUM($E$4:$N$4*SIN($A125*$E$5:$N$5*$E$6:$N$6+2*PI()*$E$3:$N$3))","v":-0.45964959499428165}]
[0.77911497809027097,{"$f":"SIN($A126+2*PI()*$F$2)+$E$2*SUM($E$4:$N$4*SIN($A126*$E$5:$N$5*$E$6:$N$6+2*PI()*$E$3:$N$3))","v":-0.31577795662155395}]
[0.78539816339745061,{"$f":"SIN($A127+2*PI()*$F$2)+$E$2*SUM($E$4:$N$4*SIN($A127*$E$5:$N$5*$E$6:$N$6+2*PI()*$E$3:$N$3))","v":-0.27469619054689837}]
[0.79168134870463025,{"$f":"SIN($A128+2*PI()*$F$2)+$E$2*SUM($E$4:$N$4*SIN($A128*$E$5:$N$5*$E$6:$N$6+2*PI()*$E$3:$N$3))","v":-0.19055197180047873}]
[0.79796453401180989,{"$f":"SIN($A129+2*PI()*$F$2)+$E$2*SUM($E$4:$N$4*SIN($A129*$E$5:$N$5*$E$6:$N$6+2*PI()*$E$3:$N$3))","v":-0.50485137836812055}]
[0.80424771931898953,{"$f":"SIN($A130+2*PI()*$F$2)+$E$2*SUM($E$4:$N$4*SIN($A130*$E$5:$N$5*$E$6:$N$6+2*PI()*$E$3:$N$3))","v":-0.85488554554176133}]
[0.81053090462616917,{"$f":"SIN($A131+2*PI()*$F$2)+$E$2*SUM($E$4:$N$4*SIN($A131*$E$5:$N$5*$E$6:$N$6+2*PI()*$E$3:$N$3))","v":-0.71584451411106387}]
[0.81681408993334881,{"$f":"SIN($A132+2*PI()*$F$2)+$E$2*SUM($E$4:$N$4*SIN($A132*$E$5:$N$5*$E$6:$N$6+2*PI()*$E$3:$N$3))","v":-0.45741250842758069}]
[0.82309727524052845,{"$f":"SIN($A133+2*PI()*$F$2)+$E$2*SUM($E$4:$N$4*SIN($A133*$E$5:$N$5*$E$6:$N$6+2*PI()*$E$3:$N$3))","v":-0.16377483968151241}]
[0.82938046054770809,{"$f":"SIN($A134+2*PI()*$F$2)+$E$2*SUM($E$4:$N$4*SIN($A134*$E$5:$N$5*$E$6:$N$6+2*PI()*$E$3:$N$3))","v":-7.7871310571396291E-3}]
[0.83566364585488773,{"$f":"SIN($A135+2*PI()*$F$2)+$E$2*SUM($E$4:$N$4*SIN($A135*$E$5:$N$5*$E$6:$N$6+2*PI()*$E$3:$N$3))","v":-0.37126370955707583}]
[0.84194683116206737,{"$f":"SIN($A136+2*PI()*$F$2)+$E$2*SUM($E$4:$N$4*SIN($A136*$E$5:$N$5*$E$6:$N$6+2*PI()*$E$3:$N$3))","v":-0.66060879943742479}]
[0.84823001646924701,{"$f":"SIN($A137+2*PI()*$F$2)+$E$2*SUM($E$4:$N$4*SIN($A137*$E$5:$N$5*$E$6:$N$6+2*PI()*$E$3:$N$3))","v":-0.5720253772623991}]
[0.85451320177642665,{"$f":"SIN($A138+2*PI()*$F$2)+$E$2*SUM($E$4:$N$4*SIN($A138*$E$5:$N$5*$E$6:$N$6+2*PI()*$E$3:$N$3))","v":-0.51685776395221961}]
[0.86079638708360628,{"$f":"SIN($A139+2*PI()*$F$2)+$E$2*SUM($E$4:$N$4*SIN($A139*$E$5:$N$5*$E$6:$N$6+2*PI()*$E$3:$N$3))","v":-0.32141448675272755}]
[0.86707957239078592,{"$f":"SIN($A140+2*PI()*$F$2)+$E$2*SUM($E$4:$N$4*SIN($A140*$E$5:$N$5*$E$6:$N$6+2*PI()*$E$3:$N$3))","v":-7.9129038997767853E-2}]
[0.87336275769796556,{"$f":"SIN($A141+2*PI()*$F$2)+$E$2*SUM($E$4:$N$4*SIN($A141*$E$5:$N$5*$E$6:$N$6+2*PI()*$E$3:$N$3))","v":-0.11630830846637408}]
[0.8796459430051452,{"$f":"SIN($A142+2*PI()*$F$2)+$E$2*SUM($E$4:$N$4*SIN($A142*$E$5:$N$5*$E$6:$N$6+2*PI()*$E$3:$N$3))","v":-9.5082407358152848E-2}]
[0.88592912831232484,{"$f":"SIN($A143+2*PI()*$F$2)+$E$2*SUM($E$4:$N$4*SIN($A143*$E$5:$N$5*$E$6:$N$6+2*PI()*$E$3:$N$3))","v":-0.1659557318439876}]
[0.89221231361950448,{"$f":"SIN($A144+2*PI()*$F$2)+$E$2*SUM($E$4:$N$4*SIN($A144*$E$5:$N$5*$E$6:$N$6+2*PI()*$E$3:$N$3))","v":-0.50098981694091904}]
[0.89849549892668412,{"$f":"SIN($A145+2*PI()*$F$2)+$E$2*SUM($E$4:$N$4*SIN($A145*$E$5:$N$5*$E$6:$N$6+2*PI()*$E$3:$N$3))","v":-0.45582201296324931}]
[0.90477868423386376,{"$f":"SIN($A146+2*PI()*$F$2)+$E$2*SUM($E$4:$N$4*SIN($A146*$E$5:$N$5*$E$6:$N$6+2*PI()*$E$3:$N$3))","v":-9.4316663161990832E-2}]
[0.9110618695410434,{"$f":"SIN($A147+2*PI()*$F$2)+$E$2*SUM($E$4:$N$4*SIN($A147*$E$5:$N$5*$E$6:$N$6+2*PI()*$E$3:$N$3))","v":0.16120622313612371}]
[0.91734505484822304,{"$f":"SIN($A148+2*PI()*$F$2)+$E$2*SUM($E$4:$N$4*SIN($A148*$E$5:$N$5*$E$6:$N$6+2*PI()*$E$3:$N$3))","v":0.36088227995164202}]
[0.92362824015540268,{"$f":"SIN($A149+2*PI()*$F$2)+$E$2*SUM($E$4:$N$4*SIN($A149*$E$5:$N$5*$E$6:$N$6+2*PI()*$E$3:$N$3))","v":0.16223802072647514}]
[0.92991142546258232,{"$f":"SIN($A150+2*PI()*$F$2)+$E$2*SUM($E$4:$N$4*SIN($A150*$E$5:$N$5*$E$6:$N$6+2*PI()*$E$3:$N$3))","v":-0.29024010490744129}]
[0.93619461076976196,{"$f":"SIN($A151+2*PI()*$F$2)+$E$2*SUM($E$4:$N$4*SIN($A151*$E$5:$N$5*$E$6:$N$6+2*PI()*$E$3:$N$3))","v":-0.28314853461657796}]
[0.9424777960769416,{"$f":"SIN($A152+2*PI()*$F$2)+$E$2*SUM($E$4:$N$4*SIN($A152*$E$5:$N$5*$E$6:$N$6+2*PI()*$E$3:$N$3))","v":-8.9357274955147559E-2}]
[0.94876098138412124,{"$f":"SIN($A153+2*PI()*$F$2)+$E$2*SUM($E$4:$N$4*SIN($A153*$E$5:$N$5*$E$6:$N$6+2*PI()*$E$3:$N$3))","v":2.6733354992896252E-2}]
[0.95504416669130088,{"$f":"SIN($A154+2*PI()*$F$2)+$E$2*SUM($E$4:$N$4*SIN($A154*$E$5:$N$5*$E$6:$N$6+2*PI()*$E$3:$N$3))","v":0.24237886179170329}]
[0.96132735199848052,{"$f":"SIN($A155+2*PI()*$F$2)+$E$2*SUM($E$4:$N$4*SIN($A155*$E$5:$N$5*$E$6:$N$6+2*PI()*$E$3:$N$3))","v":0.20161826687164724}]
[0.96761053730566016,{"$f":"SIN($A156+2*PI()*$F$2)+$E$2*SUM($E$4:$N$4*SIN($A156*$E$5:$N$5*$E$6:$N$6+2*PI()*$E$3:$N$3))","v":1.7322887927342934E-3}]
[0.9738937226128398,{"$f":"SIN($A157+2*PI()*$F$2)+$E$2*SUM($E$4:$N$4*SIN($A157*$E$5:$N$5*$E$6:$N$6+2*PI()*$E$3:$N$3))","v":-4.6122905468736847E-2}]
[0.98017690792001944,{"$f":"SIN($A158+2*PI()*$F$2)+$E$2*SUM($E$4:$N$4*SIN($A158*$E$5:$N$5*$E$6:$N$6+2*PI()*$E$3:$N$3))","v":-0.30599289972094501}]
[0.98646009322719908,{"$f":"SIN($A159+2*PI()*$F$2)+$E$2*SUM($E$4:$N$4*SIN($A159*$E$5:$N$5*$E$6:$N$6+2*PI()*$E$3:$N$3))","v":-0.50679976483043709}]
[0.99274327853437871,{"$f":"SIN($A160+2*PI()*$F$2)+$E$2*SUM($E$4:$N$4*SIN($A160*$E$5:$N$5*$E$6:$N$6+2*PI()*$E$3:$N$3))","v":-0.25517479661267251}]
[0.99902646384155835,{"$f":"SIN($A161+2*PI()*$F$2)+$E$2*SUM($E$4:$N$4*SIN($A161*$E$5:$N$5*$E$6:$N$6+2*PI()*$E$3:$N$3))","v":-5.5911135615159646E-2}]
[1.0053096491487379,{"$f":"SIN($A162+2*PI()*$F$2)+$E$2*SUM($E$4:$N$4*SIN($A162*$E$5:$N$5*$E$6:$N$6+2*PI()*$E$3:$N$3))","v":-2.1463608486105595E-2}]
[1.0115928344559175,{"$f":"SIN($A163+2*PI()*$F$2)+$E$2*SUM($E$4:$N$4*SIN($A163*$E$5:$N$5*$E$6:$N$6+2*PI()*$E$3:$N$3))","v":-0.15155754118481971}]
[1.0178760197630972,{"$f":"SIN($A164+2*PI()*$F$2)+$E$2*SUM($E$4:$N$4*SIN($A164*$E$5:$N$5*$E$6:$N$6+2*PI()*$E$3:$N$3))","v":-0.66005441168112777}]
[1.0241592050702768,{"$f":"SIN($A165+2*PI()*$F$2)+$E$2*SUM($E$4:$N$4*SIN($A165*$E$5:$N$5*$E$6:$N$6+2*PI()*$E$3:$N$3))","v":-0.91495669496615306}]
[1.0304423903774564,{"$f":"SIN($A166+2*PI()*$F$2)+$E$2*SUM($E$4:$N$4*SIN($A166*$E$5:$N$5*$E$6:$N$6+2*PI()*$E$3:$N$3))","v":-0.6751999645599962}]
[{"$f":"2*PI()/1000+A166","v":1.0367255756846361},{"$f":"SIN($A167+2*PI()*$F$2)+$E$2*SUM($E$4:$N$4*SIN($A167*$E$5:$N$5*$E$6:$N$6+2*PI()*$E$3:$N$3))","v":-0.53030946305994708}]
[1.0430087609918157,{"$f":"SIN($A168+2*PI()*$F$2)+$E$2*SUM($E$4:$N$4*SIN($A168*$E$5:$N$5*$E$6:$N$6+2*PI()*$E$3:$N$3))","v":-0.43165378378604669}]
[1.0492919462989954,{"$f":"SIN($A169+2*PI()*$F$2)+$E$2*SUM($E$4:$N$4*SIN($A169*$E$5:$N$5*$E$6:$N$6+2*PI()*$E$3:$N$3))","v":-0.41564078051459613}]
[1.055575131606175,{"$f":"SIN($A170+2*PI()*$F$2)+$E$2*SUM($E$4:$N$4*SIN($A170*$E$5:$N$5*$E$6:$N$6+2*PI()*$E$3:$N$3))","v":-0.69815006697163451}]
[1.0618583169133546,{"$f":"SIN($A171+2*PI()*$F$2)+$E$2*SUM($E$4:$N$4*SIN($A171*$E$5:$N$5*$E$6:$N$6+2*PI()*$E$3:$N$3))","v":-0.81361882883002523}]
[1.0681415022205343,{"$f":"SIN($A172+2*PI()*$F$2)+$E$2*SUM($E$4:$N$4*SIN($A172*$E$5:$N$5*$E$6:$N$6+2*PI()*$E$3:$N$3))","v":-0.82145144458957553}]
[1.0744246875277139,{"$f":"SIN($A173+2*PI()*$F$2)+$E$2*SUM($E$4:$N$4*SIN($A173*$E$5:$N$5*$E$6:$N$6+2*PI()*$E$3:$N$3))","v":-0.97944503309950914}]
[1.0807078728348936,{"$f":"SIN($A174+2*PI()*$F$2)+$E$2*SUM($E$4:$N$4*SIN($A174*$E$5:$N$5*$E$6:$N$6+2*PI()*$E$3:$N$3))","v":-0.79718440577911143}]
[1.0869910581420732,{"$f":"SIN($A175+2*PI()*$F$2)+$E$2*SUM($E$4:$N$4*SIN($A175*$E$5:$N$5*$E$6:$N$6+2*PI()*$E$3:$N$3))","v":-0.43881325252153991}]
[1.0932742434492528,{"$f":"SIN($A176+2*PI()*$F$2)+$E$2*SUM($E$4:$N$4*SIN($A176*$E$5:$N$5*$E$6:$N$6+2*PI()*$E$3:$N$3))","v":-0.36109705025210054}]
[1.0995574287564325,{"$f":"SIN($A177+2*PI()*$F$2)+$E$2*SUM($E$4:$N$4*SIN($A177*$E$5:$N$5*$E$6:$N$6+2*PI()*$E$3:$N$3))","v":-0.38015931590272961}]
[1.1058406140636121,{"$f":"SIN($A178+2*PI()*$F$2)+$E$2*SUM($E$4:$N$4*SIN($A178*$E$5:$N$5*$E$6:$N$6+2*PI()*$E$3:$N$3))","v":-0.63923198960453398}]
[1.1121237993707918,{"$f":"SIN($A179+2*PI()*$F$2)+$E$2*SUM($E$4:$N$4*SIN($A179*$E$5:$N$5*$E$6:$N$6+2*PI()*$E$3:$N$3))","v":-0.9532751766498766}]
[1.1184069846779714,{"$f":"SIN($A180+2*PI()*$F$2)+$E$2*SUM($E$4:$N$4*SIN($A180*$E$5:$N$5*$E$6:$N$6+2*PI()*$E$3:$N$3))","v":-0.69216466779773478}]
[1.124690169985151,{"$f":"SIN($A181+2*PI()*$F$2)+$E$2*SUM($E$4:$N$4*SIN($A181*$E$5:$N$5*$E$6:$N$6+2*PI()*$E$3:$N$3))","v":-0.28240489062359497}]
[1.1309733552923307,{"$f":"SIN($A182+2*PI()*$F$2)+$E$2*SUM($E$4:$N$4*SIN($A182*$E$5:$N$5*$E$6:$N$6+2*PI()*$E$3:$N$3))","v":-0.13843279443314066}]
[1.1372565405995103,{"$f":"SIN($A183+2*PI()*$F$2)+$E$2*SUM($E$4:$N$4*SIN($A183*$E$5:$N$5*$E$6:$N$6+2*PI()*$E$3:$N$3))","v":-4.4844931783897292E-2}]
[1.14353972590669,{"$f":"SIN($A184+2*PI()*$F$2)+$E$2*SUM($E$4:$N$4*SIN($A184*$E$5:$N$5*$E$6:$N$6+2*PI()*$E$3:$N$3))","v":-0.20588973669591998}]
[1.1498229112138696,{"$f":"SIN($A185+2*PI()*$F$2)+$E$2*SUM($E$4:$N$4*SIN($A185*$E$5:$N$5*$E$6:$N$6+2*PI()*$E$3:$N$3))","v":-0.4166191241965207}]
[1.1561060965210492,{"$f":"SIN($A186+2*PI()*$F$2)+$E$2*SUM($E$4:$N$4*SIN($A186*$E$5:$N$5*$E$6:$N$6+2*PI()*$E$3:$N$3))","v":-0.2973633355049336}]
[1.1623892818282289,{"$f":"SIN($A187+2*PI()*$F$2)+$E$2*SUM($E$4:$N$4*SIN($A187*$E$5:$N$5*$E$6:$N$6+2*PI()*$E$3:$N$3))","v":-0.27248191668777011}]
[1.1686724671354085,{"$f":"SIN($A188+2*PI()*$F$2)+$E$2*SUM($E$4:$N$4*SIN($A188*$E$5:$N$5*$E$6:$N$6+2*PI()*$E$3:$N$3))","v":-0.24585195750604993}]
[1.1749556524425881,{"$f":"SIN($A189+2*PI()*$F$2)+$E$2*SUM($E$4:$N$4*SIN($A189*$E$5:$N$5*$E$6:$N$6+2*PI()*$E$3:$N$3))","v":7.8837619929803093E-2}]
[1.1812388377497678,{"$f":"SIN($A190+2*PI()*$F$2)+$E$2*SUM($E$4:$N$4*SIN($A190*$E$5:$N$5*$E$6:$N$6+2*PI()*$E$3:$N$3))","v":0.19127597749550271}]
[1.1875220230569474,{"$f":"SIN($A191+2*PI()*$F$2)+$E$2*SUM($E$4:$N$4*SIN($A191*$E$5:$N$5*$E$6:$N$6+2*PI()*$E$3:$N$3))","v":7.07004200256518E-2}]
[1.1938052083641271,{"$f":"SIN($A192+2*PI()*$F$2)+$E$2*SUM($E$4:$N$4*SIN($A192*$E$5:$N$5*$E$6:$N$6+2*PI()*$E$3:$N$3))","v":-8.9031259038513763E-2}]
[1.2000883936713067,{"$f":"SIN($A193+2*PI()*$F$2)+$E$2*SUM($E$4:$N$4*SIN($A193*$E$5:$N$5*$E$6:$N$6+2*PI()*$E$3:$N$3))","v":-0.42807422819925306}]
[1.2063715789784863,{"$f":"SIN($A194+2*PI()*$F$2)+$E$2*SUM($E$4:$N$4*SIN($A194*$E$5:$N$5*$E$6:$N$6+2*PI()*$E$3:$N$3))","v":-0.4211921309754379}]
[1.212654764285666,{"$f":"SIN($A195+2*PI()*$F$2)+$E$2*SUM($E$4:$N$4*SIN($A195*$E$5:$N$5*$E$6:$N$6+2*PI()*$E$3:$N$3))","v":2.6810270216474783E-2}]
[1.2189379495928456,{"$f":"SIN($A196+2*PI()*$F$2)+$E$2*SUM($E$4:$N$4*SIN($A196*$E$5:$N$5*$E$6:$N$6+2*PI()*$E$3:$N$3))","v":0.18995788459567797}]
[1.2252211349000253,{"$f":"SIN($A197+2*PI()*$F$2)+$E$2*SUM($E$4:$N$4*SIN($A197*$E$5:$N$5*$E$6:$N$6+2*PI()*$E$3:$N$3))","v":0.11884892036029177}]
[1.2315043202072049,{"$f":"SIN($A198+2*PI()*$F$2)+$E$2*SUM($E$4:$N$4*SIN($A198*$E$5:$N$5*$E$6:$N$6+2*PI()*$E$3:$N$3))","v":-4.622150969473534E-2}]
[1.2377875055143845,{"$f":"SIN($A199+2*PI()*$F$2)+$E$2*SUM($E$4:$N$4*SIN($A199*$E$5:$N$5*$E$6:$N$6+2*PI()*$E$3:$N$3))","v":-0.38852565132568539}]
[1.2440706908215642,{"$f":"SIN($A200+2*PI()*$F$2)+$E$2*SUM($E$4:$N$4*SIN($A200*$E$5:$N$5*$E$6:$N$6+2*PI()*$E$3:$N$3))","v":-0.41182759679188258}]
[1.2503538761287438,{"$f":"SIN($A201+2*PI()*$F$2)+$E$2*SUM($E$4:$N$4*SIN($A201*$E$5:$N$5*$E$6:$N$6+2*PI()*$E$3:$N$3))","v":-0.22290206834437282}]
[1.2566370614359235,{"$f":"SIN($A202+2*PI()*$F$2)+$E$2*SUM($E$4:$N$4*SIN($A202*$E$5:$N$5*$E$6:$N$6+2*PI()*$E$3:$N$3))","v":-0.24359226236207987}]
[1.2629202467431031,{"$f":"SIN($A203+2*PI()*$F$2)+$E$2*SUM($E$4:$N$4*SIN($A203*$E$5:$N$5*$E$6:$N$6+2*PI()*$E$3:$N$3))","v":-0.10183135200585705}]
[1.2692034320502827,{"$f":"SIN($A204+2*PI()*$F$2)+$E$2*SUM($E$4:$N$4*SIN($A204*$E$5:$N$5*$E$6:$N$6+2*PI()*$E$3:$N$3))","v":6.748508246258747E-2}]
[1.2754866173574624,{"$f":"SIN($A205+2*PI()*$F$2)+$E$2*SUM($E$4:$N$4*SIN($A205*$E$5:$N$5*$E$6:$N$6+2*PI()*$E$3:$N$3))","v":-0.10193314832785043}]
[1.281769802664642,{"$f":"SIN($A206+2*PI()*$F$2)+$E$2*SUM($E$4:$N$4*SIN($A206*$E$5:$N$5*$E$6:$N$6+2*PI()*$E$3:$N$3))","v":-0.26964315996706067}]
[1.2880529879718217,{"$f":"SIN($A207+2*PI()*$F$2)+$E$2*SUM($E$4:$N$4*SIN($A207*$E$5:$N$5*$E$6:$N$6+2*PI()*$E$3:$N$3))","v":-0.4705537059953725}]
[1.2943361732790013,{"$f":"SIN($A208+2*PI()*$F$2)+$E$2*SUM($E$4:$N$4*SIN($A208*$E$5:$N$5*$E$6:$N$6+2*PI()*$E$3:$N$3))","v":-0.61809186746930544}]
[1.3006193585861809,{"$f":"SIN($A209+2*PI()*$F$2)+$E$2*SUM($E$4:$N$4*SIN($A209*$E$5:$N$5*$E$6:$N$6+2*PI()*$E$3:$N$3))","v":-0.24830032694764309}]
[1.3069025438933606,{"$f":"SIN($A210+2*PI()*$F$2)+$E$2*SUM($E$4:$N$4*SIN($A210*$E$5:$N$5*$E$6:$N$6+2*PI()*$E$3:$N$3))","v":0.10216072777614793}]
[1.3131857292005402,{"$f":"SIN($A211+2*PI()*$F$2)+$E$2*SUM($E$4:$N$4*SIN($A211*$E$5:$N$5*$E$6:$N$6+2*PI()*$E$3:$N$3))","v":2.2149618603345411E-3}]
[1.3194689145077199,{"$f":"SIN($A212+2*PI()*$F$2)+$E$2*SUM($E$4:$N$4*SIN($A212*$E$5:$N$5*$E$6:$N$6+2*PI()*$E$3:$N$3))","v":-0.17258966948095603}]
[1.3257520998148995,{"$f":"SIN($A213+2*PI()*$F$2)+$E$2*SUM($E$4:$N$4*SIN($A213*$E$5:$N$5*$E$6:$N$6+2*PI()*$E$3:$N$3))","v":-0.44888159272538719}]
[1.3320352851220791,{"$f":"SIN($A214+2*PI()*$F$2)+$E$2*SUM($E$4:$N$4*SIN($A214*$E$5:$N$5*$E$6:$N$6+2*PI()*$E$3:$N$3))","v":-0.60613923156153637}]
[1.3383184704292588,{"$f":"SIN($A215+2*PI()*$F$2)+$E$2*SUM($E$4:$N$4*SIN($A215*$E$5:$N$5*$E$6:$N$6+2*PI()*$E$3:$N$3))","v":-0.33469125728827187}]
[1.3446016557364384,{"$f":"SIN($A216+2*PI()*$F$2)+$E$2*SUM($E$4:$N$4*SIN($A216*$E$5:$N$5*$E$6:$N$6+2*PI()*$E$3:$N$3))","v":-0.19413164489145307}]
[1.3508848410436181,{"$f":"SIN($A217+2*PI()*$F$2)+$E$2*SUM($E$4:$N$4*SIN($A217*$E$5:$N$5*$E$6:$N$6+2*PI()*$E$3:$N$3))","v":-0.2233715019323825}]
[1.3571680263507977,{"$f":"SIN($A218+2*PI()*$F$2)+$E$2*SUM($E$4:$N$4*SIN($A218*$E$5:$N$5*$E$6:$N$6+2*PI()*$E$3:$N$3))","v":-9.5279280621343526E-2}]
[1.3634512116579773,{"$f":"SIN($A219+2*PI()*$F$2)+$E$2*SUM($E$4:$N$4*SIN($A219*$E$5:$N$5*$E$6:$N$6+2*PI()*$E$3:$N$3))","v":-0.19934591908704444}]
[1.369734396965157,{"$f":"SIN($A220+2*PI()*$F$2)+$E$2*SUM($E$4:$N$4*SIN($A220*$E$5:$N$5*$E$6:$N$6+2*PI()*$E$3:$N$3))","v":-0.43931680420927}]
[1.3760175822723366,{"$f":"SIN($A221+2*PI()*$F$2)+$E$2*SUM($E$4:$N$4*SIN($A221*$E$5:$N$5*$E$6:$N$6+2*PI()*$E$3:$N$3))","v":-0.5197058418153192}]
[1.3823007675795163,{"$f":"SIN($A222+2*PI()*$F$2)+$E$2*SUM($E$4:$N$4*SIN($A222*$E$5:$N$5*$E$6:$N$6+2*PI()*$E$3:$N$3))","v":-0.64354435129305854}]
[1.3885839528866959,{"$f":"SIN($A223+2*PI()*$F$2)+$E$2*SUM($E$4:$N$4*SIN($A223*$E$5:$N$5*$E$6:$N$6+2*PI()*$E$3:$N$3))","v":-0.47530994489098755}]
[1.3948671381938755,{"$f":"SIN($A224+2*PI()*$F$2)+$E$2*SUM($E$4:$N$4*SIN($A224*$E$5:$N$5*$E$6:$N$6+2*PI()*$E$3:$N$3))","v":-2.6954663050103078E-2}]
[1.4011503235010552,{"$f":"SIN($A225+2*PI()*$F$2)+$E$2*SUM($E$4:$N$4*SIN($A225*$E$5:$N$5*$E$6:$N$6+2*PI()*$E$3:$N$3))","v":-2.6973975449818249E-2}]
[1.4074335088082348,{"$f":"SIN($A226+2*PI()*$F$2)+$E$2*SUM($E$4:$N$4*SIN($A226*$E$5:$N$5*$E$6:$N$6+2*PI()*$E$3:$N$3))","v":-0.3010613086905265}]
[1.4137166941154145,{"$f":"SIN($A227+2*PI()*$F$2)+$E$2*SUM($E$4:$N$4*SIN($A227*$E$5:$N$5*$E$6:$N$6+2*PI()*$E$3:$N$3))","v":-0.51012877284743796}]
[1.4199998794225941,{"$f":"SIN($A228+2*PI()*$F$2)+$E$2*SUM($E$4:$N$4*SIN($A228*$E$5:$N$5*$E$6:$N$6+2*PI()*$E$3:$N$3))","v":-0.6974642898443747}]
[1.4262830647297737,{"$f":"SIN($A229+2*PI()*$F$2)+$E$2*SUM($E$4:$N$4*SIN($A229*$E$5:$N$5*$E$6:$N$6+2*PI()*$E$3:$N$3))","v":-0.4783732787611823}]
[1.4325662500369534,{"$f":"SIN($A230+2*PI()*$F$2)+$E$2*SUM($E$4:$N$4*SIN($A230*$E$5:$N$5*$E$6:$N$6+2*PI()*$E$3:$N$3))","v":-8.7052924084445954E-2}]
[{"$f":"2*PI()/1000+A230","v":1.438849435344133},{"$f":"SIN($A231+2*PI()*$F$2)+$E$2*SUM($E$4:$N$4*SIN($A231*$E$5:$N$5*$E$6:$N$6+2*PI()*$E$3:$N$3))","v":-6.9235515030603434E-2}]
[1.4451326206513126,{"$f":"SIN($A232+2*PI()*$F$2)+$E$2*SUM($E$4:$N$4*SIN($A232*$E$5:$N$5*$E$6:$N$6+2*PI()*$E$3:$N$3))","v":-4.6918268303024702E-2}]
[1.4514158059584923,{"$f":"SIN($A233+2*PI()*$F$2)+$E$2*SUM($E$4:$N$4*SIN($A233*$E$5:$N$5*$E$6:$N$6+2*PI()*$E$3:$N$3))","v":-4.9584596400199521E-3}]
[1.4576989912656719,{"$f":"SIN($A234+2*PI()*$F$2)+$E$2*SUM($E$4:$N$4*SIN($A234*$E$5:$N$5*$E$6:$N$6+2*PI()*$E$3:$N$3))","v":-0.19464069924211375}]
[1.4639821765728516,{"$f":"SIN($A235+2*PI()*$F$2)+$E$2*SUM($E$4:$N$4*SIN($A235*$E$5:$N$5*$E$6:$N$6+2*PI()*$E$3:$N$3))","v":-0.21465329255987387}]
[1.4702653618800312,{"$f":"SIN($A236+2*PI()*$F$2)+$E$2*SUM($E$4:$N$4*SIN($A236*$E$5:$N$5*$E$6:$N$6+2*PI()*$E$3:$N$3))","v":-0.13182982954373146}]
[1.4765485471872108,{"$f":"SIN($A237+2*PI()*$F$2)+$E$2*SUM($E$4:$N$4*SIN($A237*$E$5:$N$5*$E$6:$N$6+2*PI()*$E$3:$N$3))","v":-4.1714935671853082E-2}]
[1.4828317324943905,{"$f":"SIN($A238+2*PI()*$F$2)+$E$2*SUM($E$4:$N$4*SIN($A238*$E$5:$N$5*$E$6:$N$6+2*PI()*$E$3:$N$3))","v":0.38620150391306435}]
[1.4891149178015701,{"$f":"SIN($A239+2*PI()*$F$2)+$E$2*SUM($E$4:$N$4*SIN($A239*$E$5:$N$5*$E$6:$N$6+2*PI()*$E$3:$N$3))","v":0.63480962718147271}]
[1.4953981031087498,{"$f":"SIN($A240+2*PI()*$F$2)+$E$2*SUM($E$4:$N$4*SIN($A240*$E$5:$N$5*$E$6:$N$6+2*PI()*$E$3:$N$3))","v":0.37925440929185772}]
[1.5016812884159294,{"$f":"SIN($A241+2*PI()*$F$2)+$E$2*SUM($E$4:$N$4*SIN($A241*$E$5:$N$5*$E$6:$N$6+2*PI()*$E$3:$N$3))","v":0.17455249978326567}]
[1.507964473723109,{"$f":"SIN($A242+2*PI()*$F$2)+$E$2*SUM($E$4:$N$4*SIN($A242*$E$5:$N$5*$E$6:$N$6+2*PI()*$E$3:$N$3))","v":7.7417756492958262E-2}]
[1.5142476590302887,{"$f":"SIN($A243+2*PI()*$F$2)+$E$2*SUM($E$4:$N$4*SIN($A243*$E$5:$N$5*$E$6:$N$6+2*PI()*$E$3:$N$3))","v":0.18195418194940063}]
[1.5205308443374683,{"$f":"SIN($A244+2*PI()*$F$2)+$E$2*SUM($E$4:$N$4*SIN($A244*$E$5:$N$5*$E$6:$N$6+2*PI()*$E$3:$N$3))","v":0.64375165994663042}]
[1.526814029644648,{"$f":"SIN($A245+2*PI()*$F$2)+$E$2*SUM($E$4:$N$4*SIN($A245*$E$5:$N$5*$E$6:$N$6+2*PI()*$E$3:$N$3))","v":0.80818819126621055}]
[1.5330972149518276,{"$f":"SIN($A246+2*PI()*$F$2)+$E$2*SUM($E$4:$N$4*SIN($A246*$E$5:$N$5*$E$6:$N$6+2*PI()*$E$3:$N$3))","v":0.62794622347678941}]
[1.5393804002590072,{"$f":"SIN($A247+2*PI()*$F$2)+$E$2*SUM($E$4:$N$4*SIN($A247*$E$5:$N$5*$E$6:$N$6+2*PI()*$E$3:$N$3))","v":0.57896604821013165}]
[1.5456635855661869,{"$f":"SIN($A248+2*PI()*$F$2)+$E$2*SUM($E$4:$N$4*SIN($A248*$E$5:$N$5*$E$6:$N$6+2*PI()*$E$3:$N$3))","v":0.41788723240019787}]
[1.5519467708733665,{"$f":"SIN($A249+2*PI()*$F$2)+$E$2*SUM($E$4:$N$4*SIN($A249*$E$5:$N$5*$E$6:$N$6+2*PI()*$E$3:$N$3))","v":0.26510968262240231}]
[1.5582299561805462,{"$f":"SIN($A250+2*PI()*$F$2)+$E$2*SUM($E$4:$N$4*SIN($A250*$E$5:$N$5*$E$6:$N$6+2*PI()*$E$3:$N$3))","v":0.37712083318795464}]
[1.5645131414877258,{"$f":"SIN($A251+2*PI()*$F$2)+$E$2*SUM($E$4:$N$4*SIN($A251*$E$5:$N$5*$E$6:$N$6+2*PI()*$E$3:$N$3))","v":0.40796069041193478}]
[1.5707963267949054,{"$f":"SIN($A252+2*PI()*$F$2)+$E$2*SUM($E$4:$N$4*SIN($A252*$E$5:$N$5*$E$6:$N$6+2*PI()*$E$3:$N$3))","v":0.53866039710714053}]
[1.5770795121020851,{"$f":"SIN($A253+2*PI()*$F$2)+$E$2*SUM($E$4:$N$4*SIN($A253*$E$5:$N$5*$E$6:$N$6+2*PI()*$E$3:$N$3))","v":0.77854796014145622}]
[1.5833626974092647,{"$f":"SIN($A254+2*PI()*$F$2)+$E$2*SUM($E$4:$N$4*SIN($A254*$E$5:$N$5*$E$6:$N$6+2*PI()*$E$3:$N$3))","v":0.52423130869300649}]
[1.5896458827164444,{"$f":"SIN($A255+2*PI()*$F$2)+$E$2*SUM($E$4:$N$4*SIN($A255*$E$5:$N$5*$E$6:$N$6+2*PI()*$E$3:$N$3))","v":9.7778393832237687E-2}]
[1.595929068023624,{"$f":"SIN($A256+2*PI()*$F$2)+$E$2*SUM($E$4:$N$4*SIN($A256*$E$5:$N$5*$E$6:$N$6+2*PI()*$E$3:$N$3))","v":-5.6226352113883604E-2}]
[1.6022122533308036,{"$f":"SIN($A257+2*PI()*$F$2)+$E$2*SUM($E$4:$N$4*SIN($A257*$E$5:$N$5*$E$6:$N$6+2*PI()*$E$3:$N$3))","v":-7.8609522194630799E-2}]
[1.6084954386379833,{"$f":"SIN($A258+2*PI()*$F$2)+$E$2*SUM($E$4:$N$4*SIN($A258*$E$5:$N$5*$E$6:$N$6+2*PI()*$E$3:$N$3))","v":0.22184084393037479}]
[1.6147786239451629,{"$f":"SIN($A259+2*PI()*$F$2)+$E$2*SUM($E$4:$N$4*SIN($A259*$E$5:$N$5*$E$6:$N$6+2*PI()*$E$3:$N$3))","v":0.52466976986406333}]
[1.6210618092523426,{"$f":"SIN($A260+2*PI()*$F$2)+$E$2*SUM($E$4:$N$4*SIN($A260*$E$5:$N$5*$E$6:$N$6+2*PI()*$E$3:$N$3))","v":0.29364308355519747}]
[1.6273449945595222,{"$f":"SIN($A261+2*PI()*$F$2)+$E$2*SUM($E$4:$N$4*SIN($A261*$E$5:$N$5*$E$6:$N$6+2*PI()*$E$3:$N$3))","v":3.3983749140808928E-2}]
[1.6336281798667018,{"$f":"SIN($A262+2*PI()*$F$2)+$E$2*SUM($E$4:$N$4*SIN($A262*$E$5:$N$5*$E$6:$N$6+2*PI()*$E$3:$N$3))","v":-6.3055900037586599E-2}]
[1.6399113651738815,{"$f":"SIN($A263+2*PI()*$F$2)+$E$2*SUM($E$4:$N$4*SIN($A263*$E$5:$N$5*$E$6:$N$6+2*PI()*$E$3:$N$3))","v":-0.22140631400956662}]
[1.6461945504810611,{"$f":"SIN($A264+2*PI()*$F$2)+$E$2*SUM($E$4:$N$4*SIN($A264*$E$5:$N$5*$E$6:$N$6+2*PI()*$E$3:$N$3))","v":-0.11751826248491987}]
[1.6524777357882408,{"$f":"SIN($A265+2*PI()*$F$2)+$E$2*SUM($E$4:$N$4*SIN($A265*$E$5:$N$5*$E$6:$N$6+2*PI()*$E$3:$N$3))","v":7.1053372469849219E-2}]
[1.6587609210954204,{"$f":"SIN($A266+2*PI()*$F$2)+$E$2*SUM($E$4:$N$4*SIN($A266*$E$5:$N$5*$E$6:$N$6+2*PI()*$E$3:$N$3))","v":0.10607509480982136}]
[1.6650441064026,{"$f":"SIN($A267+2*PI()*$F$2)+$E$2*SUM($E$4:$N$4*SIN($A267*$E$5:$N$5*$E$6:$N$6+2*PI()*$E$3:$N$3))","v":0.31199404326393831}]
[1.6713272917097797,{"$f":"SIN($A268+2*PI()*$F$2)+$E$2*SUM($E$4:$N$4*SIN($A268*$E$5:$N$5*$E$6:$N$6+2*PI()*$E$3:$N$3))","v":0.31886490287797575}]
[1.6776104770169593,{"$f":"SIN($A269+2*PI()*$F$2)+$E$2*SUM($E$4:$N$4*SIN($A269*$E$5:$N$5*$E$6:$N$6+2*PI()*$E$3:$N$3))","v":-6.3164404842465161E-2}]
[1.683893662324139,{"$f":"SIN($A270+2*PI()*$F$2)+$E$2*SUM($E$4:$N$4*SIN($A270*$E$5:$N$5*$E$6:$N$6+2*PI()*$E$3:$N$3))","v":-0.19318043634460907}]
[1.6901768476313186,{"$f":"SIN($A271+2*PI()*$F$2)+$E$2*SUM($E$4:$N$4*SIN($A271*$E$5:$N$5*$E$6:$N$6+2*PI()*$E$3:$N$3))","v":-6.929344750471006E-2}]
[1.6964600329384982,{"$f":"SIN($A272+2*PI()*$F$2)+$E$2*SUM($E$4:$N$4*SIN($A272*$E$5:$N$5*$E$6:$N$6+2*PI()*$E$3:$N$3))","v":0.19506007357662197}]
[1.7027432182456779,{"$f":"SIN($A273+2*PI()*$F$2)+$E$2*SUM($E$4:$N$4*SIN($A273*$E$5:$N$5*$E$6:$N$6+2*PI()*$E$3:$N$3))","v":0.63866994086552742}]
[1.7090264035528575,{"$f":"SIN($A274+2*PI()*$F$2)+$E$2*SUM($E$4:$N$4*SIN($A274*$E$5:$N$5*$E$6:$N$6+2*PI()*$E$3:$N$3))","v":0.64462255015061265}]
[1.7153095888600371,{"$f":"SIN($A275+2*PI()*$F$2)+$E$2*SUM($E$4:$N$4*SIN($A275*$E$5:$N$5*$E$6:$N$6+2*PI()*$E$3:$N$3))","v":0.27970342227719536}]
[1.7215927741672168,{"$f":"SIN($A276+2*PI()*$F$2)+$E$2*SUM($E$4:$N$4*SIN($A276*$E$5:$N$5*$E$6:$N$6+2*PI()*$E$3:$N$3))","v":0.18979045436447967}]
[1.7278759594743964,{"$f":"SIN($A277+2*PI()*$F$2)+$E$2*SUM($E$4:$N$4*SIN($A277*$E$5:$N$5*$E$6:$N$6+2*PI()*$E$3:$N$3))","v":0.18739093196914142}]
[1.7341591447815761,{"$f":"SIN($A278+2*PI()*$F$2)+$E$2*SUM($E$4:$N$4*SIN($A278*$E$5:$N$5*$E$6:$N$6+2*PI()*$E$3:$N$3))","v":0.27735501171577359}]
[1.7404423300887557,{"$f":"SIN($A279+2*PI()*$F$2)+$E$2*SUM($E$4:$N$4*SIN($A279*$E$5:$N$5*$E$6:$N$6+2*PI()*$E$3:$N$3))","v":0.59327684972506345}]
[1.7467255153959353,{"$f":"SIN($A280+2*PI()*$F$2)+$E$2*SUM($E$4:$N$4*SIN($A280*$E$5:$N$5*$E$6:$N$6+2*PI()*$E$3:$N$3))","v":0.68395324657495249}]
[1.753008700703115,{"$f":"SIN($A281+2*PI()*$F$2)+$E$2*SUM($E$4:$N$4*SIN($A281*$E$5:$N$5*$E$6:$N$6+2*PI()*$E$3:$N$3))","v":0.7006888794664925}]
[1.7592918860102946,{"$f":"SIN($A282+2*PI()*$F$2)+$E$2*SUM($E$4:$N$4*SIN($A282*$E$5:$N$5*$E$6:$N$6+2*PI()*$E$3:$N$3))","v":0.79492183859542975}]
[1.7655750713174743,{"$f":"SIN($A283+2*PI()*$F$2)+$E$2*SUM($E$4:$N$4*SIN($A283*$E$5:$N$5*$E$6:$N$6+2*PI()*$E$3:$N$3))","v":0.51584982163219306}]
[1.7718582566246539,{"$f":"SIN($A284+2*PI()*$F$2)+$E$2*SUM($E$4:$N$4*SIN($A284*$E$5:$N$5*$E$6:$N$6+2*PI()*$E$3:$N$3))","v":0.23818506523916866}]
[1.7781414419318335,{"$f":"SIN($A285+2*PI()*$F$2)+$E$2*SUM($E$4:$N$4*SIN($A285*$E$5:$N$5*$E$6:$N$6+2*PI()*$E$3:$N$3))","v":0.3678676972267535}]
[1.7844246272390132,{"$f":"SIN($A286+2*PI()*$F$2)+$E$2*SUM($E$4:$N$4*SIN($A286*$E$5:$N$5*$E$6:$N$6+2*PI()*$E$3:$N$3))","v":0.58296803784140827}]
[1.7907078125461928,{"$f":"SIN($A287+2*PI()*$F$2)+$E$2*SUM($E$4:$N$4*SIN($A287*$E$5:$N$5*$E$6:$N$6+2*PI()*$E$3:$N$3))","v":0.91464194727593751}]
[1.7969909978533725,{"$f":"SIN($A288+2*PI()*$F$2)+$E$2*SUM($E$4:$N$4*SIN($A288*$E$5:$N$5*$E$6:$N$6+2*PI()*$E$3:$N$3))","v":1.0841621449859584}]
[1.8032741831605521,{"$f":"SIN($A289+2*PI()*$F$2)+$E$2*SUM($E$4:$N$4*SIN($A289*$E$5:$N$5*$E$6:$N$6+2*PI()*$E$3:$N$3))","v":0.68873333531890324}]
[1.8095573684677317,{"$f":"SIN($A290+2*PI()*$F$2)+$E$2*SUM($E$4:$N$4*SIN($A290*$E$5:$N$5*$E$6:$N$6+2*PI()*$E$3:$N$3))","v":0.38037232290749934}]
[1.8158405537749114,{"$f":"SIN($A291+2*PI()*$F$2)+$E$2*SUM($E$4:$N$4*SIN($A291*$E$5:$N$5*$E$6:$N$6+2*PI()*$E$3:$N$3))","v":0.43193940748276272}]
[1.822123739082091,{"$f":"SIN($A292+2*PI()*$F$2)+$E$2*SUM($E$4:$N$4*SIN($A292*$E$5:$N$5*$E$6:$N$6+2*PI()*$E$3:$N$3))","v":0.50792866277160509}]
[1.8284069243892707,{"$f":"SIN($A293+2*PI()*$F$2)+$E$2*SUM($E$4:$N$4*SIN($A293*$E$5:$N$5*$E$6:$N$6+2*PI()*$E$3:$N$3))","v":0.76875251473279382}]
[1.8346901096964503,{"$f":"SIN($A294+2*PI()*$F$2)+$E$2*SUM($E$4:$N$4*SIN($A294*$E$5:$N$5*$E$6:$N$6+2*PI()*$E$3:$N$3))","v":0.96216811040720207}]
[{"$f":"2*PI()/1000+A294","v":1.8409732950036299},{"$f":"SIN($A295+2*PI()*$F$2)+$E$2*SUM($E$4:$N$4*SIN($A295*$E$5:$N$5*$E$6:$N$6+2*PI()*$E$3:$N$3))","v":0.8345785865787273}]
[1.8472564803108096,{"$f":"SIN($A296+2*PI()*$F$2)+$E$2*SUM($E$4:$N$4*SIN($A296*$E$5:$N$5*$E$6:$N$6+2*PI()*$E$3:$N$3))","v":0.82375329150345422}]
[1.8535396656179892,{"$f":"SIN($A297+2*PI()*$F$2)+$E$2*SUM($E$4:$N$4*SIN($A297*$E$5:$N$5*$E$6:$N$6+2*PI()*$E$3:$N$3))","v":0.73437240915536139}]
[1.8598228509251689,{"$f":"SIN($A298+2*PI()*$F$2)+$E$2*SUM($E$4:$N$4*SIN($A298*$E$5:$N$5*$E$6:$N$6+2*PI()*$E$3:$N$3))","v":0.42188015872023948}]
[1.8661060362323485,{"$f":"SIN($A299+2*PI()*$F$2)+$E$2*SUM($E$4:$N$4*SIN($A299*$E$5:$N$5*$E$6:$N$6+2*PI()*$E$3:$N$3))","v":0.46990783730807228}]
[1.8723892215395281,{"$f":"SIN($A300+2*PI()*$F$2)+$E$2*SUM($E$4:$N$4*SIN($A300*$E$5:$N$5*$E$6:$N$6+2*PI()*$E$3:$N$3))","v":0.74294225138531744}]
[1.8786724068467078,{"$f":"SIN($A301+2*PI()*$F$2)+$E$2*SUM($E$4:$N$4*SIN($A301*$E$5:$N$5*$E$6:$N$6+2*PI()*$E$3:$N$3))","v":0.95730233555915389}]
[1.8849555921538874,{"$f":"SIN($A302+2*PI()*$F$2)+$E$2*SUM($E$4:$N$4*SIN($A302*$E$5:$N$5*$E$6:$N$6+2*PI()*$E$3:$N$3))","v":1.1633062547063071}]
[1.8912387774610671,{"$f":"SIN($A303+2*PI()*$F$2)+$E$2*SUM($E$4:$N$4*SIN($A303*$E$5:$N$5*$E$6:$N$6+2*PI()*$E$3:$N$3))","v":0.9096681372093649}]
[1.8975219627682467,{"$f":"SIN($A304+2*PI()*$F$2)+$E$2*SUM($E$4:$N$4*SIN($A304*$E$5:$N$5*$E$6:$N$6+2*PI()*$E$3:$N$3))","v":0.40335570350469524}]
[1.9038051480754263,{"$f":"SIN($A305+2*PI()*$F$2)+$E$2*SUM($E$4:$N$4*SIN($A305*$E$5:$N$5*$E$6:$N$6+2*PI()*$E$3:$N$3))","v":0.36613307974311854}]
[1.910088333382606,{"$f":"SIN($A306+2*PI()*$F$2)+$E$2*SUM($E$4:$N$4*SIN($A306*$E$5:$N$5*$E$6:$N$6+2*PI()*$E$3:$N$3))","v":0.53018199376827146}]
[1.9163715186897856,{"$f":"SIN($A307+2*PI()*$F$2)+$E$2*SUM($E$4:$N$4*SIN($A307*$E$5:$N$5*$E$6:$N$6+2*PI()*$E$3:$N$3))","v":0.70446923537971973}]
[1.9226547039969653,{"$f":"SIN($A308+2*PI()*$F$2)+$E$2*SUM($E$4:$N$4*SIN($A308*$E$5:$N$5*$E$6:$N$6+2*PI()*$E$3:$N$3))","v":0.93701434085858659}]
[1.9289378893041449,{"$f":"SIN($A309+2*PI()*$F$2)+$E$2*SUM($E$4:$N$4*SIN($A309*$E$5:$N$5*$E$6:$N$6+2*PI()*$E$3:$N$3))","v":0.80338356362261509}]
[1.9352210746113245,{"$f":"SIN($A310+2*PI()*$F$2)+$E$2*SUM($E$4:$N$4*SIN($A310*$E$5:$N$5*$E$6:$N$6+2*PI()*$E$3:$N$3))","v":0.54882082151841916}]
[1.9415042599185042,{"$f":"SIN($A311+2*PI()*$F$2)+$E$2*SUM($E$4:$N$4*SIN($A311*$E$5:$N$5*$E$6:$N$6+2*PI()*$E$3:$N$3))","v":0.49403534514404046}]
[1.9477874452256838,{"$f":"SIN($A312+2*PI()*$F$2)+$E$2*SUM($E$4:$N$4*SIN($A312*$E$5:$N$5*$E$6:$N$6+2*PI()*$E$3:$N$3))","v":0.25557009326206581}]
[1.9540706305328635,{"$f":"SIN($A313+2*PI()*$F$2)+$E$2*SUM($E$4:$N$4*SIN($A313*$E$5:$N$5*$E$6:$N$6+2*PI()*$E$3:$N$3))","v":0.12151874293597698}]
[1.9603538158400431,{"$f":"SIN($A314+2*PI()*$F$2)+$E$2*SUM($E$4:$N$4*SIN($A314*$E$5:$N$5*$E$6:$N$6+2*PI()*$E$3:$N$3))","v":0.37534778816034503}]
[1.9666370011472227,{"$f":"SIN($A315+2*PI()*$F$2)+$E$2*SUM($E$4:$N$4*SIN($A315*$E$5:$N$5*$E$6:$N$6+2*PI()*$E$3:$N$3))","v":0.55333091109601884}]
[1.9729201864544024,{"$f":"SIN($A316+2*PI()*$F$2)+$E$2*SUM($E$4:$N$4*SIN($A316*$E$5:$N$5*$E$6:$N$6+2*PI()*$E$3:$N$3))","v":0.65570958528273182}]
[1.979203371761582,{"$f":"SIN($A317+2*PI()*$F$2)+$E$2*SUM($E$4:$N$4*SIN($A317*$E$5:$N$5*$E$6:$N$6+2*PI()*$E$3:$N$3))","v":0.57247214603513363}]
[1.9854865570687616,{"$f":"SIN($A318+2*PI()*$F$2)+$E$2*SUM($E$4:$N$4*SIN($A318*$E$5:$N$5*$E$6:$N$6+2*PI()*$E$3:$N$3))","v":6.4531865757844198E-2}]
[1.9917697423759413,{"$f":"SIN($A319+2*PI()*$F$2)+$E$2*SUM($E$4:$N$4*SIN($A319*$E$5:$N$5*$E$6:$N$6+2*PI()*$E$3:$N$3))","v":-0.16305865418833188}]
[1.9980529276831209,{"$f":"SIN($A320+2*PI()*$F$2)+$E$2*SUM($E$4:$N$4*SIN($A320*$E$5:$N$5*$E$6:$N$6+2*PI()*$E$3:$N$3))","v":0.10419559702377135}]
[2.0043361129903006,{"$f":"SIN($A321+2*PI()*$F$2)+$E$2*SUM($E$4:$N$4*SIN($A321*$E$5:$N$5*$E$6:$N$6+2*PI()*$E$3:$N$3))","v":0.3394622503953561}]
[2.0106192982974802,{"$f":"SIN($A322+2*PI()*$F$2)+$E$2*SUM($E$4:$N$4*SIN($A322*$E$5:$N$5*$E$6:$N$6+2*PI()*$E$3:$N$3))","v":0.57542672192854338}]
[2.0169024836046598,{"$f":"SIN($A323+2*PI()*$F$2)+$E$2*SUM($E$4:$N$4*SIN($A323*$E$5:$N$5*$E$6:$N$6+2*PI()*$E$3:$N$3))","v":0.61415420792822917}]
[2.0231856689118395,{"$f":"SIN($A324+2*PI()*$F$2)+$E$2*SUM($E$4:$N$4*SIN($A324*$E$5:$N$5*$E$6:$N$6+2*PI()*$E$3:$N$3))","v":0.31100050036201071}]
[2.0294688542190191,{"$f":"SIN($A325+2*PI()*$F$2)+$E$2*SUM($E$4:$N$4*SIN($A325*$E$5:$N$5*$E$6:$N$6+2*PI()*$E$3:$N$3))","v":0.24024737286761544}]
[2.0357520395261988,{"$f":"SIN($A326+2*PI()*$F$2)+$E$2*SUM($E$4:$N$4*SIN($A326*$E$5:$N$5*$E$6:$N$6+2*PI()*$E$3:$N$3))","v":0.29205175305354836}]
[2.0420352248333784,{"$f":"SIN($A327+2*PI()*$F$2)+$E$2*SUM($E$4:$N$4*SIN($A327*$E$5:$N$5*$E$6:$N$6+2*PI()*$E$3:$N$3))","v":0.22867874202934302}]
[2.048318410140558,{"$f":"SIN($A328+2*PI()*$F$2)+$E$2*SUM($E$4:$N$4*SIN($A328*$E$5:$N$5*$E$6:$N$6+2*PI()*$E$3:$N$3))","v":0.48845643466096589}]
[2.0546015954477377,{"$f":"SIN($A329+2*PI()*$F$2)+$E$2*SUM($E$4:$N$4*SIN($A329*$E$5:$N$5*$E$6:$N$6+2*PI()*$E$3:$N$3))","v":0.83298744403766367}]
[2.0608847807549173,{"$f":"SIN($A330+2*PI()*$F$2)+$E$2*SUM($E$4:$N$4*SIN($A330*$E$5:$N$5*$E$6:$N$6+2*PI()*$E$3:$N$3))","v":0.93589248127635849}]
[2.067167966062097,{"$f":"SIN($A331+2*PI()*$F$2)+$E$2*SUM($E$4:$N$4*SIN($A331*$E$5:$N$5*$E$6:$N$6+2*PI()*$E$3:$N$3))","v":0.98087589632347838}]
[2.0734511513692766,{"$f":"SIN($A332+2*PI()*$F$2)+$E$2*SUM($E$4:$N$4*SIN($A332*$E$5:$N$5*$E$6:$N$6+2*PI()*$E$3:$N$3))","v":0.71028827652593574}]
[2.0797343366764562,{"$f":"SIN($A333+2*PI()*$F$2)+$E$2*SUM($E$4:$N$4*SIN($A333*$E$5:$N$5*$E$6:$N$6+2*PI()*$E$3:$N$3))","v":0.37758345567435397}]
[2.0860175219836359,{"$f":"SIN($A334+2*PI()*$F$2)+$E$2*SUM($E$4:$N$4*SIN($A334*$E$5:$N$5*$E$6:$N$6+2*PI()*$E$3:$N$3))","v":0.63421195526665985}]
[2.0923007072908155,{"$f":"SIN($A335+2*PI()*$F$2)+$E$2*SUM($E$4:$N$4*SIN($A335*$E$5:$N$5*$E$6:$N$6+2*PI()*$E$3:$N$3))","v":1.0482915228382441}]
[2.0985838925979952,{"$f":"SIN($A336+2*PI()*$F$2)+$E$2*SUM($E$4:$N$4*SIN($A336*$E$5:$N$5*$E$6:$N$6+2*PI()*$E$3:$N$3))","v":1.2675753921371244}]
[2.1048670779051748,{"$f":"SIN($A337+2*PI()*$F$2)+$E$2*SUM($E$4:$N$4*SIN($A337*$E$5:$N$5*$E$6:$N$6+2*PI()*$E$3:$N$3))","v":1.3795037464426414}]
[2.1111502632123544,{"$f":"SIN($A338+2*PI()*$F$2)+$E$2*SUM($E$4:$N$4*SIN($A338*$E$5:$N$5*$E$6:$N$6+2*PI()*$E$3:$N$3))","v":1.1102977609829223}]
[2.1174334485195341,{"$f":"SIN($A339+2*PI()*$F$2)+$E$2*SUM($E$4:$N$4*SIN($A339*$E$5:$N$5*$E$6:$N$6+2*PI()*$E$3:$N$3))","v":0.82220573981389711}]
[2.1237166338267137,{"$f":"SIN($A340+2*PI()*$F$2)+$E$2*SUM($E$4:$N$4*SIN($A340*$E$5:$N$5*$E$6:$N$6+2*PI()*$E$3:$N$3))","v":0.91152156073243695}]
[2.1299998191338934,{"$f":"SIN($A341+2*PI()*$F$2)+$E$2*SUM($E$4:$N$4*SIN($A341*$E$5:$N$5*$E$6:$N$6+2*PI()*$E$3:$N$3))","v":0.92411589478738609}]
[2.136283004441073,{"$f":"SIN($A342+2*PI()*$F$2)+$E$2*SUM($E$4:$N$4*SIN($A342*$E$5:$N$5*$E$6:$N$6+2*PI()*$E$3:$N$3))","v":0.97441440420601233}]
[2.1425661897482526,{"$f":"SIN($A343+2*PI()*$F$2)+$E$2*SUM($E$4:$N$4*SIN($A343*$E$5:$N$5*$E$6:$N$6+2*PI()*$E$3:$N$3))","v":1.2545125174745828}]
[2.1488493750554323,{"$f":"SIN($A344+2*PI()*$F$2)+$E$2*SUM($E$4:$N$4*SIN($A344*$E$5:$N$5*$E$6:$N$6+2*PI()*$E$3:$N$3))","v":1.287371108986497}]
[2.1551325603626119,{"$f":"SIN($A345+2*PI()*$F$2)+$E$2*SUM($E$4:$N$4*SIN($A345*$E$5:$N$5*$E$6:$N$6+2*PI()*$E$3:$N$3))","v":1.1653587202973374}]
[2.1614157456697916,{"$f":"SIN($A346+2*PI()*$F$2)+$E$2*SUM($E$4:$N$4*SIN($A346*$E$5:$N$5*$E$6:$N$6+2*PI()*$E$3:$N$3))","v":0.97497491849791618}]
[2.1676989309769712,{"$f":"SIN($A347+2*PI()*$F$2)+$E$2*SUM($E$4:$N$4*SIN($A347*$E$5:$N$5*$E$6:$N$6+2*PI()*$E$3:$N$3))","v":0.55232723259077643}]
[2.1739821162841508,{"$f":"SIN($A348+2*PI()*$F$2)+$E$2*SUM($E$4:$N$4*SIN($A348*$E$5:$N$5*$E$6:$N$6+2*PI()*$E$3:$N$3))","v":0.5113634679194603}]
[2.1802653015913305,{"$f":"SIN($A349+2*PI()*$F$2)+$E$2*SUM($E$4:$N$4*SIN($A349*$E$5:$N$5*$E$6:$N$6+2*PI()*$E$3:$N$3))","v":0.92296142335027753}]
[2.1865484868985101,{"$f":"SIN($A350+2*PI()*$F$2)+$E$2*SUM($E$4:$N$4*SIN($A350*$E$5:$N$5*$E$6:$N$6+2*PI()*$E$3:$N$3))","v":1.1076338170797249}]
[2.1928316722056898,{"$f":"SIN($A351+2*PI()*$F$2)+$E$2*SUM($E$4:$N$4*SIN($A351*$E$5:$N$5*$E$6:$N$6+2*PI()*$E$3:$N$3))","v":1.098160754929624}]
[2.1991148575128694,{"$f":"SIN($A352+2*PI()*$F$2)+$E$2*SUM($E$4:$N$4*SIN($A352*$E$5:$N$5*$E$6:$N$6+2*PI()*$E$3:$N$3))","v":0.8767969191472893}]
[2.205398042820049,{"$f":"SIN($A353+2*PI()*$F$2)+$E$2*SUM($E$4:$N$4*SIN($A353*$E$5:$N$5*$E$6:$N$6+2*PI()*$E$3:$N$3))","v":0.43700233651436066}]
[2.2116812281272287,{"$f":"SIN($A354+2*PI()*$F$2)+$E$2*SUM($E$4:$N$4*SIN($A354*$E$5:$N$5*$E$6:$N$6+2*PI()*$E$3:$N$3))","v":0.39775143992768991}]
[2.2179644134344083,{"$f":"SIN($A355+2*PI()*$F$2)+$E$2*SUM($E$4:$N$4*SIN($A355*$E$5:$N$5*$E$6:$N$6+2*PI()*$E$3:$N$3))","v":0.59834063905322732}]
[2.224247598741588,{"$f":"SIN($A356+2*PI()*$F$2)+$E$2*SUM($E$4:$N$4*SIN($A356*$E$5:$N$5*$E$6:$N$6+2*PI()*$E$3:$N$3))","v":0.62754471612283247}]
[2.2305307840487676,{"$f":"SIN($A357+2*PI()*$F$2)+$E$2*SUM($E$4:$N$4*SIN($A357*$E$5:$N$5*$E$6:$N$6+2*PI()*$E$3:$N$3))","v":0.81170979358608442}]
[2.2368139693559472,{"$f":"SIN($A358+2*PI()*$F$2)+$E$2*SUM($E$4:$N$4*SIN($A358*$E$5:$N$5*$E$6:$N$6+2*PI()*$E$3:$N$3))","v":0.93960399759023017}]
[{"$f":"2*PI()/1000+A358","v":2.2430971546631269},{"$f":"SIN($A359+2*PI()*$F$2)+$E$2*SUM($E$4:$N$4*SIN($A359*$E$5:$N$5*$E$6:$N$6+2*PI()*$E$3:$N$3))","v":0.77033985774684977}]
[2.2493803399703065,{"$f":"SIN($A360+2*PI()*$F$2)+$E$2*SUM($E$4:$N$4*SIN($A360*$E$5:$N$5*$E$6:$N$6+2*PI()*$E$3:$N$3))","v":0.65021939366776826}]
[2.2556635252774861,{"$f":"SIN($A361+2*PI()*$F$2)+$E$2*SUM($E$4:$N$4*SIN($A361*$E$5:$N$5*$E$6:$N$6+2*PI()*$E$3:$N$3))","v":0.42992123034562324}]
[2.2619467105846658,{"$f":"SIN($A362+2*PI()*$F$2)+$E$2*SUM($E$4:$N$4*SIN($A362*$E$5:$N$5*$E$6:$N$6+2*PI()*$E$3:$N$3))","v":0.27032118693450102}]
[2.2682298958918454,{"$f":"SIN($A363+2*PI()*$F$2)+$E$2*SUM($E$4:$N$4*SIN($A363*$E$5:$N$5*$E$6:$N$6+2*PI()*$E$3:$N$3))","v":0.66566981435850359}]
[2.2745130811990251,{"$f":"SIN($A364+2*PI()*$F$2)+$E$2*SUM($E$4:$N$4*SIN($A364*$E$5:$N$5*$E$6:$N$6+2*PI()*$E$3:$N$3))","v":1.0588031663288329}]
[2.2807962665062047,{"$f":"SIN($A365+2*PI()*$F$2)+$E$2*SUM($E$4:$N$4*SIN($A365*$E$5:$N$5*$E$6:$N$6+2*PI()*$E$3:$N$3))","v":1.0675336210865995}]
[2.2870794518133843,{"$f":"SIN($A366+2*PI()*$F$2)+$E$2*SUM($E$4:$N$4*SIN($A366*$E$5:$N$5*$E$6:$N$6+2*PI()*$E$3:$N$3))","v":0.94405969405576629}]
[2.293362637120564,{"$f":"SIN($A367+2*PI()*$F$2)+$E$2*SUM($E$4:$N$4*SIN($A367*$E$5:$N$5*$E$6:$N$6+2*PI()*$E$3:$N$3))","v":0.59608599923752703}]
[2.2996458224277436,{"$f":"SIN($A368+2*PI()*$F$2)+$E$2*SUM($E$4:$N$4*SIN($A368*$E$5:$N$5*$E$6:$N$6+2*PI()*$E$3:$N$3))","v":0.41224790756445484}]
[2.3059290077349233,{"$f":"SIN($A369+2*PI()*$F$2)+$E$2*SUM($E$4:$N$4*SIN($A369*$E$5:$N$5*$E$6:$N$6+2*PI()*$E$3:$N$3))","v":0.72374246550120414}]
[2.3122121930421029,{"$f":"SIN($A370+2*PI()*$F$2)+$E$2*SUM($E$4:$N$4*SIN($A370*$E$5:$N$5*$E$6:$N$6+2*PI()*$E$3:$N$3))","v":0.92510219008569849}]
[2.3184953783492825,{"$f":"SIN($A371+2*PI()*$F$2)+$E$2*SUM($E$4:$N$4*SIN($A371*$E$5:$N$5*$E$6:$N$6+2*PI()*$E$3:$N$3))","v":0.99034936938878326}]
[2.3247785636564622,{"$f":"SIN($A372+2*PI()*$F$2)+$E$2*SUM($E$4:$N$4*SIN($A372*$E$5:$N$5*$E$6:$N$6+2*PI()*$E$3:$N$3))","v":1.1451043384446953}]
[2.3310617489636418,{"$f":"SIN($A373+2*PI()*$F$2)+$E$2*SUM($E$4:$N$4*SIN($A373*$E$5:$N$5*$E$6:$N$6+2*PI()*$E$3:$N$3))","v":1.0256894311531763}]
[2.3373449342708215,{"$f":"SIN($A374+2*PI()*$F$2)+$E$2*SUM($E$4:$N$4*SIN($A374*$E$5:$N$5*$E$6:$N$6+2*PI()*$E$3:$N$3))","v":0.84411502214154055}]
[2.3436281195780011,{"$f":"SIN($A375+2*PI()*$F$2)+$E$2*SUM($E$4:$N$4*SIN($A375*$E$5:$N$5*$E$6:$N$6+2*PI()*$E$3:$N$3))","v":0.79365308730153705}]
[2.3499113048851807,{"$f":"SIN($A376+2*PI()*$F$2)+$E$2*SUM($E$4:$N$4*SIN($A376*$E$5:$N$5*$E$6:$N$6+2*PI()*$E$3:$N$3))","v":0.64639749614826458}]
[2.3561944901923604,{"$f":"SIN($A377+2*PI()*$F$2)+$E$2*SUM($E$4:$N$4*SIN($A377*$E$5:$N$5*$E$6:$N$6+2*PI()*$E$3:$N$3))","v":0.83480047034429461}]
[2.36247767549954,{"$f":"SIN($A378+2*PI()*$F$2)+$E$2*SUM($E$4:$N$4*SIN($A378*$E$5:$N$5*$E$6:$N$6+2*PI()*$E$3:$N$3))","v":1.3174365417908345}]
[2.3687608608067197,{"$f":"SIN($A379+2*PI()*$F$2)+$E$2*SUM($E$4:$N$4*SIN($A379*$E$5:$N$5*$E$6:$N$6+2*PI()*$E$3:$N$3))","v":1.3916115071924835}]
[2.3750440461138993,{"$f":"SIN($A380+2*PI()*$F$2)+$E$2*SUM($E$4:$N$4*SIN($A380*$E$5:$N$5*$E$6:$N$6+2*PI()*$E$3:$N$3))","v":1.2127700444961975}]
[2.3813272314210789,{"$f":"SIN($A381+2*PI()*$F$2)+$E$2*SUM($E$4:$N$4*SIN($A381*$E$5:$N$5*$E$6:$N$6+2*PI()*$E$3:$N$3))","v":0.96984396802326356}]
[2.3876104167282586,{"$f":"SIN($A382+2*PI()*$F$2)+$E$2*SUM($E$4:$N$4*SIN($A382*$E$5:$N$5*$E$6:$N$6+2*PI()*$E$3:$N$3))","v":0.70321415855286129}]
[2.3938936020354382,{"$f":"SIN($A383+2*PI()*$F$2)+$E$2*SUM($E$4:$N$4*SIN($A383*$E$5:$N$5*$E$6:$N$6+2*PI()*$E$3:$N$3))","v":0.93125412462500234}]
[2.4001767873426179,{"$f":"SIN($A384+2*PI()*$F$2)+$E$2*SUM($E$4:$N$4*SIN($A384*$E$5:$N$5*$E$6:$N$6+2*PI()*$E$3:$N$3))","v":1.3568342980475603}]
[2.4064599726497975,{"$f":"SIN($A385+2*PI()*$F$2)+$E$2*SUM($E$4:$N$4*SIN($A385*$E$5:$N$5*$E$6:$N$6+2*PI()*$E$3:$N$3))","v":1.429346754369488}]
[2.4127431579569771,{"$f":"SIN($A386+2*PI()*$F$2)+$E$2*SUM($E$4:$N$4*SIN($A386*$E$5:$N$5*$E$6:$N$6+2*PI()*$E$3:$N$3))","v":1.4852102612026787}]
[2.4190263432641568,{"$f":"SIN($A387+2*PI()*$F$2)+$E$2*SUM($E$4:$N$4*SIN($A387*$E$5:$N$5*$E$6:$N$6+2*PI()*$E$3:$N$3))","v":1.4637779697847828}]
[2.4253095285713364,{"$f":"SIN($A388+2*PI()*$F$2)+$E$2*SUM($E$4:$N$4*SIN($A388*$E$5:$N$5*$E$6:$N$6+2*PI()*$E$3:$N$3))","v":1.2382379248178272}]
[2.4315927138785161,{"$f":"SIN($A389+2*PI()*$F$2)+$E$2*SUM($E$4:$N$4*SIN($A389*$E$5:$N$5*$E$6:$N$6+2*PI()*$E$3:$N$3))","v":1.2255857744608363}]
[2.4378758991856957,{"$f":"SIN($A390+2*PI()*$F$2)+$E$2*SUM($E$4:$N$4*SIN($A390*$E$5:$N$5*$E$6:$N$6+2*PI()*$E$3:$N$3))","v":1.2452543324896788}]
[2.4441590844928753,{"$f":"SIN($A391+2*PI()*$F$2)+$E$2*SUM($E$4:$N$4*SIN($A391*$E$5:$N$5*$E$6:$N$6+2*PI()*$E$3:$N$3))","v":1.2776448128695082}]
[2.450442269800055,{"$f":"SIN($A392+2*PI()*$F$2)+$E$2*SUM($E$4:$N$4*SIN($A392*$E$5:$N$5*$E$6:$N$6+2*PI()*$E$3:$N$3))","v":1.6880989732467222}]
[2.4567254551072346,{"$f":"SIN($A393+2*PI()*$F$2)+$E$2*SUM($E$4:$N$4*SIN($A393*$E$5:$N$5*$E$6:$N$6+2*PI()*$E$3:$N$3))","v":1.923297386108342}]
[2.4630086404144143,{"$f":"SIN($A394+2*PI()*$F$2)+$E$2*SUM($E$4:$N$4*SIN($A394*$E$5:$N$5*$E$6:$N$6+2*PI()*$E$3:$N$3))","v":1.6980514042217054}]
[2.4692918257215939,{"$f":"SIN($A395+2*PI()*$F$2)+$E$2*SUM($E$4:$N$4*SIN($A395*$E$5:$N$5*$E$6:$N$6+2*PI()*$E$3:$N$3))","v":1.4567027436143323}]
[2.4755750110287735,{"$f":"SIN($A396+2*PI()*$F$2)+$E$2*SUM($E$4:$N$4*SIN($A396*$E$5:$N$5*$E$6:$N$6+2*PI()*$E$3:$N$3))","v":1.2004027750343993}]
[2.4818581963359532,{"$f":"SIN($A397+2*PI()*$F$2)+$E$2*SUM($E$4:$N$4*SIN($A397*$E$5:$N$5*$E$6:$N$6+2*PI()*$E$3:$N$3))","v":1.2024410013847453}]
[2.4881413816431328,{"$f":"SIN($A398+2*PI()*$F$2)+$E$2*SUM($E$4:$N$4*SIN($A398*$E$5:$N$5*$E$6:$N$6+2*PI()*$E$3:$N$3))","v":1.6421151179935252}]
[2.4944245669503124,{"$f":"SIN($A399+2*PI()*$F$2)+$E$2*SUM($E$4:$N$4*SIN($A399*$E$5:$N$5*$E$6:$N$6+2*PI()*$E$3:$N$3))","v":1.8002363520840967}]
[2.5007077522574921,{"$f":"SIN($A400+2*PI()*$F$2)+$E$2*SUM($E$4:$N$4*SIN($A400*$E$5:$N$5*$E$6:$N$6+2*PI()*$E$3:$N$3))","v":1.6375654116403309}]
[2.5069909375646717,{"$f":"SIN($A401+2*PI()*$F$2)+$E$2*SUM($E$4:$N$4*SIN($A401*$E$5:$N$5*$E$6:$N$6+2*PI()*$E$3:$N$3))","v":1.5371170435303094}]
[2.5132741228718514,{"$f":"SIN($A402+2*PI()*$F$2)+$E$2*SUM($E$4:$N$4*SIN($A402*$E$5:$N$5*$E$6:$N$6+2*PI()*$E$3:$N$3))","v":1.2814091490912269}]
[2.519557308179031,{"$f":"SIN($A403+2*PI()*$F$2)+$E$2*SUM($E$4:$N$4*SIN($A403*$E$5:$N$5*$E$6:$N$6+2*PI()*$E$3:$N$3))","v":1.1147110143151955}]
[2.5258404934862106,{"$f":"SIN($A404+2*PI()*$F$2)+$E$2*SUM($E$4:$N$4*SIN($A404*$E$5:$N$5*$E$6:$N$6+2*PI()*$E$3:$N$3))","v":1.1989426220307964}]
[2.5321236787933903,{"$f":"SIN($A405+2*PI()*$F$2)+$E$2*SUM($E$4:$N$4*SIN($A405*$E$5:$N$5*$E$6:$N$6+2*PI()*$E$3:$N$3))","v":1.1599075281347127}]
[2.5384068641005699,{"$f":"SIN($A406+2*PI()*$F$2)+$E$2*SUM($E$4:$N$4*SIN($A406*$E$5:$N$5*$E$6:$N$6+2*PI()*$E$3:$N$3))","v":1.2797292790377408}]
[2.5446900494077496,{"$f":"SIN($A407+2*PI()*$F$2)+$E$2*SUM($E$4:$N$4*SIN($A407*$E$5:$N$5*$E$6:$N$6+2*PI()*$E$3:$N$3))","v":1.5327745963407844}]
[2.5509732347149292,{"$f":"SIN($A408+2*PI()*$F$2)+$E$2*SUM($E$4:$N$4*SIN($A408*$E$5:$N$5*$E$6:$N$6+2*PI()*$E$3:$N$3))","v":1.3247421356858475}]
[2.5572564200221088,{"$f":"SIN($A409+2*PI()*$F$2)+$E$2*SUM($E$4:$N$4*SIN($A409*$E$5:$N$5*$E$6:$N$6+2*PI()*$E$3:$N$3))","v":0.96471370025984737}]
[2.5635396053292885,{"$f":"SIN($A410+2*PI()*$F$2)+$E$2*SUM($E$4:$N$4*SIN($A410*$E$5:$N$5*$E$6:$N$6+2*PI()*$E$3:$N$3))","v":0.76109203541842885}]
[2.5698227906364681,{"$f":"SIN($A411+2*PI()*$F$2)+$E$2*SUM($E$4:$N$4*SIN($A411*$E$5:$N$5*$E$6:$N$6+2*PI()*$E$3:$N$3))","v":0.66332279524719118}]
[2.5761059759436478,{"$f":"SIN($A412+2*PI()*$F$2)+$E$2*SUM($E$4:$N$4*SIN($A412*$E$5:$N$5*$E$6:$N$6+2*PI()*$E$3:$N$3))","v":1.0020294010840161}]
[2.5823891612508274,{"$f":"SIN($A413+2*PI()*$F$2)+$E$2*SUM($E$4:$N$4*SIN($A413*$E$5:$N$5*$E$6:$N$6+2*PI()*$E$3:$N$3))","v":1.3799738756556506}]
[2.588672346558007,{"$f":"SIN($A414+2*PI()*$F$2)+$E$2*SUM($E$4:$N$4*SIN($A414*$E$5:$N$5*$E$6:$N$6+2*PI()*$E$3:$N$3))","v":1.2384546194762414}]
[2.5949555318651867,{"$f":"SIN($A415+2*PI()*$F$2)+$E$2*SUM($E$4:$N$4*SIN($A415*$E$5:$N$5*$E$6:$N$6+2*PI()*$E$3:$N$3))","v":1.0478059652544329}]
[2.6012387171723663,{"$f":"SIN($A416+2*PI()*$F$2)+$E$2*SUM($E$4:$N$4*SIN($A416*$E$5:$N$5*$E$6:$N$6+2*PI()*$E$3:$N$3))","v":0.92901643090406505}]
[2.607521902479546,{"$f":"SIN($A417+2*PI()*$F$2)+$E$2*SUM($E$4:$N$4*SIN($A417*$E$5:$N$5*$E$6:$N$6+2*PI()*$E$3:$N$3))","v":0.78364544972365069}]
[2.6138050877867256,{"$f":"SIN($A418+2*PI()*$F$2)+$E$2*SUM($E$4:$N$4*SIN($A418*$E$5:$N$5*$E$6:$N$6+2*PI()*$E$3:$N$3))","v":0.9588207120760337}]
[2.6200882730939052,{"$f":"SIN($A419+2*PI()*$F$2)+$E$2*SUM($E$4:$N$4*SIN($A419*$E$5:$N$5*$E$6:$N$6+2*PI()*$E$3:$N$3))","v":1.1585561761416561}]
[2.6263714584010849,{"$f":"SIN($A420+2*PI()*$F$2)+$E$2*SUM($E$4:$N$4*SIN($A420*$E$5:$N$5*$E$6:$N$6+2*PI()*$E$3:$N$3))","v":1.2145853711275556}]
[2.6326546437082645,{"$f":"SIN($A421+2*PI()*$F$2)+$E$2*SUM($E$4:$N$4*SIN($A421*$E$5:$N$5*$E$6:$N$6+2*PI()*$E$3:$N$3))","v":1.486271559867125}]
[2.6389378290154442,{"$f":"SIN($A422+2*PI()*$F$2)+$E$2*SUM($E$4:$N$4*SIN($A422*$E$5:$N$5*$E$6:$N$6+2*PI()*$E$3:$N$3))","v":1.5524506403205516}]
[{"$f":"2*PI()/1000+A422","v":2.6452210143226238},{"$f":"SIN($A423+2*PI()*$F$2)+$E$2*SUM($E$4:$N$4*SIN($A423*$E$5:$N$5*$E$6:$N$6+2*PI()*$E$3:$N$3))","v":1.2567975288824718}]
[2.6515041996298034,{"$f":"SIN($A424+2*PI()*$F$2)+$E$2*SUM($E$4:$N$4*SIN($A424*$E$5:$N$5*$E$6:$N$6+2*PI()*$E$3:$N$3))","v":1.1449185152454464}]
[2.6577873849369831,{"$f":"SIN($A425+2*PI()*$F$2)+$E$2*SUM($E$4:$N$4*SIN($A425*$E$5:$N$5*$E$6:$N$6+2*PI()*$E$3:$N$3))","v":1.1708779295695964}]
[2.6640705702441627,{"$f":"SIN($A426+2*PI()*$F$2)+$E$2*SUM($E$4:$N$4*SIN($A426*$E$5:$N$5*$E$6:$N$6+2*PI()*$E$3:$N$3))","v":1.4031528468254479}]
[2.6703537555513424,{"$f":"SIN($A427+2*PI()*$F$2)+$E$2*SUM($E$4:$N$4*SIN($A427*$E$5:$N$5*$E$6:$N$6+2*PI()*$E$3:$N$3))","v":1.8983162142558441}]
[2.676636940858522,{"$f":"SIN($A428+2*PI()*$F$2)+$E$2*SUM($E$4:$N$4*SIN($A428*$E$5:$N$5*$E$6:$N$6+2*PI()*$E$3:$N$3))","v":1.9522091496256107}]
[2.6829201261657016,{"$f":"SIN($A429+2*PI()*$F$2)+$E$2*SUM($E$4:$N$4*SIN($A429*$E$5:$N$5*$E$6:$N$6+2*PI()*$E$3:$N$3))","v":1.6355251795810437}]
[2.6892033114728813,{"$f":"SIN($A430+2*PI()*$F$2)+$E$2*SUM($E$4:$N$4*SIN($A430*$E$5:$N$5*$E$6:$N$6+2*PI()*$E$3:$N$3))","v":1.5140409995660669}]
[2.6954864967800609,{"$f":"SIN($A431+2*PI()*$F$2)+$E$2*SUM($E$4:$N$4*SIN($A431*$E$5:$N$5*$E$6:$N$6+2*PI()*$E$3:$N$3))","v":1.4284483506949777}]
[2.7017696820872406,{"$f":"SIN($A432+2*PI()*$F$2)+$E$2*SUM($E$4:$N$4*SIN($A432*$E$5:$N$5*$E$6:$N$6+2*PI()*$E$3:$N$3))","v":1.5130054511540478}]
[2.7080528673944202,{"$f":"SIN($A433+2*PI()*$F$2)+$E$2*SUM($E$4:$N$4*SIN($A433*$E$5:$N$5*$E$6:$N$6+2*PI()*$E$3:$N$3))","v":1.8093119685523411}]
[2.7143360527015998,{"$f":"SIN($A434+2*PI()*$F$2)+$E$2*SUM($E$4:$N$4*SIN($A434*$E$5:$N$5*$E$6:$N$6+2*PI()*$E$3:$N$3))","v":1.828432079846158}]
[2.7206192380087795,{"$f":"SIN($A435+2*PI()*$F$2)+$E$2*SUM($E$4:$N$4*SIN($A435*$E$5:$N$5*$E$6:$N$6+2*PI()*$E$3:$N$3))","v":1.8232311332609825}]
[2.7269024233159591,{"$f":"SIN($A436+2*PI()*$F$2)+$E$2*SUM($E$4:$N$4*SIN($A436*$E$5:$N$5*$E$6:$N$6+2*PI()*$E$3:$N$3))","v":1.9069331530280782}]
[2.7331856086231388,{"$f":"SIN($A437+2*PI()*$F$2)+$E$2*SUM($E$4:$N$4*SIN($A437*$E$5:$N$5*$E$6:$N$6+2*PI()*$E$3:$N$3))","v":1.6264516757116585}]
[2.7394687939303184,{"$f":"SIN($A438+2*PI()*$F$2)+$E$2*SUM($E$4:$N$4*SIN($A438*$E$5:$N$5*$E$6:$N$6+2*PI()*$E$3:$N$3))","v":1.3541750683424758}]
[2.745751979237498,{"$f":"SIN($A439+2*PI()*$F$2)+$E$2*SUM($E$4:$N$4*SIN($A439*$E$5:$N$5*$E$6:$N$6+2*PI()*$E$3:$N$3))","v":1.3752671574924413}]
[2.7520351645446777,{"$f":"SIN($A440+2*PI()*$F$2)+$E$2*SUM($E$4:$N$4*SIN($A440*$E$5:$N$5*$E$6:$N$6+2*PI()*$E$3:$N$3))","v":1.4604357179917169}]
[2.7583183498518573,{"$f":"SIN($A441+2*PI()*$F$2)+$E$2*SUM($E$4:$N$4*SIN($A441*$E$5:$N$5*$E$6:$N$6+2*PI()*$E$3:$N$3))","v":1.7806670066600527}]
[2.7646015351590369,{"$f":"SIN($A442+2*PI()*$F$2)+$E$2*SUM($E$4:$N$4*SIN($A442*$E$5:$N$5*$E$6:$N$6+2*PI()*$E$3:$N$3))","v":1.9662161330889094}]
[2.7708847204662166,{"$f":"SIN($A443+2*PI()*$F$2)+$E$2*SUM($E$4:$N$4*SIN($A443*$E$5:$N$5*$E$6:$N$6+2*PI()*$E$3:$N$3))","v":1.5787780795908095}]
[2.7771679057733962,{"$f":"SIN($A444+2*PI()*$F$2)+$E$2*SUM($E$4:$N$4*SIN($A444*$E$5:$N$5*$E$6:$N$6+2*PI()*$E$3:$N$3))","v":1.2498903191039168}]
[2.7834510910805759,{"$f":"SIN($A445+2*PI()*$F$2)+$E$2*SUM($E$4:$N$4*SIN($A445*$E$5:$N$5*$E$6:$N$6+2*PI()*$E$3:$N$3))","v":1.1943813856288079}]
[2.7897342763877555,{"$f":"SIN($A446+2*PI()*$F$2)+$E$2*SUM($E$4:$N$4*SIN($A446*$E$5:$N$5*$E$6:$N$6+2*PI()*$E$3:$N$3))","v":1.2043596396838794}]
[2.7960174616949351,{"$f":"SIN($A447+2*PI()*$F$2)+$E$2*SUM($E$4:$N$4*SIN($A447*$E$5:$N$5*$E$6:$N$6+2*PI()*$E$3:$N$3))","v":1.4693964579081924}]
[2.8023006470021148,{"$f":"SIN($A448+2*PI()*$F$2)+$E$2*SUM($E$4:$N$4*SIN($A448*$E$5:$N$5*$E$6:$N$6+2*PI()*$E$3:$N$3))","v":1.6119289979014191}]
[2.8085838323092944,{"$f":"SIN($A449+2*PI()*$F$2)+$E$2*SUM($E$4:$N$4*SIN($A449*$E$5:$N$5*$E$6:$N$6+2*PI()*$E$3:$N$3))","v":1.4420107520106697}]
[2.8148670176164741,{"$f":"SIN($A450+2*PI()*$F$2)+$E$2*SUM($E$4:$N$4*SIN($A450*$E$5:$N$5*$E$6:$N$6+2*PI()*$E$3:$N$3))","v":1.4370047458823143}]
[2.8211502029236537,{"$f":"SIN($A451+2*PI()*$F$2)+$E$2*SUM($E$4:$N$4*SIN($A451*$E$5:$N$5*$E$6:$N$6+2*PI()*$E$3:$N$3))","v":1.3434756487865205}]
[2.8274333882308333,{"$f":"SIN($A452+2*PI()*$F$2)+$E$2*SUM($E$4:$N$4*SIN($A452*$E$5:$N$5*$E$6:$N$6+2*PI()*$E$3:$N$3))","v":1.0507887192871748}]
[2.833716573538013,{"$f":"SIN($A453+2*PI()*$F$2)+$E$2*SUM($E$4:$N$4*SIN($A453*$E$5:$N$5*$E$6:$N$6+2*PI()*$E$3:$N$3))","v":1.065494629685237}]
[2.8399997588451926,{"$f":"SIN($A454+2*PI()*$F$2)+$E$2*SUM($E$4:$N$4*SIN($A454*$E$5:$N$5*$E$6:$N$6+2*PI()*$E$3:$N$3))","v":1.2097832353064482}]
[2.8462829441523723,{"$f":"SIN($A455+2*PI()*$F$2)+$E$2*SUM($E$4:$N$4*SIN($A455*$E$5:$N$5*$E$6:$N$6+2*PI()*$E$3:$N$3))","v":1.3794501474777152}]
[2.8525661294595519,{"$f":"SIN($A456+2*PI()*$F$2)+$E$2*SUM($E$4:$N$4*SIN($A456*$E$5:$N$5*$E$6:$N$6+2*PI()*$E$3:$N$3))","v":1.635422267883095}]
[2.8588493147667315,{"$f":"SIN($A457+2*PI()*$F$2)+$E$2*SUM($E$4:$N$4*SIN($A457*$E$5:$N$5*$E$6:$N$6+2*PI()*$E$3:$N$3))","v":1.4207825150939632}]
[2.8651325000739112,{"$f":"SIN($A458+2*PI()*$F$2)+$E$2*SUM($E$4:$N$4*SIN($A458*$E$5:$N$5*$E$6:$N$6+2*PI()*$E$3:$N$3))","v":0.94884252061143781}]
[2.8714156853810908,{"$f":"SIN($A459+2*PI()*$F$2)+$E$2*SUM($E$4:$N$4*SIN($A459*$E$5:$N$5*$E$6:$N$6+2*PI()*$E$3:$N$3))","v":0.87974708221411557}]
[2.8776988706882705,{"$f":"SIN($A460+2*PI()*$F$2)+$E$2*SUM($E$4:$N$4*SIN($A460*$E$5:$N$5*$E$6:$N$6+2*PI()*$E$3:$N$3))","v":0.97631789165661165}]
[2.8839820559954501,{"$f":"SIN($A461+2*PI()*$F$2)+$E$2*SUM($E$4:$N$4*SIN($A461*$E$5:$N$5*$E$6:$N$6+2*PI()*$E$3:$N$3))","v":1.1773269502577388}]
[2.8902652413026297,{"$f":"SIN($A462+2*PI()*$F$2)+$E$2*SUM($E$4:$N$4*SIN($A462*$E$5:$N$5*$E$6:$N$6+2*PI()*$E$3:$N$3))","v":1.4363468335692771}]
[2.8965484266098094,{"$f":"SIN($A463+2*PI()*$F$2)+$E$2*SUM($E$4:$N$4*SIN($A463*$E$5:$N$5*$E$6:$N$6+2*PI()*$E$3:$N$3))","v":1.2789818495372574}]
[2.902831611916989,{"$f":"SIN($A464+2*PI()*$F$2)+$E$2*SUM($E$4:$N$4*SIN($A464*$E$5:$N$5*$E$6:$N$6+2*PI()*$E$3:$N$3))","v":1.0532250091685484}]
[2.9091147972241687,{"$f":"SIN($A465+2*PI()*$F$2)+$E$2*SUM($E$4:$N$4*SIN($A465*$E$5:$N$5*$E$6:$N$6+2*PI()*$E$3:$N$3))","v":1.0426313470311483}]
[2.9153979825313483,{"$f":"SIN($A466+2*PI()*$F$2)+$E$2*SUM($E$4:$N$4*SIN($A466*$E$5:$N$5*$E$6:$N$6+2*PI()*$E$3:$N$3))","v":0.85308690828607614}]
[2.9216811678385279,{"$f":"SIN($A467+2*PI()*$F$2)+$E$2*SUM($E$4:$N$4*SIN($A467*$E$5:$N$5*$E$6:$N$6+2*PI()*$E$3:$N$3))","v":0.77969692854836536}]
[2.9279643531457076,{"$f":"SIN($A468+2*PI()*$F$2)+$E$2*SUM($E$4:$N$4*SIN($A468*$E$5:$N$5*$E$6:$N$6+2*PI()*$E$3:$N$3))","v":0.99536575025771179}]
[2.9342475384528872,{"$f":"SIN($A469+2*PI()*$F$2)+$E$2*SUM($E$4:$N$4*SIN($A469*$E$5:$N$5*$E$6:$N$6+2*PI()*$E$3:$N$3))","v":1.1232641229650335}]
[2.9405307237600669,{"$f":"SIN($A470+2*PI()*$F$2)+$E$2*SUM($E$4:$N$4*SIN($A470*$E$5:$N$5*$E$6:$N$6+2*PI()*$E$3:$N$3))","v":1.2981724667446284}]
[2.9468139090672465,{"$f":"SIN($A471+2*PI()*$F$2)+$E$2*SUM($E$4:$N$4*SIN($A471*$E$5:$N$5*$E$6:$N$6+2*PI()*$E$3:$N$3))","v":1.3054489986101991}]
[2.9530970943744261,{"$f":"SIN($A472+2*PI()*$F$2)+$E$2*SUM($E$4:$N$4*SIN($A472*$E$5:$N$5*$E$6:$N$6+2*PI()*$E$3:$N$3))","v":0.86089200843841041}]
[2.9593802796816058,{"$f":"SIN($A473+2*PI()*$F$2)+$E$2*SUM($E$4:$N$4*SIN($A473*$E$5:$N$5*$E$6:$N$6+2*PI()*$E$3:$N$3))","v":0.66574541527744202}]
[2.9656634649887854,{"$f":"SIN($A474+2*PI()*$F$2)+$E$2*SUM($E$4:$N$4*SIN($A474*$E$5:$N$5*$E$6:$N$6+2*PI()*$E$3:$N$3))","v":0.8867205308267585}]
[2.9719466502959651,{"$f":"SIN($A475+2*PI()*$F$2)+$E$2*SUM($E$4:$N$4*SIN($A475*$E$5:$N$5*$E$6:$N$6+2*PI()*$E$3:$N$3))","v":1.1191873471650893}]
[2.9782298356031447,{"$f":"SIN($A476+2*PI()*$F$2)+$E$2*SUM($E$4:$N$4*SIN($A476*$E$5:$N$5*$E$6:$N$6+2*PI()*$E$3:$N$3))","v":1.4227379685432198}]
[2.9845130209103243,{"$f":"SIN($A477+2*PI()*$F$2)+$E$2*SUM($E$4:$N$4*SIN($A477*$E$5:$N$5*$E$6:$N$6+2*PI()*$E$3:$N$3))","v":1.463523008281493}]
[2.990796206217504,{"$f":"SIN($A478+2*PI()*$F$2)+$E$2*SUM($E$4:$N$4*SIN($A478*$E$5:$N$5*$E$6:$N$6+2*PI()*$E$3:$N$3))","v":1.1541791872942504}]
[2.9970793915246836,{"$f":"SIN($A479+2*PI()*$F$2)+$E$2*SUM($E$4:$N$4*SIN($A479*$E$5:$N$5*$E$6:$N$6+2*PI()*$E$3:$N$3))","v":1.116500363072636}]
[3.0033625768318633,{"$f":"SIN($A480+2*PI()*$F$2)+$E$2*SUM($E$4:$N$4*SIN($A480*$E$5:$N$5*$E$6:$N$6+2*PI()*$E$3:$N$3))","v":1.1788498862414596}]
[3.0096457621390429,{"$f":"SIN($A481+2*PI()*$F$2)+$E$2*SUM($E$4:$N$4*SIN($A481*$E$5:$N$5*$E$6:$N$6+2*PI()*$E$3:$N$3))","v":1.1366421286804864}]
[3.0159289474462225,{"$f":"SIN($A482+2*PI()*$F$2)+$E$2*SUM($E$4:$N$4*SIN($A482*$E$5:$N$5*$E$6:$N$6+2*PI()*$E$3:$N$3))","v":1.3648143924420895}]
[3.0222121327534022,{"$f":"SIN($A483+2*PI()*$F$2)+$E$2*SUM($E$4:$N$4*SIN($A483*$E$5:$N$5*$E$6:$N$6+2*PI()*$E$3:$N$3))","v":1.5822630299170601}]
[3.0284953180605818,{"$f":"SIN($A484+2*PI()*$F$2)+$E$2*SUM($E$4:$N$4*SIN($A484*$E$5:$N$5*$E$6:$N$6+2*PI()*$E$3:$N$3))","v":1.6352055563158099}]
[3.0347785033677614,{"$f":"SIN($A485+2*PI()*$F$2)+$E$2*SUM($E$4:$N$4*SIN($A485*$E$5:$N$5*$E$6:$N$6+2*PI()*$E$3:$N$3))","v":1.7125505663011138}]
[3.0410616886749411,{"$f":"SIN($A486+2*PI()*$F$2)+$E$2*SUM($E$4:$N$4*SIN($A486*$E$5:$N$5*$E$6:$N$6+2*PI()*$E$3:$N$3))","v":1.4388280578033557}]
[{"$f":"2*PI()/1000+A486","v":3.0473448739821207},{"$f":"SIN($A487+2*PI()*$F$2)+$E$2*SUM($E$4:$N$4*SIN($A487*$E$5:$N$5*$E$6:$N$6+2*PI()*$E$3:$N$3))","v":1.0813176961890356}]
[3.0536280592893004,{"$f":"SIN($A488+2*PI()*$F$2)+$E$2*SUM($E$4:$N$4*SIN($A488*$E$5:$N$5*$E$6:$N$6+2*PI()*$E$3:$N$3))","v":1.2497985396770752}]
[3.05991124459648,{"$f":"SIN($A489+2*PI()*$F$2)+$E$2*SUM($E$4:$N$4*SIN($A489*$E$5:$N$5*$E$6:$N$6+2*PI()*$E$3:$N$3))","v":1.5421560579733524}]
[3.0661944299036596,{"$f":"SIN($A490+2*PI()*$F$2)+$E$2*SUM($E$4:$N$4*SIN($A490*$E$5:$N$5*$E$6:$N$6+2*PI()*$E$3:$N$3))","v":1.7314504488122526}]
[3.0724776152108393,{"$f":"SIN($A491+2*PI()*$F$2)+$E$2*SUM($E$4:$N$4*SIN($A491*$E$5:$N$5*$E$6:$N$6+2*PI()*$E$3:$N$3))","v":1.80788564868546}]
[3.0787608005180189,{"$f":"SIN($A492+2*PI()*$F$2)+$E$2*SUM($E$4:$N$4*SIN($A492*$E$5:$N$5*$E$6:$N$6+2*PI()*$E$3:$N$3))","v":1.4397303743783816}]
[3.0850439858251986,{"$f":"SIN($A493+2*PI()*$F$2)+$E$2*SUM($E$4:$N$4*SIN($A493*$E$5:$N$5*$E$6:$N$6+2*PI()*$E$3:$N$3))","v":1.0995265288196476}]
[3.0913271711323782,{"$f":"SIN($A494+2*PI()*$F$2)+$E$2*SUM($E$4:$N$4*SIN($A494*$E$5:$N$5*$E$6:$N$6+2*PI()*$E$3:$N$3))","v":1.1540068806702424}]
[3.0976103564395578,{"$f":"SIN($A495+2*PI()*$F$2)+$E$2*SUM($E$4:$N$4*SIN($A495*$E$5:$N$5*$E$6:$N$6+2*PI()*$E$3:$N$3))","v":1.1325976649832377}]
[3.1038935417467375,{"$f":"SIN($A496+2*PI()*$F$2)+$E$2*SUM($E$4:$N$4*SIN($A496*$E$5:$N$5*$E$6:$N$6+2*PI()*$E$3:$N$3))","v":1.1645393052165951}]
[3.1101767270539171,{"$f":"SIN($A497+2*PI()*$F$2)+$E$2*SUM($E$4:$N$4*SIN($A497*$E$5:$N$5*$E$6:$N$6+2*PI()*$E$3:$N$3))","v":1.3395221454283199}]
[3.1164599123610968,{"$f":"SIN($A498+2*PI()*$F$2)+$E$2*SUM($E$4:$N$4*SIN($A498*$E$5:$N$5*$E$6:$N$6+2*PI()*$E$3:$N$3))","v":1.260842266727541}]
[3.1227430976682764,{"$f":"SIN($A499+2*PI()*$F$2)+$E$2*SUM($E$4:$N$4*SIN($A499*$E$5:$N$5*$E$6:$N$6+2*PI()*$E$3:$N$3))","v":1.1535256253963706}]
[3.129026282975456,{"$f":"SIN($A500+2*PI()*$F$2)+$E$2*SUM($E$4:$N$4*SIN($A500*$E$5:$N$5*$E$6:$N$6+2*PI()*$E$3:$N$3))","v":0.99393617144369339}]
[3.1353094682826357,{"$f":"SIN($A501+2*PI()*$F$2)+$E$2*SUM($E$4:$N$4*SIN($A501*$E$5:$N$5*$E$6:$N$6+2*PI()*$E$3:$N$3))","v":0.57042903640396458}]
[3.1415926535898153,{"$f":"SIN($A502+2*PI()*$F$2)+$E$2*SUM($E$4:$N$4*SIN($A502*$E$5:$N$5*$E$6:$N$6+2*PI()*$E$3:$N$3))","v":0.51220480412930436}]
[3.147875838896995,{"$f":"SIN($A503+2*PI()*$F$2)+$E$2*SUM($E$4:$N$4*SIN($A503*$E$5:$N$5*$E$6:$N$6+2*PI()*$E$3:$N$3))","v":0.85061292832718616}]
[3.1541590242041746,{"$f":"SIN($A504+2*PI()*$F$2)+$E$2*SUM($E$4:$N$4*SIN($A504*$E$5:$N$5*$E$6:$N$6+2*PI()*$E$3:$N$3))","v":1.0183798049752055}]
[3.1604422095113542,{"$f":"SIN($A505+2*PI()*$F$2)+$E$2*SUM($E$4:$N$4*SIN($A505*$E$5:$N$5*$E$6:$N$6+2*PI()*$E$3:$N$3))","v":1.0715996612984797}]
[3.1667253948185339,{"$f":"SIN($A506+2*PI()*$F$2)+$E$2*SUM($E$4:$N$4*SIN($A506*$E$5:$N$5*$E$6:$N$6+2*PI()*$E$3:$N$3))","v":0.8501776060662205}]
[3.1730085801257135,{"$f":"SIN($A507+2*PI()*$F$2)+$E$2*SUM($E$4:$N$4*SIN($A507*$E$5:$N$5*$E$6:$N$6+2*PI()*$E$3:$N$3))","v":0.4040908133922777}]
[3.1792917654328932,{"$f":"SIN($A508+2*PI()*$F$2)+$E$2*SUM($E$4:$N$4*SIN($A508*$E$5:$N$5*$E$6:$N$6+2*PI()*$E$3:$N$3))","v":0.41219656276648758}]
[3.1855749507400728,{"$f":"SIN($A509+2*PI()*$F$2)+$E$2*SUM($E$4:$N$4*SIN($A509*$E$5:$N$5*$E$6:$N$6+2*PI()*$E$3:$N$3))","v":0.64919959792700332}]
[3.1918581360472524,{"$f":"SIN($A510+2*PI()*$F$2)+$E$2*SUM($E$4:$N$4*SIN($A510*$E$5:$N$5*$E$6:$N$6+2*PI()*$E$3:$N$3))","v":0.7321565251700346}]
[3.1981413213544321,{"$f":"SIN($A511+2*PI()*$F$2)+$E$2*SUM($E$4:$N$4*SIN($A511*$E$5:$N$5*$E$6:$N$6+2*PI()*$E$3:$N$3))","v":0.93264763887478785}]
[3.2044245066616117,{"$f":"SIN($A512+2*PI()*$F$2)+$E$2*SUM($E$4:$N$4*SIN($A512*$E$5:$N$5*$E$6:$N$6+2*PI()*$E$3:$N$3))","v":0.9932199143503575}]
[3.2107076919687914,{"$f":"SIN($A513+2*PI()*$F$2)+$E$2*SUM($E$4:$N$4*SIN($A513*$E$5:$N$5*$E$6:$N$6+2*PI()*$E$3:$N$3))","v":0.83829750978160178}]
[3.216990877275971,{"$f":"SIN($A514+2*PI()*$F$2)+$E$2*SUM($E$4:$N$4*SIN($A514*$E$5:$N$5*$E$6:$N$6+2*PI()*$E$3:$N$3))","v":0.81752482891428113}]
[3.2232740625831506,{"$f":"SIN($A515+2*PI()*$F$2)+$E$2*SUM($E$4:$N$4*SIN($A515*$E$5:$N$5*$E$6:$N$6+2*PI()*$E$3:$N$3))","v":0.65516959430904698}]
[3.2295572478903303,{"$f":"SIN($A516+2*PI()*$F$2)+$E$2*SUM($E$4:$N$4*SIN($A516*$E$5:$N$5*$E$6:$N$6+2*PI()*$E$3:$N$3))","v":0.53207925468176276}]
[3.2358404331975099,{"$f":"SIN($A517+2*PI()*$F$2)+$E$2*SUM($E$4:$N$4*SIN($A517*$E$5:$N$5*$E$6:$N$6+2*PI()*$E$3:$N$3))","v":0.91525372970494279}]
[3.2421236185046896,{"$f":"SIN($A518+2*PI()*$F$2)+$E$2*SUM($E$4:$N$4*SIN($A518*$E$5:$N$5*$E$6:$N$6+2*PI()*$E$3:$N$3))","v":1.2688694247385157}]
[3.2484068038118692,{"$f":"SIN($A519+2*PI()*$F$2)+$E$2*SUM($E$4:$N$4*SIN($A519*$E$5:$N$5*$E$6:$N$6+2*PI()*$E$3:$N$3))","v":1.3259179702613899}]
[3.2546899891190488,{"$f":"SIN($A520+2*PI()*$F$2)+$E$2*SUM($E$4:$N$4*SIN($A520*$E$5:$N$5*$E$6:$N$6+2*PI()*$E$3:$N$3))","v":1.2388823337596915}]
[3.2609731744262285,{"$f":"SIN($A521+2*PI()*$F$2)+$E$2*SUM($E$4:$N$4*SIN($A521*$E$5:$N$5*$E$6:$N$6+2*PI()*$E$3:$N$3))","v":0.85246934983506018}]
[3.2672563597334081,{"$f":"SIN($A522+2*PI()*$F$2)+$E$2*SUM($E$4:$N$4*SIN($A522*$E$5:$N$5*$E$6:$N$6+2*PI()*$E$3:$N$3))","v":0.67408349865543127}]
[3.2735395450405878,{"$f":"SIN($A523+2*PI()*$F$2)+$E$2*SUM($E$4:$N$4*SIN($A523*$E$5:$N$5*$E$6:$N$6+2*PI()*$E$3:$N$3))","v":1.0108667826890856}]
[3.2798227303477674,{"$f":"SIN($A524+2*PI()*$F$2)+$E$2*SUM($E$4:$N$4*SIN($A524*$E$5:$N$5*$E$6:$N$6+2*PI()*$E$3:$N$3))","v":1.229116860826591}]
[3.286105915654947,{"$f":"SIN($A525+2*PI()*$F$2)+$E$2*SUM($E$4:$N$4*SIN($A525*$E$5:$N$5*$E$6:$N$6+2*PI()*$E$3:$N$3))","v":1.3183527783255107}]
[3.2923891009621267,{"$f":"SIN($A526+2*PI()*$F$2)+$E$2*SUM($E$4:$N$4*SIN($A526*$E$5:$N$5*$E$6:$N$6+2*PI()*$E$3:$N$3))","v":1.4062298038017902}]
[3.2986722862693063,{"$f":"SIN($A527+2*PI()*$F$2)+$E$2*SUM($E$4:$N$4*SIN($A527*$E$5:$N$5*$E$6:$N$6+2*PI()*$E$3:$N$3))","v":1.2023642689078329}]
[3.3049554715764859,{"$f":"SIN($A528+2*PI()*$F$2)+$E$2*SUM($E$4:$N$4*SIN($A528*$E$5:$N$5*$E$6:$N$6+2*PI()*$E$3:$N$3))","v":1.0518451196812109}]
[3.3112386568836656,{"$f":"SIN($A529+2*PI()*$F$2)+$E$2*SUM($E$4:$N$4*SIN($A529*$E$5:$N$5*$E$6:$N$6+2*PI()*$E$3:$N$3))","v":1.0358186335871864}]
[3.3175218421908452,{"$f":"SIN($A530+2*PI()*$F$2)+$E$2*SUM($E$4:$N$4*SIN($A530*$E$5:$N$5*$E$6:$N$6+2*PI()*$E$3:$N$3))","v":0.87562073185369649}]
[3.3238050274980249,{"$f":"SIN($A531+2*PI()*$F$2)+$E$2*SUM($E$4:$N$4*SIN($A531*$E$5:$N$5*$E$6:$N$6+2*PI()*$E$3:$N$3))","v":1.0333342320980805}]
[3.3300882128052045,{"$f":"SIN($A532+2*PI()*$F$2)+$E$2*SUM($E$4:$N$4*SIN($A532*$E$5:$N$5*$E$6:$N$6+2*PI()*$E$3:$N$3))","v":1.4308231331933481}]
[3.3363713981123841,{"$f":"SIN($A533+2*PI()*$F$2)+$E$2*SUM($E$4:$N$4*SIN($A533*$E$5:$N$5*$E$6:$N$6+2*PI()*$E$3:$N$3))","v":1.4641112886464551}]
[3.3426545834195638,{"$f":"SIN($A534+2*PI()*$F$2)+$E$2*SUM($E$4:$N$4*SIN($A534*$E$5:$N$5*$E$6:$N$6+2*PI()*$E$3:$N$3))","v":1.3103558820238947}]
[3.3489377687267434,{"$f":"SIN($A535+2*PI()*$F$2)+$E$2*SUM($E$4:$N$4*SIN($A535*$E$5:$N$5*$E$6:$N$6+2*PI()*$E$3:$N$3))","v":1.0160958363061698}]
[3.3552209540339231,{"$f":"SIN($A536+2*PI()*$F$2)+$E$2*SUM($E$4:$N$4*SIN($A536*$E$5:$N$5*$E$6:$N$6+2*PI()*$E$3:$N$3))","v":0.68201046818666833}]
[3.3615041393411027,{"$f":"SIN($A537+2*PI()*$F$2)+$E$2*SUM($E$4:$N$4*SIN($A537*$E$5:$N$5*$E$6:$N$6+2*PI()*$E$3:$N$3))","v":0.89953291486122766}]
[3.3677873246482823,{"$f":"SIN($A538+2*PI()*$F$2)+$E$2*SUM($E$4:$N$4*SIN($A538*$E$5:$N$5*$E$6:$N$6+2*PI()*$E$3:$N$3))","v":1.302034030037031}]
[3.374070509955462,{"$f":"SIN($A539+2*PI()*$F$2)+$E$2*SUM($E$4:$N$4*SIN($A539*$E$5:$N$5*$E$6:$N$6+2*PI()*$E$3:$N$3))","v":1.3588598222692578}]
[3.3803536952626416,{"$f":"SIN($A540+2*PI()*$F$2)+$E$2*SUM($E$4:$N$4*SIN($A540*$E$5:$N$5*$E$6:$N$6+2*PI()*$E$3:$N$3))","v":1.3601312290874761}]
[3.3866368805698213,{"$f":"SIN($A541+2*PI()*$F$2)+$E$2*SUM($E$4:$N$4*SIN($A541*$E$5:$N$5*$E$6:$N$6+2*PI()*$E$3:$N$3))","v":1.1995797032836939}]
[3.3929200658770009,{"$f":"SIN($A542+2*PI()*$F$2)+$E$2*SUM($E$4:$N$4*SIN($A542*$E$5:$N$5*$E$6:$N$6+2*PI()*$E$3:$N$3))","v":0.91406666471347064}]
[3.3992032511841805,{"$f":"SIN($A543+2*PI()*$F$2)+$E$2*SUM($E$4:$N$4*SIN($A543*$E$5:$N$5*$E$6:$N$6+2*PI()*$E$3:$N$3))","v":0.92823706642270454}]
[3.4054864364913602,{"$f":"SIN($A544+2*PI()*$F$2)+$E$2*SUM($E$4:$N$4*SIN($A544*$E$5:$N$5*$E$6:$N$6+2*PI()*$E$3:$N$3))","v":0.93003763845824894}]
[3.4117696217985398,{"$f":"SIN($A545+2*PI()*$F$2)+$E$2*SUM($E$4:$N$4*SIN($A545*$E$5:$N$5*$E$6:$N$6+2*PI()*$E$3:$N$3))","v":0.924684278314855}]
[3.4180528071057195,{"$f":"SIN($A546+2*PI()*$F$2)+$E$2*SUM($E$4:$N$4*SIN($A546*$E$5:$N$5*$E$6:$N$6+2*PI()*$E$3:$N$3))","v":1.2623711578910255}]
[3.4243359924128991,{"$f":"SIN($A547+2*PI()*$F$2)+$E$2*SUM($E$4:$N$4*SIN($A547*$E$5:$N$5*$E$6:$N$6+2*PI()*$E$3:$N$3))","v":1.4024562159419347}]
[3.4306191777200787,{"$f":"SIN($A548+2*PI()*$F$2)+$E$2*SUM($E$4:$N$4*SIN($A548*$E$5:$N$5*$E$6:$N$6+2*PI()*$E$3:$N$3))","v":1.1682993380490161}]
[3.4369023630272584,{"$f":"SIN($A549+2*PI()*$F$2)+$E$2*SUM($E$4:$N$4*SIN($A549*$E$5:$N$5*$E$6:$N$6+2*PI()*$E$3:$N$3))","v":0.90973824208732978}]
[3.443185548334438,{"$f":"SIN($A550+2*PI()*$F$2)+$E$2*SUM($E$4:$N$4*SIN($A550*$E$5:$N$5*$E$6:$N$6+2*PI()*$E$3:$N$3))","v":0.56630194382907262}]
[{"$f":"2*PI()/1000+A550","v":3.4494687336416177},{"$f":"SIN($A551+2*PI()*$F$2)+$E$2*SUM($E$4:$N$4*SIN($A551*$E$5:$N$5*$E$6:$N$6+2*PI()*$E$3:$N$3))","v":0.5395945461165278}]
[3.4557519189487973,{"$f":"SIN($A552+2*PI()*$F$2)+$E$2*SUM($E$4:$N$4*SIN($A552*$E$5:$N$5*$E$6:$N$6+2*PI()*$E$3:$N$3))","v":0.98817884040257731}]
[3.4620351042559769,{"$f":"SIN($A553+2*PI()*$F$2)+$E$2*SUM($E$4:$N$4*SIN($A553*$E$5:$N$5*$E$6:$N$6+2*PI()*$E$3:$N$3))","v":1.1495860240808449}]
[3.4683182895631566,{"$f":"SIN($A554+2*PI()*$F$2)+$E$2*SUM($E$4:$N$4*SIN($A554*$E$5:$N$5*$E$6:$N$6+2*PI()*$E$3:$N$3))","v":0.99973352500658619}]
[3.4746014748703362,{"$f":"SIN($A555+2*PI()*$F$2)+$E$2*SUM($E$4:$N$4*SIN($A555*$E$5:$N$5*$E$6:$N$6+2*PI()*$E$3:$N$3))","v":0.83174072937595178}]
[3.4808846601775159,{"$f":"SIN($A556+2*PI()*$F$2)+$E$2*SUM($E$4:$N$4*SIN($A556*$E$5:$N$5*$E$6:$N$6+2*PI()*$E$3:$N$3))","v":0.4991661942982264}]
[3.4871678454846955,{"$f":"SIN($A557+2*PI()*$F$2)+$E$2*SUM($E$4:$N$4*SIN($A557*$E$5:$N$5*$E$6:$N$6+2*PI()*$E$3:$N$3))","v":0.38298625336203668}]
[3.4934510307918751,{"$f":"SIN($A558+2*PI()*$F$2)+$E$2*SUM($E$4:$N$4*SIN($A558*$E$5:$N$5*$E$6:$N$6+2*PI()*$E$3:$N$3))","v":0.53181151882997357}]
[3.4997342160990548,{"$f":"SIN($A559+2*PI()*$F$2)+$E$2*SUM($E$4:$N$4*SIN($A559*$E$5:$N$5*$E$6:$N$6+2*PI()*$E$3:$N$3))","v":0.51398714260507539}]
[3.5060174014062344,{"$f":"SIN($A560+2*PI()*$F$2)+$E$2*SUM($E$4:$N$4*SIN($A560*$E$5:$N$5*$E$6:$N$6+2*PI()*$E$3:$N$3))","v":0.64996280573339527}]
[3.5123005867134141,{"$f":"SIN($A561+2*PI()*$F$2)+$E$2*SUM($E$4:$N$4*SIN($A561*$E$5:$N$5*$E$6:$N$6+2*PI()*$E$3:$N$3))","v":0.87709635542765219}]
[3.5185837720205937,{"$f":"SIN($A562+2*PI()*$F$2)+$E$2*SUM($E$4:$N$4*SIN($A562*$E$5:$N$5*$E$6:$N$6+2*PI()*$E$3:$N$3))","v":0.68640032470121537}]
[3.5248669573277733,{"$f":"SIN($A563+2*PI()*$F$2)+$E$2*SUM($E$4:$N$4*SIN($A563*$E$5:$N$5*$E$6:$N$6+2*PI()*$E$3:$N$3))","v":0.41035746079172486}]
[3.531150142634953,{"$f":"SIN($A564+2*PI()*$F$2)+$E$2*SUM($E$4:$N$4*SIN($A564*$E$5:$N$5*$E$6:$N$6+2*PI()*$E$3:$N$3))","v":0.21825201258607074}]
[3.5374333279421326,{"$f":"SIN($A565+2*PI()*$F$2)+$E$2*SUM($E$4:$N$4*SIN($A565*$E$5:$N$5*$E$6:$N$6+2*PI()*$E$3:$N$3))","v":0.12145366598967866}]
[3.5437165132493122,{"$f":"SIN($A566+2*PI()*$F$2)+$E$2*SUM($E$4:$N$4*SIN($A566*$E$5:$N$5*$E$6:$N$6+2*PI()*$E$3:$N$3))","v":0.53037363985643882}]
[3.5499996985564919,{"$f":"SIN($A567+2*PI()*$F$2)+$E$2*SUM($E$4:$N$4*SIN($A567*$E$5:$N$5*$E$6:$N$6+2*PI()*$E$3:$N$3))","v":0.96675355377797278}]
[3.5562828838636715,{"$f":"SIN($A568+2*PI()*$F$2)+$E$2*SUM($E$4:$N$4*SIN($A568*$E$5:$N$5*$E$6:$N$6+2*PI()*$E$3:$N$3))","v":0.87904249264807888}]
[3.5625660691708512,{"$f":"SIN($A569+2*PI()*$F$2)+$E$2*SUM($E$4:$N$4*SIN($A569*$E$5:$N$5*$E$6:$N$6+2*PI()*$E$3:$N$3))","v":0.69989776236167434}]
[3.5688492544780308,{"$f":"SIN($A570+2*PI()*$F$2)+$E$2*SUM($E$4:$N$4*SIN($A570*$E$5:$N$5*$E$6:$N$6+2*PI()*$E$3:$N$3))","v":0.5078872481514608}]
[3.5751324397852104,{"$f":"SIN($A571+2*PI()*$F$2)+$E$2*SUM($E$4:$N$4*SIN($A571*$E$5:$N$5*$E$6:$N$6+2*PI()*$E$3:$N$3))","v":0.36684055068567484}]
[3.5814156250923901,{"$f":"SIN($A572+2*PI()*$F$2)+$E$2*SUM($E$4:$N$4*SIN($A572*$E$5:$N$5*$E$6:$N$6+2*PI()*$E$3:$N$3))","v":0.63344301809216585}]
[3.5876988103995697,{"$f":"SIN($A573+2*PI()*$F$2)+$E$2*SUM($E$4:$N$4*SIN($A573*$E$5:$N$5*$E$6:$N$6+2*PI()*$E$3:$N$3))","v":0.87012257335506749}]
[3.5939819957067494,{"$f":"SIN($A574+2*PI()*$F$2)+$E$2*SUM($E$4:$N$4*SIN($A574*$E$5:$N$5*$E$6:$N$6+2*PI()*$E$3:$N$3))","v":0.93145374596307873}]
[3.600265181013929,{"$f":"SIN($A575+2*PI()*$F$2)+$E$2*SUM($E$4:$N$4*SIN($A575*$E$5:$N$5*$E$6:$N$6+2*PI()*$E$3:$N$3))","v":1.1698369210571284}]
[3.6065483663211086,{"$f":"SIN($A576+2*PI()*$F$2)+$E$2*SUM($E$4:$N$4*SIN($A576*$E$5:$N$5*$E$6:$N$6+2*PI()*$E$3:$N$3))","v":1.1683856184796735}]
[3.6128315516282883,{"$f":"SIN($A577+2*PI()*$F$2)+$E$2*SUM($E$4:$N$4*SIN($A577*$E$5:$N$5*$E$6:$N$6+2*PI()*$E$3:$N$3))","v":0.87532593510196066}]
[3.6191147369354679,{"$f":"SIN($A578+2*PI()*$F$2)+$E$2*SUM($E$4:$N$4*SIN($A578*$E$5:$N$5*$E$6:$N$6+2*PI()*$E$3:$N$3))","v":0.75028581996861154}]
[3.6253979222426476,{"$f":"SIN($A579+2*PI()*$F$2)+$E$2*SUM($E$4:$N$4*SIN($A579*$E$5:$N$5*$E$6:$N$6+2*PI()*$E$3:$N$3))","v":0.68649216094915921}]
[3.6316811075498272,{"$f":"SIN($A580+2*PI()*$F$2)+$E$2*SUM($E$4:$N$4*SIN($A580*$E$5:$N$5*$E$6:$N$6+2*PI()*$E$3:$N$3))","v":0.88473886918713718}]
[3.6379642928570068,{"$f":"SIN($A581+2*PI()*$F$2)+$E$2*SUM($E$4:$N$4*SIN($A581*$E$5:$N$5*$E$6:$N$6+2*PI()*$E$3:$N$3))","v":1.3789956577487388}]
[3.6442474781641865,{"$f":"SIN($A582+2*PI()*$F$2)+$E$2*SUM($E$4:$N$4*SIN($A582*$E$5:$N$5*$E$6:$N$6+2*PI()*$E$3:$N$3))","v":1.4050079424235877}]
[3.6505306634713661,{"$f":"SIN($A583+2*PI()*$F$2)+$E$2*SUM($E$4:$N$4*SIN($A583*$E$5:$N$5*$E$6:$N$6+2*PI()*$E$3:$N$3))","v":1.0509283457866565}]
[3.6568138487785458,{"$f":"SIN($A584+2*PI()*$F$2)+$E$2*SUM($E$4:$N$4*SIN($A584*$E$5:$N$5*$E$6:$N$6+2*PI()*$E$3:$N$3))","v":0.80684225638395157}]
[3.6630970340857254,{"$f":"SIN($A585+2*PI()*$F$2)+$E$2*SUM($E$4:$N$4*SIN($A585*$E$5:$N$5*$E$6:$N$6+2*PI()*$E$3:$N$3))","v":0.58637347009719254}]
[3.669380219392905,{"$f":"SIN($A586+2*PI()*$F$2)+$E$2*SUM($E$4:$N$4*SIN($A586*$E$5:$N$5*$E$6:$N$6+2*PI()*$E$3:$N$3))","v":0.66416892136687977}]
[3.6756634047000847,{"$f":"SIN($A587+2*PI()*$F$2)+$E$2*SUM($E$4:$N$4*SIN($A587*$E$5:$N$5*$E$6:$N$6+2*PI()*$E$3:$N$3))","v":0.96556139550334752}]
[3.6819465900072643,{"$f":"SIN($A588+2*PI()*$F$2)+$E$2*SUM($E$4:$N$4*SIN($A588*$E$5:$N$5*$E$6:$N$6+2*PI()*$E$3:$N$3))","v":0.93478239908606842}]
[3.688229775314444,{"$f":"SIN($A589+2*PI()*$F$2)+$E$2*SUM($E$4:$N$4*SIN($A589*$E$5:$N$5*$E$6:$N$6+2*PI()*$E$3:$N$3))","v":0.87127837443573308}]
[3.6945129606216236,{"$f":"SIN($A590+2*PI()*$F$2)+$E$2*SUM($E$4:$N$4*SIN($A590*$E$5:$N$5*$E$6:$N$6+2*PI()*$E$3:$N$3))","v":0.85535694267897422}]
[3.7007961459288032,{"$f":"SIN($A591+2*PI()*$F$2)+$E$2*SUM($E$4:$N$4*SIN($A591*$E$5:$N$5*$E$6:$N$6+2*PI()*$E$3:$N$3))","v":0.51229809813462157}]
[3.7070793312359829,{"$f":"SIN($A592+2*PI()*$F$2)+$E$2*SUM($E$4:$N$4*SIN($A592*$E$5:$N$5*$E$6:$N$6+2*PI()*$E$3:$N$3))","v":0.24569747424204613}]
[3.7133625165431625,{"$f":"SIN($A593+2*PI()*$F$2)+$E$2*SUM($E$4:$N$4*SIN($A593*$E$5:$N$5*$E$6:$N$6+2*PI()*$E$3:$N$3))","v":0.20820704692140124}]
[3.7196457018503422,{"$f":"SIN($A594+2*PI()*$F$2)+$E$2*SUM($E$4:$N$4*SIN($A594*$E$5:$N$5*$E$6:$N$6+2*PI()*$E$3:$N$3))","v":0.23212805702292744}]
[3.7259288871575218,{"$f":"SIN($A595+2*PI()*$F$2)+$E$2*SUM($E$4:$N$4*SIN($A595*$E$5:$N$5*$E$6:$N$6+2*PI()*$E$3:$N$3))","v":0.57187337634149726}]
[3.7322120724647014,{"$f":"SIN($A596+2*PI()*$F$2)+$E$2*SUM($E$4:$N$4*SIN($A596*$E$5:$N$5*$E$6:$N$6+2*PI()*$E$3:$N$3))","v":0.76592648390677198}]
[3.7384952577718811,{"$f":"SIN($A597+2*PI()*$F$2)+$E$2*SUM($E$4:$N$4*SIN($A597*$E$5:$N$5*$E$6:$N$6+2*PI()*$E$3:$N$3))","v":0.37496817237197705}]
[3.7447784430790607,{"$f":"SIN($A598+2*PI()*$F$2)+$E$2*SUM($E$4:$N$4*SIN($A598*$E$5:$N$5*$E$6:$N$6+2*PI()*$E$3:$N$3))","v":8.8555138346956275E-3}]
[3.7510616283862404,{"$f":"SIN($A599+2*PI()*$F$2)+$E$2*SUM($E$4:$N$4*SIN($A599*$E$5:$N$5*$E$6:$N$6+2*PI()*$E$3:$N$3))","v":-0.15089277617893904}]
[3.75734481369342,{"$f":"SIN($A600+2*PI()*$F$2)+$E$2*SUM($E$4:$N$4*SIN($A600*$E$5:$N$5*$E$6:$N$6+2*PI()*$E$3:$N$3))","v":-0.15100170208661423}]
[3.7636279990005996,{"$f":"SIN($A601+2*PI()*$F$2)+$E$2*SUM($E$4:$N$4*SIN($A601*$E$5:$N$5*$E$6:$N$6+2*PI()*$E$3:$N$3))","v":0.20690660282577311}]
[3.7699111843077793,{"$f":"SIN($A602+2*PI()*$F$2)+$E$2*SUM($E$4:$N$4*SIN($A602*$E$5:$N$5*$E$6:$N$6+2*PI()*$E$3:$N$3))","v":0.39104211513696557}]
[3.7761943696149589,{"$f":"SIN($A603+2*PI()*$F$2)+$E$2*SUM($E$4:$N$4*SIN($A603*$E$5:$N$5*$E$6:$N$6+2*PI()*$E$3:$N$3))","v":0.23131378529018332}]
[3.7824775549221386,{"$f":"SIN($A604+2*PI()*$F$2)+$E$2*SUM($E$4:$N$4*SIN($A604*$E$5:$N$5*$E$6:$N$6+2*PI()*$E$3:$N$3))","v":0.20937075599248262}]
[3.7887607402293182,{"$f":"SIN($A605+2*PI()*$F$2)+$E$2*SUM($E$4:$N$4*SIN($A605*$E$5:$N$5*$E$6:$N$6+2*PI()*$E$3:$N$3))","v":7.283658876046295E-2}]
[3.7950439255364978,{"$f":"SIN($A606+2*PI()*$F$2)+$E$2*SUM($E$4:$N$4*SIN($A606*$E$5:$N$5*$E$6:$N$6+2*PI()*$E$3:$N$3))","v":-0.18518769505209909}]
[3.8013271108436775,{"$f":"SIN($A607+2*PI()*$F$2)+$E$2*SUM($E$4:$N$4*SIN($A607*$E$5:$N$5*$E$6:$N$6+2*PI()*$E$3:$N$3))","v":-0.13547448577880072}]
[3.8076102961508571,{"$f":"SIN($A608+2*PI()*$F$2)+$E$2*SUM($E$4:$N$4*SIN($A608*$E$5:$N$5*$E$6:$N$6+2*PI()*$E$3:$N$3))","v":-2.0235330980723165E-2}]
[3.8138934814580367,{"$f":"SIN($A609+2*PI()*$F$2)+$E$2*SUM($E$4:$N$4*SIN($A609*$E$5:$N$5*$E$6:$N$6+2*PI()*$E$3:$N$3))","v":0.18578474786526239}]
[3.8201766667652164,{"$f":"SIN($A610+2*PI()*$F$2)+$E$2*SUM($E$4:$N$4*SIN($A610*$E$5:$N$5*$E$6:$N$6+2*PI()*$E$3:$N$3))","v":0.51583385325431019}]
[3.826459852072396,{"$f":"SIN($A611+2*PI()*$F$2)+$E$2*SUM($E$4:$N$4*SIN($A611*$E$5:$N$5*$E$6:$N$6+2*PI()*$E$3:$N$3))","v":0.33754724593194085}]
[3.8327430373795757,{"$f":"SIN($A612+2*PI()*$F$2)+$E$2*SUM($E$4:$N$4*SIN($A612*$E$5:$N$5*$E$6:$N$6+2*PI()*$E$3:$N$3))","v":-0.11249363074190966}]
[3.8390262226867553,{"$f":"SIN($A613+2*PI()*$F$2)+$E$2*SUM($E$4:$N$4*SIN($A613*$E$5:$N$5*$E$6:$N$6+2*PI()*$E$3:$N$3))","v":-0.23306396914303745}]
[3.8453094079939349,{"$f":"SIN($A614+2*PI()*$F$2)+$E$2*SUM($E$4:$N$4*SIN($A614*$E$5:$N$5*$E$6:$N$6+2*PI()*$E$3:$N$3))","v":-0.18942252281953181}]
[{"$f":"2*PI()/1000+A614","v":3.8515925933011146},{"$f":"SIN($A615+2*PI()*$F$2)+$E$2*SUM($E$4:$N$4*SIN($A615*$E$5:$N$5*$E$6:$N$6+2*PI()*$E$3:$N$3))","v":9.3827412595531734E-2}]
[3.8578757786082942,{"$f":"SIN($A616+2*PI()*$F$2)+$E$2*SUM($E$4:$N$4*SIN($A616*$E$5:$N$5*$E$6:$N$6+2*PI()*$E$3:$N$3))","v":0.44448960236664153}]
[3.8641589639154739,{"$f":"SIN($A617+2*PI()*$F$2)+$E$2*SUM($E$4:$N$4*SIN($A617*$E$5:$N$5*$E$6:$N$6+2*PI()*$E$3:$N$3))","v":0.30807529244736032}]
[3.8704421492226535,{"$f":"SIN($A618+2*PI()*$F$2)+$E$2*SUM($E$4:$N$4*SIN($A618*$E$5:$N$5*$E$6:$N$6+2*PI()*$E$3:$N$3))","v":8.714074818406925E-2}]
[3.8767253345298331,{"$f":"SIN($A619+2*PI()*$F$2)+$E$2*SUM($E$4:$N$4*SIN($A619*$E$5:$N$5*$E$6:$N$6+2*PI()*$E$3:$N$3))","v":3.9184739877252239E-2}]
[3.8830085198370128,{"$f":"SIN($A620+2*PI()*$F$2)+$E$2*SUM($E$4:$N$4*SIN($A620*$E$5:$N$5*$E$6:$N$6+2*PI()*$E$3:$N$3))","v":-0.15746811037094932}]
[3.8892917051441924,{"$f":"SIN($A621+2*PI()*$F$2)+$E$2*SUM($E$4:$N$4*SIN($A621*$E$5:$N$5*$E$6:$N$6+2*PI()*$E$3:$N$3))","v":-0.17121566424355961}]
[3.8955748904513721,{"$f":"SIN($A622+2*PI()*$F$2)+$E$2*SUM($E$4:$N$4*SIN($A622*$E$5:$N$5*$E$6:$N$6+2*PI()*$E$3:$N$3))","v":3.9653776467903523E-2}]
[3.9018580757585517,{"$f":"SIN($A623+2*PI()*$F$2)+$E$2*SUM($E$4:$N$4*SIN($A623*$E$5:$N$5*$E$6:$N$6+2*PI()*$E$3:$N$3))","v":0.15221672860316082}]
[3.9081412610657313,{"$f":"SIN($A624+2*PI()*$F$2)+$E$2*SUM($E$4:$N$4*SIN($A624*$E$5:$N$5*$E$6:$N$6+2*PI()*$E$3:$N$3))","v":0.38386522989412031}]
[3.914424446372911,{"$f":"SIN($A625+2*PI()*$F$2)+$E$2*SUM($E$4:$N$4*SIN($A625*$E$5:$N$5*$E$6:$N$6+2*PI()*$E$3:$N$3))","v":0.41896924387474399}]
[3.9207076316800906,{"$f":"SIN($A626+2*PI()*$F$2)+$E$2*SUM($E$4:$N$4*SIN($A626*$E$5:$N$5*$E$6:$N$6+2*PI()*$E$3:$N$3))","v":-3.1788071757070713E-2}]
[3.9269908169872703,{"$f":"SIN($A627+2*PI()*$F$2)+$E$2*SUM($E$4:$N$4*SIN($A627*$E$5:$N$5*$E$6:$N$6+2*PI()*$E$3:$N$3))","v":-0.26962350729588486}]
[3.9332740022944499,{"$f":"SIN($A628+2*PI()*$F$2)+$E$2*SUM($E$4:$N$4*SIN($A628*$E$5:$N$5*$E$6:$N$6+2*PI()*$E$3:$N$3))","v":-0.15285217621380442}]
[3.9395571876016295,{"$f":"SIN($A629+2*PI()*$F$2)+$E$2*SUM($E$4:$N$4*SIN($A629*$E$5:$N$5*$E$6:$N$6+2*PI()*$E$3:$N$3))","v":6.808201485433546E-2}]
[3.9458403729088092,{"$f":"SIN($A630+2*PI()*$F$2)+$E$2*SUM($E$4:$N$4*SIN($A630*$E$5:$N$5*$E$6:$N$6+2*PI()*$E$3:$N$3))","v":0.45559896788895826}]
[3.9521235582159888,{"$f":"SIN($A631+2*PI()*$F$2)+$E$2*SUM($E$4:$N$4*SIN($A631*$E$5:$N$5*$E$6:$N$6+2*PI()*$E$3:$N$3))","v":0.50834562142574491}]
[3.9584067435231685,{"$f":"SIN($A632+2*PI()*$F$2)+$E$2*SUM($E$4:$N$4*SIN($A632*$E$5:$N$5*$E$6:$N$6+2*PI()*$E$3:$N$3))","v":0.15895829770413425}]
[3.9646899288303481,{"$f":"SIN($A633+2*PI()*$F$2)+$E$2*SUM($E$4:$N$4*SIN($A633*$E$5:$N$5*$E$6:$N$6+2*PI()*$E$3:$N$3))","v":5.0787330637289463E-2}]
[3.9709731141375277,{"$f":"SIN($A634+2*PI()*$F$2)+$E$2*SUM($E$4:$N$4*SIN($A634*$E$5:$N$5*$E$6:$N$6+2*PI()*$E$3:$N$3))","v":1.5035910592974266E-2}]
[3.9772562994447074,{"$f":"SIN($A635+2*PI()*$F$2)+$E$2*SUM($E$4:$N$4*SIN($A635*$E$5:$N$5*$E$6:$N$6+2*PI()*$E$3:$N$3))","v":-4.9494022880736732E-2}]
[3.983539484751887,{"$f":"SIN($A636+2*PI()*$F$2)+$E$2*SUM($E$4:$N$4*SIN($A636*$E$5:$N$5*$E$6:$N$6+2*PI()*$E$3:$N$3))","v":0.16132906095156008}]
[3.9898226700590667,{"$f":"SIN($A637+2*PI()*$F$2)+$E$2*SUM($E$4:$N$4*SIN($A637*$E$5:$N$5*$E$6:$N$6+2*PI()*$E$3:$N$3))","v":0.29546900758187761}]
[3.9961058553662463,{"$f":"SIN($A638+2*PI()*$F$2)+$E$2*SUM($E$4:$N$4*SIN($A638*$E$5:$N$5*$E$6:$N$6+2*PI()*$E$3:$N$3))","v":0.32461012077303125}]
[4.0023890406734255,{"$f":"SIN($A639+2*PI()*$F$2)+$E$2*SUM($E$4:$N$4*SIN($A639*$E$5:$N$5*$E$6:$N$6+2*PI()*$E$3:$N$3))","v":0.40964100661590441}]
[4.0086722259806047,{"$f":"SIN($A640+2*PI()*$F$2)+$E$2*SUM($E$4:$N$4*SIN($A640*$E$5:$N$5*$E$6:$N$6+2*PI()*$E$3:$N$3))","v":9.2464358037038702E-2}]
[4.0149554112877839,{"$f":"SIN($A641+2*PI()*$F$2)+$E$2*SUM($E$4:$N$4*SIN($A641*$E$5:$N$5*$E$6:$N$6+2*PI()*$E$3:$N$3))","v":-0.32403311316455624}]
[4.0212385965949631,{"$f":"SIN($A642+2*PI()*$F$2)+$E$2*SUM($E$4:$N$4*SIN($A642*$E$5:$N$5*$E$6:$N$6+2*PI()*$E$3:$N$3))","v":-0.26960565188299662}]
[4.0275217819021423,{"$f":"SIN($A643+2*PI()*$F$2)+$E$2*SUM($E$4:$N$4*SIN($A643*$E$5:$N$5*$E$6:$N$6+2*PI()*$E$3:$N$3))","v":-7.8078738331486708E-2}]
[4.0338049672093215,{"$f":"SIN($A644+2*PI()*$F$2)+$E$2*SUM($E$4:$N$4*SIN($A644*$E$5:$N$5*$E$6:$N$6+2*PI()*$E$3:$N$3))","v":0.15250047764609023}]
[4.0400881525165007,{"$f":"SIN($A645+2*PI()*$F$2)+$E$2*SUM($E$4:$N$4*SIN($A645*$E$5:$N$5*$E$6:$N$6+2*PI()*$E$3:$N$3))","v":0.2779269592614218}]
[4.0463713378236799,{"$f":"SIN($A646+2*PI()*$F$2)+$E$2*SUM($E$4:$N$4*SIN($A646*$E$5:$N$5*$E$6:$N$6+2*PI()*$E$3:$N$3))","v":-0.12164510304763271}]
[4.0526545231308591,{"$f":"SIN($A647+2*PI()*$F$2)+$E$2*SUM($E$4:$N$4*SIN($A647*$E$5:$N$5*$E$6:$N$6+2*PI()*$E$3:$N$3))","v":-0.50421628116923234}]
[4.0589377084380382,{"$f":"SIN($A648+2*PI()*$F$2)+$E$2*SUM($E$4:$N$4*SIN($A648*$E$5:$N$5*$E$6:$N$6+2*PI()*$E$3:$N$3))","v":-0.51632419393167983}]
[4.0652208937452174,{"$f":"SIN($A649+2*PI()*$F$2)+$E$2*SUM($E$4:$N$4*SIN($A649*$E$5:$N$5*$E$6:$N$6+2*PI()*$E$3:$N$3))","v":-0.56115894695093438}]
[4.0715040790523966,{"$f":"SIN($A650+2*PI()*$F$2)+$E$2*SUM($E$4:$N$4*SIN($A650*$E$5:$N$5*$E$6:$N$6+2*PI()*$E$3:$N$3))","v":-0.47083328784342332}]
[4.0777872643595758,{"$f":"SIN($A651+2*PI()*$F$2)+$E$2*SUM($E$4:$N$4*SIN($A651*$E$5:$N$5*$E$6:$N$6+2*PI()*$E$3:$N$3))","v":-0.28878420419876899}]
[4.084070449666755,{"$f":"SIN($A652+2*PI()*$F$2)+$E$2*SUM($E$4:$N$4*SIN($A652*$E$5:$N$5*$E$6:$N$6+2*PI()*$E$3:$N$3))","v":-0.36735936265757646}]
[4.0903536349739342,{"$f":"SIN($A653+2*PI()*$F$2)+$E$2*SUM($E$4:$N$4*SIN($A653*$E$5:$N$5*$E$6:$N$6+2*PI()*$E$3:$N$3))","v":-0.39745448840827668}]
[4.0966368202811134,{"$f":"SIN($A654+2*PI()*$F$2)+$E$2*SUM($E$4:$N$4*SIN($A654*$E$5:$N$5*$E$6:$N$6+2*PI()*$E$3:$N$3))","v":-0.50677070654656498}]
[4.1029200055882926,{"$f":"SIN($A655+2*PI()*$F$2)+$E$2*SUM($E$4:$N$4*SIN($A655*$E$5:$N$5*$E$6:$N$6+2*PI()*$E$3:$N$3))","v":-0.91194658758416236}]
[4.1092031908954718,{"$f":"SIN($A656+2*PI()*$F$2)+$E$2*SUM($E$4:$N$4*SIN($A656*$E$5:$N$5*$E$6:$N$6+2*PI()*$E$3:$N$3))","v":-0.96751881438955178}]
[4.115486376202651,{"$f":"SIN($A657+2*PI()*$F$2)+$E$2*SUM($E$4:$N$4*SIN($A657*$E$5:$N$5*$E$6:$N$6+2*PI()*$E$3:$N$3))","v":-0.66400437934814227}]
[4.1217695615098302,{"$f":"SIN($A658+2*PI()*$F$2)+$E$2*SUM($E$4:$N$4*SIN($A658*$E$5:$N$5*$E$6:$N$6+2*PI()*$E$3:$N$3))","v":-0.429050040901438}]
[4.1280527468170094,{"$f":"SIN($A659+2*PI()*$F$2)+$E$2*SUM($E$4:$N$4*SIN($A659*$E$5:$N$5*$E$6:$N$6+2*PI()*$E$3:$N$3))","v":-0.21332894737765024}]
[4.1343359321241886,{"$f":"SIN($A660+2*PI()*$F$2)+$E$2*SUM($E$4:$N$4*SIN($A660*$E$5:$N$5*$E$6:$N$6+2*PI()*$E$3:$N$3))","v":-0.35548430131577691}]
[4.1406191174313678,{"$f":"SIN($A661+2*PI()*$F$2)+$E$2*SUM($E$4:$N$4*SIN($A661*$E$5:$N$5*$E$6:$N$6+2*PI()*$E$3:$N$3))","v":-0.78169808698529863}]
[4.146902302738547,{"$f":"SIN($A662+2*PI()*$F$2)+$E$2*SUM($E$4:$N$4*SIN($A662*$E$5:$N$5*$E$6:$N$6+2*PI()*$E$3:$N$3))","v":-0.77215602656750471}]
[4.1531854880457262,{"$f":"SIN($A663+2*PI()*$F$2)+$E$2*SUM($E$4:$N$4*SIN($A663*$E$5:$N$5*$E$6:$N$6+2*PI()*$E$3:$N$3))","v":-0.54989839810085939}]
[4.1594686733529054,{"$f":"SIN($A664+2*PI()*$F$2)+$E$2*SUM($E$4:$N$4*SIN($A664*$E$5:$N$5*$E$6:$N$6+2*PI()*$E$3:$N$3))","v":-0.40215723962214522}]
[4.1657518586600846,{"$f":"SIN($A665+2*PI()*$F$2)+$E$2*SUM($E$4:$N$4*SIN($A665*$E$5:$N$5*$E$6:$N$6+2*PI()*$E$3:$N$3))","v":-0.12888225315959295}]
[4.1720350439672638,{"$f":"SIN($A666+2*PI()*$F$2)+$E$2*SUM($E$4:$N$4*SIN($A666*$E$5:$N$5*$E$6:$N$6+2*PI()*$E$3:$N$3))","v":-6.9342828637997345E-2}]
[4.178318229274443,{"$f":"SIN($A667+2*PI()*$F$2)+$E$2*SUM($E$4:$N$4*SIN($A667*$E$5:$N$5*$E$6:$N$6+2*PI()*$E$3:$N$3))","v":-0.17854971033259634}]
[4.1846014145816222,{"$f":"SIN($A668+2*PI()*$F$2)+$E$2*SUM($E$4:$N$4*SIN($A668*$E$5:$N$5*$E$6:$N$6+2*PI()*$E$3:$N$3))","v":-0.13202445265588678}]
[4.1908845998888014,{"$f":"SIN($A669+2*PI()*$F$2)+$E$2*SUM($E$4:$N$4*SIN($A669*$E$5:$N$5*$E$6:$N$6+2*PI()*$E$3:$N$3))","v":-0.29252626154791783}]
[4.1971677851959805,{"$f":"SIN($A670+2*PI()*$F$2)+$E$2*SUM($E$4:$N$4*SIN($A670*$E$5:$N$5*$E$6:$N$6+2*PI()*$E$3:$N$3))","v":-0.43340334453928608}]
[4.2034509705031597,{"$f":"SIN($A671+2*PI()*$F$2)+$E$2*SUM($E$4:$N$4*SIN($A671*$E$5:$N$5*$E$6:$N$6+2*PI()*$E$3:$N$3))","v":-0.11388991675644156}]
[4.2097341558103389,{"$f":"SIN($A672+2*PI()*$F$2)+$E$2*SUM($E$4:$N$4*SIN($A672*$E$5:$N$5*$E$6:$N$6+2*PI()*$E$3:$N$3))","v":0.18693077221599527}]
[4.2160173411175181,{"$f":"SIN($A673+2*PI()*$F$2)+$E$2*SUM($E$4:$N$4*SIN($A673*$E$5:$N$5*$E$6:$N$6+2*PI()*$E$3:$N$3))","v":0.31815701033047733}]
[4.2223005264246973,{"$f":"SIN($A674+2*PI()*$F$2)+$E$2*SUM($E$4:$N$4*SIN($A674*$E$5:$N$5*$E$6:$N$6+2*PI()*$E$3:$N$3))","v":0.29115442216976239}]
[4.2285837117318765,{"$f":"SIN($A675+2*PI()*$F$2)+$E$2*SUM($E$4:$N$4*SIN($A675*$E$5:$N$5*$E$6:$N$6+2*PI()*$E$3:$N$3))","v":-0.14046210224909236}]
[4.2348668970390557,{"$f":"SIN($A676+2*PI()*$F$2)+$E$2*SUM($E$4:$N$4*SIN($A676*$E$5:$N$5*$E$6:$N$6+2*PI()*$E$3:$N$3))","v":-0.38178452737243718}]
[4.2411500823462349,{"$f":"SIN($A677+2*PI()*$F$2)+$E$2*SUM($E$4:$N$4*SIN($A677*$E$5:$N$5*$E$6:$N$6+2*PI()*$E$3:$N$3))","v":-0.12664451360958423}]
[4.2474332676534141,{"$f":"SIN($A678+2*PI()*$F$2)+$E$2*SUM($E$4:$N$4*SIN($A678*$E$5:$N$5*$E$6:$N$6+2*PI()*$E$3:$N$3))","v":4.8600883054920815E-2}]
[{"$f":"2*PI()/1000+A678","v":4.2537164529605933},{"$f":"SIN($A679+2*PI()*$F$2)+$E$2*SUM($E$4:$N$4*SIN($A679*$E$5:$N$5*$E$6:$N$6+2*PI()*$E$3:$N$3))","v":0.16882642763232059}]
[4.2599996382677725,{"$f":"SIN($A680+2*PI()*$F$2)+$E$2*SUM($E$4:$N$4*SIN($A680*$E$5:$N$5*$E$6:$N$6+2*PI()*$E$3:$N$3))","v":0.22555725008557961}]
[4.2662828235749517,{"$f":"SIN($A681+2*PI()*$F$2)+$E$2*SUM($E$4:$N$4*SIN($A681*$E$5:$N$5*$E$6:$N$6+2*PI()*$E$3:$N$3))","v":-3.4009000810158417E-2}]
[4.2725660088821309,{"$f":"SIN($A682+2*PI()*$F$2)+$E$2*SUM($E$4:$N$4*SIN($A682*$E$5:$N$5*$E$6:$N$6+2*PI()*$E$3:$N$3))","v":-0.17341990404444549}]
[4.2788491941893101,{"$f":"SIN($A683+2*PI()*$F$2)+$E$2*SUM($E$4:$N$4*SIN($A683*$E$5:$N$5*$E$6:$N$6+2*PI()*$E$3:$N$3))","v":-0.212232082755868}]
[4.2851323794964893,{"$f":"SIN($A684+2*PI()*$F$2)+$E$2*SUM($E$4:$N$4*SIN($A684*$E$5:$N$5*$E$6:$N$6+2*PI()*$E$3:$N$3))","v":-0.4321095889744449}]
[4.2914155648036685,{"$f":"SIN($A685+2*PI()*$F$2)+$E$2*SUM($E$4:$N$4*SIN($A685*$E$5:$N$5*$E$6:$N$6+2*PI()*$E$3:$N$3))","v":-0.33853952676592836}]
[4.2976987501108477,{"$f":"SIN($A686+2*PI()*$F$2)+$E$2*SUM($E$4:$N$4*SIN($A686*$E$5:$N$5*$E$6:$N$6+2*PI()*$E$3:$N$3))","v":-3.1900395894125688E-2}]
[4.3039819354180269,{"$f":"SIN($A687+2*PI()*$F$2)+$E$2*SUM($E$4:$N$4*SIN($A687*$E$5:$N$5*$E$6:$N$6+2*PI()*$E$3:$N$3))","v":7.4062191523857745E-3}]
[4.3102651207252061,{"$f":"SIN($A688+2*PI()*$F$2)+$E$2*SUM($E$4:$N$4*SIN($A688*$E$5:$N$5*$E$6:$N$6+2*PI()*$E$3:$N$3))","v":-5.514808393929102E-2}]
[4.3165483060323853,{"$f":"SIN($A689+2*PI()*$F$2)+$E$2*SUM($E$4:$N$4*SIN($A689*$E$5:$N$5*$E$6:$N$6+2*PI()*$E$3:$N$3))","v":-0.35339611920264952}]
[4.3228314913395645,{"$f":"SIN($A690+2*PI()*$F$2)+$E$2*SUM($E$4:$N$4*SIN($A690*$E$5:$N$5*$E$6:$N$6+2*PI()*$E$3:$N$3))","v":-0.75201414756879315}]
[4.3291146766467437,{"$f":"SIN($A691+2*PI()*$F$2)+$E$2*SUM($E$4:$N$4*SIN($A691*$E$5:$N$5*$E$6:$N$6+2*PI()*$E$3:$N$3))","v":-0.59692659274335413}]
[4.3353978619539228,{"$f":"SIN($A692+2*PI()*$F$2)+$E$2*SUM($E$4:$N$4*SIN($A692*$E$5:$N$5*$E$6:$N$6+2*PI()*$E$3:$N$3))","v":-0.25516626353564292}]
[4.341681047261102,{"$f":"SIN($A693+2*PI()*$F$2)+$E$2*SUM($E$4:$N$4*SIN($A693*$E$5:$N$5*$E$6:$N$6+2*PI()*$E$3:$N$3))","v":-0.17324458012295477}]
[4.3479642325682812,{"$f":"SIN($A694+2*PI()*$F$2)+$E$2*SUM($E$4:$N$4*SIN($A694*$E$5:$N$5*$E$6:$N$6+2*PI()*$E$3:$N$3))","v":-0.13326003894522587}]
[4.3542474178754604,{"$f":"SIN($A695+2*PI()*$F$2)+$E$2*SUM($E$4:$N$4*SIN($A695*$E$5:$N$5*$E$6:$N$6+2*PI()*$E$3:$N$3))","v":-0.32945385015426476}]
[4.3605306031826396,{"$f":"SIN($A696+2*PI()*$F$2)+$E$2*SUM($E$4:$N$4*SIN($A696*$E$5:$N$5*$E$6:$N$6+2*PI()*$E$3:$N$3))","v":-0.60295036138597824}]
[4.3668137884898188,{"$f":"SIN($A697+2*PI()*$F$2)+$E$2*SUM($E$4:$N$4*SIN($A697*$E$5:$N$5*$E$6:$N$6+2*PI()*$E$3:$N$3))","v":-0.54511496173554541}]
[4.373096973796998,{"$f":"SIN($A698+2*PI()*$F$2)+$E$2*SUM($E$4:$N$4*SIN($A698*$E$5:$N$5*$E$6:$N$6+2*PI()*$E$3:$N$3))","v":-0.55703823447919432}]
[4.3793801591041772,{"$f":"SIN($A699+2*PI()*$F$2)+$E$2*SUM($E$4:$N$4*SIN($A699*$E$5:$N$5*$E$6:$N$6+2*PI()*$E$3:$N$3))","v":-0.58068706216819466}]
[4.3856633444113564,{"$f":"SIN($A700+2*PI()*$F$2)+$E$2*SUM($E$4:$N$4*SIN($A700*$E$5:$N$5*$E$6:$N$6+2*PI()*$E$3:$N$3))","v":-0.28338510512117165}]
[4.3919465297185356,{"$f":"SIN($A701+2*PI()*$F$2)+$E$2*SUM($E$4:$N$4*SIN($A701*$E$5:$N$5*$E$6:$N$6+2*PI()*$E$3:$N$3))","v":-0.16339079114977767}]
[4.3982297150257148,{"$f":"SIN($A702+2*PI()*$F$2)+$E$2*SUM($E$4:$N$4*SIN($A702*$E$5:$N$5*$E$6:$N$6+2*PI()*$E$3:$N$3))","v":-0.29259613489818181}]
[4.404512900332894,{"$f":"SIN($A703+2*PI()*$F$2)+$E$2*SUM($E$4:$N$4*SIN($A703*$E$5:$N$5*$E$6:$N$6+2*PI()*$E$3:$N$3))","v":-0.46276185201023717}]
[4.4107960856400732,{"$f":"SIN($A704+2*PI()*$F$2)+$E$2*SUM($E$4:$N$4*SIN($A704*$E$5:$N$5*$E$6:$N$6+2*PI()*$E$3:$N$3))","v":-0.82356205472114818}]
[4.4170792709472524,{"$f":"SIN($A705+2*PI()*$F$2)+$E$2*SUM($E$4:$N$4*SIN($A705*$E$5:$N$5*$E$6:$N$6+2*PI()*$E$3:$N$3))","v":-0.86881705358096961}]
[4.4233624562544316,{"$f":"SIN($A706+2*PI()*$F$2)+$E$2*SUM($E$4:$N$4*SIN($A706*$E$5:$N$5*$E$6:$N$6+2*PI()*$E$3:$N$3))","v":-0.43395515192967771}]
[4.4296456415616108,{"$f":"SIN($A707+2*PI()*$F$2)+$E$2*SUM($E$4:$N$4*SIN($A707*$E$5:$N$5*$E$6:$N$6+2*PI()*$E$3:$N$3))","v":-0.24135438938484202}]
[4.43592882686879,{"$f":"SIN($A708+2*PI()*$F$2)+$E$2*SUM($E$4:$N$4*SIN($A708*$E$5:$N$5*$E$6:$N$6+2*PI()*$E$3:$N$3))","v":-0.28739863328726512}]
[4.4422120121759692,{"$f":"SIN($A709+2*PI()*$F$2)+$E$2*SUM($E$4:$N$4*SIN($A709*$E$5:$N$5*$E$6:$N$6+2*PI()*$E$3:$N$3))","v":-0.41677875200099185}]
[4.4484951974831484,{"$f":"SIN($A710+2*PI()*$F$2)+$E$2*SUM($E$4:$N$4*SIN($A710*$E$5:$N$5*$E$6:$N$6+2*PI()*$E$3:$N$3))","v":-0.74203019035472872}]
[4.4547783827903276,{"$f":"SIN($A711+2*PI()*$F$2)+$E$2*SUM($E$4:$N$4*SIN($A711*$E$5:$N$5*$E$6:$N$6+2*PI()*$E$3:$N$3))","v":-0.78176456387880422}]
[4.4610615680975068,{"$f":"SIN($A712+2*PI()*$F$2)+$E$2*SUM($E$4:$N$4*SIN($A712*$E$5:$N$5*$E$6:$N$6+2*PI()*$E$3:$N$3))","v":-0.58591210060450993}]
[4.467344753404686,{"$f":"SIN($A713+2*PI()*$F$2)+$E$2*SUM($E$4:$N$4*SIN($A713*$E$5:$N$5*$E$6:$N$6+2*PI()*$E$3:$N$3))","v":-0.59340542635493432}]
[4.4736279387118651,{"$f":"SIN($A714+2*PI()*$F$2)+$E$2*SUM($E$4:$N$4*SIN($A714*$E$5:$N$5*$E$6:$N$6+2*PI()*$E$3:$N$3))","v":-0.44325702424014429}]
[4.4799111240190443,{"$f":"SIN($A715+2*PI()*$F$2)+$E$2*SUM($E$4:$N$4*SIN($A715*$E$5:$N$5*$E$6:$N$6+2*PI()*$E$3:$N$3))","v":-0.22592423213898105}]
[4.4861943093262235,{"$f":"SIN($A716+2*PI()*$F$2)+$E$2*SUM($E$4:$N$4*SIN($A716*$E$5:$N$5*$E$6:$N$6+2*PI()*$E$3:$N$3))","v":-0.34413918983001962}]
[4.4924774946334027,{"$f":"SIN($A717+2*PI()*$F$2)+$E$2*SUM($E$4:$N$4*SIN($A717*$E$5:$N$5*$E$6:$N$6+2*PI()*$E$3:$N$3))","v":-0.47880595128896031}]
[4.4987606799405819,{"$f":"SIN($A718+2*PI()*$F$2)+$E$2*SUM($E$4:$N$4*SIN($A718*$E$5:$N$5*$E$6:$N$6+2*PI()*$E$3:$N$3))","v":-0.63894268657461062}]
[4.5050438652477611,{"$f":"SIN($A719+2*PI()*$F$2)+$E$2*SUM($E$4:$N$4*SIN($A719*$E$5:$N$5*$E$6:$N$6+2*PI()*$E$3:$N$3))","v":-0.76933995033541414}]
[4.5113270505549403,{"$f":"SIN($A720+2*PI()*$F$2)+$E$2*SUM($E$4:$N$4*SIN($A720*$E$5:$N$5*$E$6:$N$6+2*PI()*$E$3:$N$3))","v":-0.38162603787481408}]
[4.5176102358621195,{"$f":"SIN($A721+2*PI()*$F$2)+$E$2*SUM($E$4:$N$4*SIN($A721*$E$5:$N$5*$E$6:$N$6+2*PI()*$E$3:$N$3))","v":3.557793121310257E-2}]
[4.5238934211692987,{"$f":"SIN($A722+2*PI()*$F$2)+$E$2*SUM($E$4:$N$4*SIN($A722*$E$5:$N$5*$E$6:$N$6+2*PI()*$E$3:$N$3))","v":-1.5049311321365944E-3}]
[4.5301766064764779,{"$f":"SIN($A723+2*PI()*$F$2)+$E$2*SUM($E$4:$N$4*SIN($A723*$E$5:$N$5*$E$6:$N$6+2*PI()*$E$3:$N$3))","v":-0.131787827699617}]
[4.5364597917836571,{"$f":"SIN($A724+2*PI()*$F$2)+$E$2*SUM($E$4:$N$4*SIN($A724*$E$5:$N$5*$E$6:$N$6+2*PI()*$E$3:$N$3))","v":-0.36588901298352344}]
[4.5427429770908363,{"$f":"SIN($A725+2*PI()*$F$2)+$E$2*SUM($E$4:$N$4*SIN($A725*$E$5:$N$5*$E$6:$N$6+2*PI()*$E$3:$N$3))","v":-0.5133464375725254}]
[4.5490261623980155,{"$f":"SIN($A726+2*PI()*$F$2)+$E$2*SUM($E$4:$N$4*SIN($A726*$E$5:$N$5*$E$6:$N$6+2*PI()*$E$3:$N$3))","v":-0.2239651713340555}]
[4.5553093477051947,{"$f":"SIN($A727+2*PI()*$F$2)+$E$2*SUM($E$4:$N$4*SIN($A727*$E$5:$N$5*$E$6:$N$6+2*PI()*$E$3:$N$3))","v":-2.9502607812959131E-2}]
[4.5615925330123739,{"$f":"SIN($A728+2*PI()*$F$2)+$E$2*SUM($E$4:$N$4*SIN($A728*$E$5:$N$5*$E$6:$N$6+2*PI()*$E$3:$N$3))","v":-2.0791166913717241E-2}]
[4.5678757183195531,{"$f":"SIN($A729+2*PI()*$F$2)+$E$2*SUM($E$4:$N$4*SIN($A729*$E$5:$N$5*$E$6:$N$6+2*PI()*$E$3:$N$3))","v":0.14362107237916683}]
[4.5741589036267323,{"$f":"SIN($A730+2*PI()*$F$2)+$E$2*SUM($E$4:$N$4*SIN($A730*$E$5:$N$5*$E$6:$N$6+2*PI()*$E$3:$N$3))","v":7.7169168714038033E-2}]
[4.5804420889339115,{"$f":"SIN($A731+2*PI()*$F$2)+$E$2*SUM($E$4:$N$4*SIN($A731*$E$5:$N$5*$E$6:$N$6+2*PI()*$E$3:$N$3))","v":-0.17295075130089838}]
[4.5867252742410907,{"$f":"SIN($A732+2*PI()*$F$2)+$E$2*SUM($E$4:$N$4*SIN($A732*$E$5:$N$5*$E$6:$N$6+2*PI()*$E$3:$N$3))","v":-0.28214164798688995}]
[4.5930084595482699,{"$f":"SIN($A733+2*PI()*$F$2)+$E$2*SUM($E$4:$N$4*SIN($A733*$E$5:$N$5*$E$6:$N$6+2*PI()*$E$3:$N$3))","v":-0.44153703338082395}]
[4.5992916448554491,{"$f":"SIN($A734+2*PI()*$F$2)+$E$2*SUM($E$4:$N$4*SIN($A734*$E$5:$N$5*$E$6:$N$6+2*PI()*$E$3:$N$3))","v":-0.33139574823394047}]
[4.6055748301626283,{"$f":"SIN($A735+2*PI()*$F$2)+$E$2*SUM($E$4:$N$4*SIN($A735*$E$5:$N$5*$E$6:$N$6+2*PI()*$E$3:$N$3))","v":9.1712638601289975E-2}]
[4.6118580154698074,{"$f":"SIN($A736+2*PI()*$F$2)+$E$2*SUM($E$4:$N$4*SIN($A736*$E$5:$N$5*$E$6:$N$6+2*PI()*$E$3:$N$3))","v":8.5431067656807247E-2}]
[4.6181412007769866,{"$f":"SIN($A737+2*PI()*$F$2)+$E$2*SUM($E$4:$N$4*SIN($A737*$E$5:$N$5*$E$6:$N$6+2*PI()*$E$3:$N$3))","v":-0.23794200436593416}]
[4.6244243860841658,{"$f":"SIN($A738+2*PI()*$F$2)+$E$2*SUM($E$4:$N$4*SIN($A738*$E$5:$N$5*$E$6:$N$6+2*PI()*$E$3:$N$3))","v":-0.51932670549626714}]
[4.630707571391345,{"$f":"SIN($A739+2*PI()*$F$2)+$E$2*SUM($E$4:$N$4*SIN($A739*$E$5:$N$5*$E$6:$N$6+2*PI()*$E$3:$N$3))","v":-0.80821312647440446}]
[4.6369907566985242,{"$f":"SIN($A740+2*PI()*$F$2)+$E$2*SUM($E$4:$N$4*SIN($A740*$E$5:$N$5*$E$6:$N$6+2*PI()*$E$3:$N$3))","v":-0.718344698325183}]
[4.6432739420057034,{"$f":"SIN($A741+2*PI()*$F$2)+$E$2*SUM($E$4:$N$4*SIN($A741*$E$5:$N$5*$E$6:$N$6+2*PI()*$E$3:$N$3))","v":-0.42168438698277444}]
[4.6495571273128826,{"$f":"SIN($A742+2*PI()*$F$2)+$E$2*SUM($E$4:$N$4*SIN($A742*$E$5:$N$5*$E$6:$N$6+2*PI()*$E$3:$N$3))","v":-0.48855744622325614}]
[{"$f":"2*PI()/1000+A742","v":4.6558403126200618},{"$f":"SIN($A743+2*PI()*$F$2)+$E$2*SUM($E$4:$N$4*SIN($A743*$E$5:$N$5*$E$6:$N$6+2*PI()*$E$3:$N$3))","v":-0.57191599243701852}]
[4.662123497927241,{"$f":"SIN($A744+2*PI()*$F$2)+$E$2*SUM($E$4:$N$4*SIN($A744*$E$5:$N$5*$E$6:$N$6+2*PI()*$E$3:$N$3))","v":-0.62115886610532378}]
[4.6684066832344202,{"$f":"SIN($A745+2*PI()*$F$2)+$E$2*SUM($E$4:$N$4*SIN($A745*$E$5:$N$5*$E$6:$N$6+2*PI()*$E$3:$N$3))","v":-0.91611266136467828}]
[4.6746898685415994,{"$f":"SIN($A746+2*PI()*$F$2)+$E$2*SUM($E$4:$N$4*SIN($A746*$E$5:$N$5*$E$6:$N$6+2*PI()*$E$3:$N$3))","v":-1.0620473504050501}]
[4.6809730538487786,{"$f":"SIN($A747+2*PI()*$F$2)+$E$2*SUM($E$4:$N$4*SIN($A747*$E$5:$N$5*$E$6:$N$6+2*PI()*$E$3:$N$3))","v":-1.0793126121380641}]
[4.6872562391559578,{"$f":"SIN($A748+2*PI()*$F$2)+$E$2*SUM($E$4:$N$4*SIN($A748*$E$5:$N$5*$E$6:$N$6+2*PI()*$E$3:$N$3))","v":-1.0855755524167687}]
[4.693539424463137,{"$f":"SIN($A749+2*PI()*$F$2)+$E$2*SUM($E$4:$N$4*SIN($A749*$E$5:$N$5*$E$6:$N$6+2*PI()*$E$3:$N$3))","v":-0.73846688559270546}]
[4.6998226097703162,{"$f":"SIN($A750+2*PI()*$F$2)+$E$2*SUM($E$4:$N$4*SIN($A750*$E$5:$N$5*$E$6:$N$6+2*PI()*$E$3:$N$3))","v":-0.52249189412614372}]
[4.7061057950774954,{"$f":"SIN($A751+2*PI()*$F$2)+$E$2*SUM($E$4:$N$4*SIN($A751*$E$5:$N$5*$E$6:$N$6+2*PI()*$E$3:$N$3))","v":-0.82428416955149086}]
[4.7123889803846746,{"$f":"SIN($A752+2*PI()*$F$2)+$E$2*SUM($E$4:$N$4*SIN($A752*$E$5:$N$5*$E$6:$N$6+2*PI()*$E$3:$N$3))","v":-1.0996726152288627}]
[4.7186721656918538,{"$f":"SIN($A753+2*PI()*$F$2)+$E$2*SUM($E$4:$N$4*SIN($A753*$E$5:$N$5*$E$6:$N$6+2*PI()*$E$3:$N$3))","v":-1.2530820410874757}]
[4.724955350999033,{"$f":"SIN($A754+2*PI()*$F$2)+$E$2*SUM($E$4:$N$4*SIN($A754*$E$5:$N$5*$E$6:$N$6+2*PI()*$E$3:$N$3))","v":-1.2011700511894341}]
[4.7312385363062122,{"$f":"SIN($A755+2*PI()*$F$2)+$E$2*SUM($E$4:$N$4*SIN($A755*$E$5:$N$5*$E$6:$N$6+2*PI()*$E$3:$N$3))","v":-0.7473718172356949}]
[4.7375217216133914,{"$f":"SIN($A756+2*PI()*$F$2)+$E$2*SUM($E$4:$N$4*SIN($A756*$E$5:$N$5*$E$6:$N$6+2*PI()*$E$3:$N$3))","v":-0.52870786935105063}]
[4.7438049069205706,{"$f":"SIN($A757+2*PI()*$F$2)+$E$2*SUM($E$4:$N$4*SIN($A757*$E$5:$N$5*$E$6:$N$6+2*PI()*$E$3:$N$3))","v":-0.66360388233123158}]
[4.7500880922277497,{"$f":"SIN($A758+2*PI()*$F$2)+$E$2*SUM($E$4:$N$4*SIN($A758*$E$5:$N$5*$E$6:$N$6+2*PI()*$E$3:$N$3))","v":-0.67501367767579601}]
[4.7563712775349289,{"$f":"SIN($A759+2*PI()*$F$2)+$E$2*SUM($E$4:$N$4*SIN($A759*$E$5:$N$5*$E$6:$N$6+2*PI()*$E$3:$N$3))","v":-0.79465179411836862}]
[4.7626544628421081,{"$f":"SIN($A760+2*PI()*$F$2)+$E$2*SUM($E$4:$N$4*SIN($A760*$E$5:$N$5*$E$6:$N$6+2*PI()*$E$3:$N$3))","v":-0.93476034679178921}]
[4.7689376481492873,{"$f":"SIN($A761+2*PI()*$F$2)+$E$2*SUM($E$4:$N$4*SIN($A761*$E$5:$N$5*$E$6:$N$6+2*PI()*$E$3:$N$3))","v":-0.79531969679910286}]
[4.7752208334564665,{"$f":"SIN($A762+2*PI()*$F$2)+$E$2*SUM($E$4:$N$4*SIN($A762*$E$5:$N$5*$E$6:$N$6+2*PI()*$E$3:$N$3))","v":-0.70344970260317163}]
[4.7815040187636457,{"$f":"SIN($A763+2*PI()*$F$2)+$E$2*SUM($E$4:$N$4*SIN($A763*$E$5:$N$5*$E$6:$N$6+2*PI()*$E$3:$N$3))","v":-0.50898480748310748}]
[4.7877872040708249,{"$f":"SIN($A764+2*PI()*$F$2)+$E$2*SUM($E$4:$N$4*SIN($A764*$E$5:$N$5*$E$6:$N$6+2*PI()*$E$3:$N$3))","v":-0.17116807382888743}]
[4.7940703893780041,{"$f":"SIN($A765+2*PI()*$F$2)+$E$2*SUM($E$4:$N$4*SIN($A765*$E$5:$N$5*$E$6:$N$6+2*PI()*$E$3:$N$3))","v":-0.31945842651023104}]
[4.8003535746851833,{"$f":"SIN($A766+2*PI()*$F$2)+$E$2*SUM($E$4:$N$4*SIN($A766*$E$5:$N$5*$E$6:$N$6+2*PI()*$E$3:$N$3))","v":-0.6940235540965729}]
[4.8066367599923625,{"$f":"SIN($A767+2*PI()*$F$2)+$E$2*SUM($E$4:$N$4*SIN($A767*$E$5:$N$5*$E$6:$N$6+2*PI()*$E$3:$N$3))","v":-0.81459870704387427}]
[4.8129199452995417,{"$f":"SIN($A768+2*PI()*$F$2)+$E$2*SUM($E$4:$N$4*SIN($A768*$E$5:$N$5*$E$6:$N$6+2*PI()*$E$3:$N$3))","v":-0.8082334315658477}]
[4.8192031306067209,{"$f":"SIN($A769+2*PI()*$F$2)+$E$2*SUM($E$4:$N$4*SIN($A769*$E$5:$N$5*$E$6:$N$6+2*PI()*$E$3:$N$3))","v":-0.48295352882799003}]
[4.8254863159139001,{"$f":"SIN($A770+2*PI()*$F$2)+$E$2*SUM($E$4:$N$4*SIN($A770*$E$5:$N$5*$E$6:$N$6+2*PI()*$E$3:$N$3))","v":-0.11300979695882318}]
[4.8317695012210793,{"$f":"SIN($A771+2*PI()*$F$2)+$E$2*SUM($E$4:$N$4*SIN($A771*$E$5:$N$5*$E$6:$N$6+2*PI()*$E$3:$N$3))","v":-0.27850717176165318}]
[4.8380526865282585,{"$f":"SIN($A772+2*PI()*$F$2)+$E$2*SUM($E$4:$N$4*SIN($A772*$E$5:$N$5*$E$6:$N$6+2*PI()*$E$3:$N$3))","v":-0.52178342495046193}]
[4.8443358718354377,{"$f":"SIN($A773+2*PI()*$F$2)+$E$2*SUM($E$4:$N$4*SIN($A773*$E$5:$N$5*$E$6:$N$6+2*PI()*$E$3:$N$3))","v":-0.61270466312389404}]
[4.8506190571426169,{"$f":"SIN($A774+2*PI()*$F$2)+$E$2*SUM($E$4:$N$4*SIN($A774*$E$5:$N$5*$E$6:$N$6+2*PI()*$E$3:$N$3))","v":-0.78609250976972223}]
[4.8569022424497961,{"$f":"SIN($A775+2*PI()*$F$2)+$E$2*SUM($E$4:$N$4*SIN($A775*$E$5:$N$5*$E$6:$N$6+2*PI()*$E$3:$N$3))","v":-0.71390047326042816}]
[4.8631854277569753,{"$f":"SIN($A776+2*PI()*$F$2)+$E$2*SUM($E$4:$N$4*SIN($A776*$E$5:$N$5*$E$6:$N$6+2*PI()*$E$3:$N$3))","v":-0.52404887033512271}]
[4.8694686130641545,{"$f":"SIN($A777+2*PI()*$F$2)+$E$2*SUM($E$4:$N$4*SIN($A777*$E$5:$N$5*$E$6:$N$6+2*PI()*$E$3:$N$3))","v":-0.48793981273849529}]
[4.8757517983713337,{"$f":"SIN($A778+2*PI()*$F$2)+$E$2*SUM($E$4:$N$4*SIN($A778*$E$5:$N$5*$E$6:$N$6+2*PI()*$E$3:$N$3))","v":-0.29278258526613782}]
[4.8820349836785129,{"$f":"SIN($A779+2*PI()*$F$2)+$E$2*SUM($E$4:$N$4*SIN($A779*$E$5:$N$5*$E$6:$N$6+2*PI()*$E$3:$N$3))","v":-0.28701303482985252}]
[4.888318168985692,{"$f":"SIN($A780+2*PI()*$F$2)+$E$2*SUM($E$4:$N$4*SIN($A780*$E$5:$N$5*$E$6:$N$6+2*PI()*$E$3:$N$3))","v":-0.71644995726507932}]
[4.8946013542928712,{"$f":"SIN($A781+2*PI()*$F$2)+$E$2*SUM($E$4:$N$4*SIN($A781*$E$5:$N$5*$E$6:$N$6+2*PI()*$E$3:$N$3))","v":-0.93561188862400968}]
[4.9008845396000504,{"$f":"SIN($A782+2*PI()*$F$2)+$E$2*SUM($E$4:$N$4*SIN($A782*$E$5:$N$5*$E$6:$N$6+2*PI()*$E$3:$N$3))","v":-0.8825052525831093}]
[4.9071677249072296,{"$f":"SIN($A783+2*PI()*$F$2)+$E$2*SUM($E$4:$N$4*SIN($A783*$E$5:$N$5*$E$6:$N$6+2*PI()*$E$3:$N$3))","v":-0.67649272137608607}]
[4.9134509102144088,{"$f":"SIN($A784+2*PI()*$F$2)+$E$2*SUM($E$4:$N$4*SIN($A784*$E$5:$N$5*$E$6:$N$6+2*PI()*$E$3:$N$3))","v":-0.25505250886147074}]
[4.919734095521588,{"$f":"SIN($A785+2*PI()*$F$2)+$E$2*SUM($E$4:$N$4*SIN($A785*$E$5:$N$5*$E$6:$N$6+2*PI()*$E$3:$N$3))","v":-0.23529831594746814}]
[4.9260172808287672,{"$f":"SIN($A786+2*PI()*$F$2)+$E$2*SUM($E$4:$N$4*SIN($A786*$E$5:$N$5*$E$6:$N$6+2*PI()*$E$3:$N$3))","v":-0.6319796147088792}]
[4.9323004661359464,{"$f":"SIN($A787+2*PI()*$F$2)+$E$2*SUM($E$4:$N$4*SIN($A787*$E$5:$N$5*$E$6:$N$6+2*PI()*$E$3:$N$3))","v":-0.79293620474478077}]
[4.9385836514431256,{"$f":"SIN($A788+2*PI()*$F$2)+$E$2*SUM($E$4:$N$4*SIN($A788*$E$5:$N$5*$E$6:$N$6+2*PI()*$E$3:$N$3))","v":-0.86974325279562736}]
[4.9448668367503048,{"$f":"SIN($A789+2*PI()*$F$2)+$E$2*SUM($E$4:$N$4*SIN($A789*$E$5:$N$5*$E$6:$N$6+2*PI()*$E$3:$N$3))","v":-0.87112944991655183}]
[4.951150022057484,{"$f":"SIN($A790+2*PI()*$F$2)+$E$2*SUM($E$4:$N$4*SIN($A790*$E$5:$N$5*$E$6:$N$6+2*PI()*$E$3:$N$3))","v":-0.61676140112613687}]
[4.9574332073646632,{"$f":"SIN($A791+2*PI()*$F$2)+$E$2*SUM($E$4:$N$4*SIN($A791*$E$5:$N$5*$E$6:$N$6+2*PI()*$E$3:$N$3))","v":-0.54634582848520119}]
[4.9637163926718424,{"$f":"SIN($A792+2*PI()*$F$2)+$E$2*SUM($E$4:$N$4*SIN($A792*$E$5:$N$5*$E$6:$N$6+2*PI()*$E$3:$N$3))","v":-0.5588723701213838}]
[4.9699995779790216,{"$f":"SIN($A793+2*PI()*$F$2)+$E$2*SUM($E$4:$N$4*SIN($A793*$E$5:$N$5*$E$6:$N$6+2*PI()*$E$3:$N$3))","v":-0.48465127774190631}]
[4.9762827632862008,{"$f":"SIN($A794+2*PI()*$F$2)+$E$2*SUM($E$4:$N$4*SIN($A794*$E$5:$N$5*$E$6:$N$6+2*PI()*$E$3:$N$3))","v":-0.79164260488900129}]
[4.98256594859338,{"$f":"SIN($A795+2*PI()*$F$2)+$E$2*SUM($E$4:$N$4*SIN($A795*$E$5:$N$5*$E$6:$N$6+2*PI()*$E$3:$N$3))","v":-1.1491637532033274}]
[4.9888491339005592,{"$f":"SIN($A796+2*PI()*$F$2)+$E$2*SUM($E$4:$N$4*SIN($A796*$E$5:$N$5*$E$6:$N$6+2*PI()*$E$3:$N$3))","v":-1.095594147241338}]
[4.9951323192077384,{"$f":"SIN($A797+2*PI()*$F$2)+$E$2*SUM($E$4:$N$4*SIN($A797*$E$5:$N$5*$E$6:$N$6+2*PI()*$E$3:$N$3))","v":-0.92851716559952635}]
[5.0014155045149176,{"$f":"SIN($A798+2*PI()*$F$2)+$E$2*SUM($E$4:$N$4*SIN($A798*$E$5:$N$5*$E$6:$N$6+2*PI()*$E$3:$N$3))","v":-0.6299201818991399}]
[5.0076986898220968,{"$f":"SIN($A799+2*PI()*$F$2)+$E$2*SUM($E$4:$N$4*SIN($A799*$E$5:$N$5*$E$6:$N$6+2*PI()*$E$3:$N$3))","v":-0.45267448988215075}]
[5.013981875129276,{"$f":"SIN($A800+2*PI()*$F$2)+$E$2*SUM($E$4:$N$4*SIN($A800*$E$5:$N$5*$E$6:$N$6+2*PI()*$E$3:$N$3))","v":-0.85152203676399918}]
[5.0202650604364552,{"$f":"SIN($A801+2*PI()*$F$2)+$E$2*SUM($E$4:$N$4*SIN($A801*$E$5:$N$5*$E$6:$N$6+2*PI()*$E$3:$N$3))","v":-1.2180118605886614}]
[5.0265482457436343,{"$f":"SIN($A802+2*PI()*$F$2)+$E$2*SUM($E$4:$N$4*SIN($A802*$E$5:$N$5*$E$6:$N$6+2*PI()*$E$3:$N$3))","v":-1.2203694231173192}]
[5.0328314310508135,{"$f":"SIN($A803+2*PI()*$F$2)+$E$2*SUM($E$4:$N$4*SIN($A803*$E$5:$N$5*$E$6:$N$6+2*PI()*$E$3:$N$3))","v":-1.1842780179541799}]
[5.0391146163579927,{"$f":"SIN($A804+2*PI()*$F$2)+$E$2*SUM($E$4:$N$4*SIN($A804*$E$5:$N$5*$E$6:$N$6+2*PI()*$E$3:$N$3))","v":-0.94487774486233367}]
[5.0453978016651719,{"$f":"SIN($A805+2*PI()*$F$2)+$E$2*SUM($E$4:$N$4*SIN($A805*$E$5:$N$5*$E$6:$N$6+2*PI()*$E$3:$N$3))","v":-0.71705649871549193}]
[5.0516809869723511,{"$f":"SIN($A806+2*PI()*$F$2)+$E$2*SUM($E$4:$N$4*SIN($A806*$E$5:$N$5*$E$6:$N$6+2*PI()*$E$3:$N$3))","v":-0.80477021212247357}]
[{"$f":"2*PI()/1000+A806","v":5.0579641722795303},{"$f":"SIN($A807+2*PI()*$F$2)+$E$2*SUM($E$4:$N$4*SIN($A807*$E$5:$N$5*$E$6:$N$6+2*PI()*$E$3:$N$3))","v":-0.79710534632485541}]
[5.0642473575867095,{"$f":"SIN($A808+2*PI()*$F$2)+$E$2*SUM($E$4:$N$4*SIN($A808*$E$5:$N$5*$E$6:$N$6+2*PI()*$E$3:$N$3))","v":-0.86178758366210839}]
[5.0705305428938887,{"$f":"SIN($A809+2*PI()*$F$2)+$E$2*SUM($E$4:$N$4*SIN($A809*$E$5:$N$5*$E$6:$N$6+2*PI()*$E$3:$N$3))","v":-1.179557757344277}]
[5.0768137282010679,{"$f":"SIN($A810+2*PI()*$F$2)+$E$2*SUM($E$4:$N$4*SIN($A810*$E$5:$N$5*$E$6:$N$6+2*PI()*$E$3:$N$3))","v":-1.1473588324892201}]
[5.0830969135082471,{"$f":"SIN($A811+2*PI()*$F$2)+$E$2*SUM($E$4:$N$4*SIN($A811*$E$5:$N$5*$E$6:$N$6+2*PI()*$E$3:$N$3))","v":-0.83460987645497187}]
[5.0893800988154263,{"$f":"SIN($A812+2*PI()*$F$2)+$E$2*SUM($E$4:$N$4*SIN($A812*$E$5:$N$5*$E$6:$N$6+2*PI()*$E$3:$N$3))","v":-0.5450078305730427}]
[5.0956632841226055,{"$f":"SIN($A813+2*PI()*$F$2)+$E$2*SUM($E$4:$N$4*SIN($A813*$E$5:$N$5*$E$6:$N$6+2*PI()*$E$3:$N$3))","v":-0.23192904923525748}]
[5.1019464694297847,{"$f":"SIN($A814+2*PI()*$F$2)+$E$2*SUM($E$4:$N$4*SIN($A814*$E$5:$N$5*$E$6:$N$6+2*PI()*$E$3:$N$3))","v":-0.35976692280243161}]
[5.1082296547369639,{"$f":"SIN($A815+2*PI()*$F$2)+$E$2*SUM($E$4:$N$4*SIN($A815*$E$5:$N$5*$E$6:$N$6+2*PI()*$E$3:$N$3))","v":-0.79872246794626667}]
[5.1145128400441431,{"$f":"SIN($A816+2*PI()*$F$2)+$E$2*SUM($E$4:$N$4*SIN($A816*$E$5:$N$5*$E$6:$N$6+2*PI()*$E$3:$N$3))","v":-0.80483673035878855}]
[5.1207960253513223,{"$f":"SIN($A817+2*PI()*$F$2)+$E$2*SUM($E$4:$N$4*SIN($A817*$E$5:$N$5*$E$6:$N$6+2*PI()*$E$3:$N$3))","v":-0.58917112770679247}]
[5.1270792106585015,{"$f":"SIN($A818+2*PI()*$F$2)+$E$2*SUM($E$4:$N$4*SIN($A818*$E$5:$N$5*$E$6:$N$6+2*PI()*$E$3:$N$3))","v":-0.35455038267812417}]
[5.1333623959656807,{"$f":"SIN($A819+2*PI()*$F$2)+$E$2*SUM($E$4:$N$4*SIN($A819*$E$5:$N$5*$E$6:$N$6+2*PI()*$E$3:$N$3))","v":-2.4556588158575865E-2}]
[5.1396455812728599,{"$f":"SIN($A820+2*PI()*$F$2)+$E$2*SUM($E$4:$N$4*SIN($A820*$E$5:$N$5*$E$6:$N$6+2*PI()*$E$3:$N$3))","v":-3.1641352564328762E-2}]
[5.1459287665800391,{"$f":"SIN($A821+2*PI()*$F$2)+$E$2*SUM($E$4:$N$4*SIN($A821*$E$5:$N$5*$E$6:$N$6+2*PI()*$E$3:$N$3))","v":-0.19681718048085428}]
[5.1522119518872183,{"$f":"SIN($A822+2*PI()*$F$2)+$E$2*SUM($E$4:$N$4*SIN($A822*$E$5:$N$5*$E$6:$N$6+2*PI()*$E$3:$N$3))","v":-0.18137856364181448}]
[5.1584951371943975,{"$f":"SIN($A823+2*PI()*$F$2)+$E$2*SUM($E$4:$N$4*SIN($A823*$E$5:$N$5*$E$6:$N$6+2*PI()*$E$3:$N$3))","v":-0.36671380642482776}]
[5.1647783225015766,{"$f":"SIN($A824+2*PI()*$F$2)+$E$2*SUM($E$4:$N$4*SIN($A824*$E$5:$N$5*$E$6:$N$6+2*PI()*$E$3:$N$3))","v":-0.49339387905701904}]
[5.1710615078087558,{"$f":"SIN($A825+2*PI()*$F$2)+$E$2*SUM($E$4:$N$4*SIN($A825*$E$5:$N$5*$E$6:$N$6+2*PI()*$E$3:$N$3))","v":-0.21941931571265794}]
[5.177344693115935,{"$f":"SIN($A826+2*PI()*$F$2)+$E$2*SUM($E$4:$N$4*SIN($A826*$E$5:$N$5*$E$6:$N$6+2*PI()*$E$3:$N$3))","v":5.9072582463086665E-3}]
[5.1836278784231142,{"$f":"SIN($A827+2*PI()*$F$2)+$E$2*SUM($E$4:$N$4*SIN($A827*$E$5:$N$5*$E$6:$N$6+2*PI()*$E$3:$N$3))","v":0.14499839074625642}]
[5.1899110637302934,{"$f":"SIN($A828+2*PI()*$F$2)+$E$2*SUM($E$4:$N$4*SIN($A828*$E$5:$N$5*$E$6:$N$6+2*PI()*$E$3:$N$3))","v":9.7911324012626033E-2}]
[5.1961942490374726,{"$f":"SIN($A829+2*PI()*$F$2)+$E$2*SUM($E$4:$N$4*SIN($A829*$E$5:$N$5*$E$6:$N$6+2*PI()*$E$3:$N$3))","v":-0.41919579183404432}]
[5.2024774343446518,{"$f":"SIN($A830+2*PI()*$F$2)+$E$2*SUM($E$4:$N$4*SIN($A830*$E$5:$N$5*$E$6:$N$6+2*PI()*$E$3:$N$3))","v":-0.72819368807481955}]
[5.208760619651831,{"$f":"SIN($A831+2*PI()*$F$2)+$E$2*SUM($E$4:$N$4*SIN($A831*$E$5:$N$5*$E$6:$N$6+2*PI()*$E$3:$N$3))","v":-0.53669541967150824}]
[5.2150438049590102,{"$f":"SIN($A832+2*PI()*$F$2)+$E$2*SUM($E$4:$N$4*SIN($A832*$E$5:$N$5*$E$6:$N$6+2*PI()*$E$3:$N$3))","v":-0.3550393234237898}]
[5.2213269902661894,{"$f":"SIN($A833+2*PI()*$F$2)+$E$2*SUM($E$4:$N$4*SIN($A833*$E$5:$N$5*$E$6:$N$6+2*PI()*$E$3:$N$3))","v":-0.16327888714599492}]
[5.2276101755733686,{"$f":"SIN($A834+2*PI()*$F$2)+$E$2*SUM($E$4:$N$4*SIN($A834*$E$5:$N$5*$E$6:$N$6+2*PI()*$E$3:$N$3))","v":-0.14182975928097152}]
[5.2338933608805478,{"$f":"SIN($A835+2*PI()*$F$2)+$E$2*SUM($E$4:$N$4*SIN($A835*$E$5:$N$5*$E$6:$N$6+2*PI()*$E$3:$N$3))","v":-0.49415424503411298}]
[5.240176546187727,{"$f":"SIN($A836+2*PI()*$F$2)+$E$2*SUM($E$4:$N$4*SIN($A836*$E$5:$N$5*$E$6:$N$6+2*PI()*$E$3:$N$3))","v":-0.66922363514735927}]
[5.2464597314949062,{"$f":"SIN($A837+2*PI()*$F$2)+$E$2*SUM($E$4:$N$4*SIN($A837*$E$5:$N$5*$E$6:$N$6+2*PI()*$E$3:$N$3))","v":-0.72736598794165597}]
[5.2527429168020854,{"$f":"SIN($A838+2*PI()*$F$2)+$E$2*SUM($E$4:$N$4*SIN($A838*$E$5:$N$5*$E$6:$N$6+2*PI()*$E$3:$N$3))","v":-0.91965779044441887}]
[5.2590261021092646,{"$f":"SIN($A839+2*PI()*$F$2)+$E$2*SUM($E$4:$N$4*SIN($A839*$E$5:$N$5*$E$6:$N$6+2*PI()*$E$3:$N$3))","v":-0.78432800134886516}]
[5.2653092874164438,{"$f":"SIN($A840+2*PI()*$F$2)+$E$2*SUM($E$4:$N$4*SIN($A840*$E$5:$N$5*$E$6:$N$6+2*PI()*$E$3:$N$3))","v":-0.50226135859453169}]
[5.271592472723623,{"$f":"SIN($A841+2*PI()*$F$2)+$E$2*SUM($E$4:$N$4*SIN($A841*$E$5:$N$5*$E$6:$N$6+2*PI()*$E$3:$N$3))","v":-0.43839696938903772}]
[5.2778756580308022,{"$f":"SIN($A842+2*PI()*$F$2)+$E$2*SUM($E$4:$N$4*SIN($A842*$E$5:$N$5*$E$6:$N$6+2*PI()*$E$3:$N$3))","v":-0.42905990805503297}]
[5.2841588433379814,{"$f":"SIN($A843+2*PI()*$F$2)+$E$2*SUM($E$4:$N$4*SIN($A843*$E$5:$N$5*$E$6:$N$6+2*PI()*$E$3:$N$3))","v":-0.73660440236634928}]
[5.2904420286451606,{"$f":"SIN($A844+2*PI()*$F$2)+$E$2*SUM($E$4:$N$4*SIN($A844*$E$5:$N$5*$E$6:$N$6+2*PI()*$E$3:$N$3))","v":-1.1615068208683041}]
[5.2967252139523398,{"$f":"SIN($A845+2*PI()*$F$2)+$E$2*SUM($E$4:$N$4*SIN($A845*$E$5:$N$5*$E$6:$N$6+2*PI()*$E$3:$N$3))","v":-1.0095953113903595}]
[5.3030083992595189,{"$f":"SIN($A846+2*PI()*$F$2)+$E$2*SUM($E$4:$N$4*SIN($A846*$E$5:$N$5*$E$6:$N$6+2*PI()*$E$3:$N$3))","v":-0.64487825097970719}]
[5.3092915845666981,{"$f":"SIN($A847+2*PI()*$F$2)+$E$2*SUM($E$4:$N$4*SIN($A847*$E$5:$N$5*$E$6:$N$6+2*PI()*$E$3:$N$3))","v":-0.4429137055870504}]
[5.3155747698738773,{"$f":"SIN($A848+2*PI()*$F$2)+$E$2*SUM($E$4:$N$4*SIN($A848*$E$5:$N$5*$E$6:$N$6+2*PI()*$E$3:$N$3))","v":-0.31078306390456178}]
[5.3218579551810565,{"$f":"SIN($A849+2*PI()*$F$2)+$E$2*SUM($E$4:$N$4*SIN($A849*$E$5:$N$5*$E$6:$N$6+2*PI()*$E$3:$N$3))","v":-0.53907200102661101}]
[5.3281411404882357,{"$f":"SIN($A850+2*PI()*$F$2)+$E$2*SUM($E$4:$N$4*SIN($A850*$E$5:$N$5*$E$6:$N$6+2*PI()*$E$3:$N$3))","v":-0.82699151068918908}]
[5.3344243257954149,{"$f":"SIN($A851+2*PI()*$F$2)+$E$2*SUM($E$4:$N$4*SIN($A851*$E$5:$N$5*$E$6:$N$6+2*PI()*$E$3:$N$3))","v":-0.74346552938599297}]
[5.3407075111025941,{"$f":"SIN($A852+2*PI()*$F$2)+$E$2*SUM($E$4:$N$4*SIN($A852*$E$5:$N$5*$E$6:$N$6+2*PI()*$E$3:$N$3))","v":-0.71803264032807279}]
[5.3469906964097733,{"$f":"SIN($A853+2*PI()*$F$2)+$E$2*SUM($E$4:$N$4*SIN($A853*$E$5:$N$5*$E$6:$N$6+2*PI()*$E$3:$N$3))","v":-0.66045651925598814}]
[5.3532738817169525,{"$f":"SIN($A854+2*PI()*$F$2)+$E$2*SUM($E$4:$N$4*SIN($A854*$E$5:$N$5*$E$6:$N$6+2*PI()*$E$3:$N$3))","v":-0.33313036250487282}]
[5.3595570670241317,{"$f":"SIN($A855+2*PI()*$F$2)+$E$2*SUM($E$4:$N$4*SIN($A855*$E$5:$N$5*$E$6:$N$6+2*PI()*$E$3:$N$3))","v":-0.21568508729976366}]
[5.3658402523313109,{"$f":"SIN($A856+2*PI()*$F$2)+$E$2*SUM($E$4:$N$4*SIN($A856*$E$5:$N$5*$E$6:$N$6+2*PI()*$E$3:$N$3))","v":-0.27037301093363342}]
[5.3721234376384901,{"$f":"SIN($A857+2*PI()*$F$2)+$E$2*SUM($E$4:$N$4*SIN($A857*$E$5:$N$5*$E$6:$N$6+2*PI()*$E$3:$N$3))","v":-0.39946731168316557}]
[5.3784066229456693,{"$f":"SIN($A858+2*PI()*$F$2)+$E$2*SUM($E$4:$N$4*SIN($A858*$E$5:$N$5*$E$6:$N$6+2*PI()*$E$3:$N$3))","v":-0.79056255463769121}]
[5.3846898082528485,{"$f":"SIN($A859+2*PI()*$F$2)+$E$2*SUM($E$4:$N$4*SIN($A859*$E$5:$N$5*$E$6:$N$6+2*PI()*$E$3:$N$3))","v":-0.8403094685074437}]
[5.3909729935600277,{"$f":"SIN($A860+2*PI()*$F$2)+$E$2*SUM($E$4:$N$4*SIN($A860*$E$5:$N$5*$E$6:$N$6+2*PI()*$E$3:$N$3))","v":-0.3964276156086427}]
[5.3972561788672069,{"$f":"SIN($A861+2*PI()*$F$2)+$E$2*SUM($E$4:$N$4*SIN($A861*$E$5:$N$5*$E$6:$N$6+2*PI()*$E$3:$N$3))","v":-0.13464599367289998}]
[5.4035393641743861,{"$f":"SIN($A862+2*PI()*$F$2)+$E$2*SUM($E$4:$N$4*SIN($A862*$E$5:$N$5*$E$6:$N$6+2*PI()*$E$3:$N$3))","v":-6.2584899149946471E-2}]
[5.4098225494815653,{"$f":"SIN($A863+2*PI()*$F$2)+$E$2*SUM($E$4:$N$4*SIN($A863*$E$5:$N$5*$E$6:$N$6+2*PI()*$E$3:$N$3))","v":-0.19607123540745908}]
[5.4161057347887445,{"$f":"SIN($A864+2*PI()*$F$2)+$E$2*SUM($E$4:$N$4*SIN($A864*$E$5:$N$5*$E$6:$N$6+2*PI()*$E$3:$N$3))","v":-0.59466800637025341}]
[5.4223889200959237,{"$f":"SIN($A865+2*PI()*$F$2)+$E$2*SUM($E$4:$N$4*SIN($A865*$E$5:$N$5*$E$6:$N$6+2*PI()*$E$3:$N$3))","v":-0.64830201526934594}]
[5.4286721054031029,{"$f":"SIN($A866+2*PI()*$F$2)+$E$2*SUM($E$4:$N$4*SIN($A866*$E$5:$N$5*$E$6:$N$6+2*PI()*$E$3:$N$3))","v":-0.44981883784687388}]
[5.434955290710282,{"$f":"SIN($A867+2*PI()*$F$2)+$E$2*SUM($E$4:$N$4*SIN($A867*$E$5:$N$5*$E$6:$N$6+2*PI()*$E$3:$N$3))","v":-0.41836073834295823}]
[5.4412384760174612,{"$f":"SIN($A868+2*PI()*$F$2)+$E$2*SUM($E$4:$N$4*SIN($A868*$E$5:$N$5*$E$6:$N$6+2*PI()*$E$3:$N$3))","v":-0.22185474518404658}]
[5.4475216613246404,{"$f":"SIN($A869+2*PI()*$F$2)+$E$2*SUM($E$4:$N$4*SIN($A869*$E$5:$N$5*$E$6:$N$6+2*PI()*$E$3:$N$3))","v":-3.5482925385360797E-2}]
[5.4538048466318196,{"$f":"SIN($A870+2*PI()*$F$2)+$E$2*SUM($E$4:$N$4*SIN($A870*$E$5:$N$5*$E$6:$N$6+2*PI()*$E$3:$N$3))","v":-0.1540927463740599}]
[{"$f":"2*PI()/1000+A870","v":5.4600880319389988},{"$f":"SIN($A871+2*PI()*$F$2)+$E$2*SUM($E$4:$N$4*SIN($A871*$E$5:$N$5*$E$6:$N$6+2*PI()*$E$3:$N$3))","v":-0.25448333576323823}]
[5.466371217246178,{"$f":"SIN($A872+2*PI()*$F$2)+$E$2*SUM($E$4:$N$4*SIN($A872*$E$5:$N$5*$E$6:$N$6+2*PI()*$E$3:$N$3))","v":-0.47165924159427497}]
[5.4726544025533572,{"$f":"SIN($A873+2*PI()*$F$2)+$E$2*SUM($E$4:$N$4*SIN($A873*$E$5:$N$5*$E$6:$N$6+2*PI()*$E$3:$N$3))","v":-0.67779969771133497}]
[5.4789375878605364,{"$f":"SIN($A874+2*PI()*$F$2)+$E$2*SUM($E$4:$N$4*SIN($A874*$E$5:$N$5*$E$6:$N$6+2*PI()*$E$3:$N$3))","v":-0.3322563512129918}]
[5.4852207731677156,{"$f":"SIN($A875+2*PI()*$F$2)+$E$2*SUM($E$4:$N$4*SIN($A875*$E$5:$N$5*$E$6:$N$6+2*PI()*$E$3:$N$3))","v":6.5996251219781699E-2}]
[5.4915039584748948,{"$f":"SIN($A876+2*PI()*$F$2)+$E$2*SUM($E$4:$N$4*SIN($A876*$E$5:$N$5*$E$6:$N$6+2*PI()*$E$3:$N$3))","v":8.9098530961459144E-2}]
[5.497787143782074,{"$f":"SIN($A877+2*PI()*$F$2)+$E$2*SUM($E$4:$N$4*SIN($A877*$E$5:$N$5*$E$6:$N$6+2*PI()*$E$3:$N$3))","v":-2.3470464047888107E-2}]
[5.5040703290892532,{"$f":"SIN($A878+2*PI()*$F$2)+$E$2*SUM($E$4:$N$4*SIN($A878*$E$5:$N$5*$E$6:$N$6+2*PI()*$E$3:$N$3))","v":-0.37417289976968049}]
[5.5103535143964324,{"$f":"SIN($A879+2*PI()*$F$2)+$E$2*SUM($E$4:$N$4*SIN($A879*$E$5:$N$5*$E$6:$N$6+2*PI()*$E$3:$N$3))","v":-0.61750984063730385}]
[5.5166366997036116,{"$f":"SIN($A880+2*PI()*$F$2)+$E$2*SUM($E$4:$N$4*SIN($A880*$E$5:$N$5*$E$6:$N$6+2*PI()*$E$3:$N$3))","v":-0.37066584553065729}]
[5.5229198850107908,{"$f":"SIN($A881+2*PI()*$F$2)+$E$2*SUM($E$4:$N$4*SIN($A881*$E$5:$N$5*$E$6:$N$6+2*PI()*$E$3:$N$3))","v":-0.20531164952506376}]
[5.52920307031797,{"$f":"SIN($A882+2*PI()*$F$2)+$E$2*SUM($E$4:$N$4*SIN($A882*$E$5:$N$5*$E$6:$N$6+2*PI()*$E$3:$N$3))","v":-0.18364355945320643}]
[5.5354862556251492,{"$f":"SIN($A883+2*PI()*$F$2)+$E$2*SUM($E$4:$N$4*SIN($A883*$E$5:$N$5*$E$6:$N$6+2*PI()*$E$3:$N$3))","v":-5.5056991005129396E-2}]
[5.5417694409323284,{"$f":"SIN($A884+2*PI()*$F$2)+$E$2*SUM($E$4:$N$4*SIN($A884*$E$5:$N$5*$E$6:$N$6+2*PI()*$E$3:$N$3))","v":-0.19437803872638704}]
[5.5480526262395076,{"$f":"SIN($A885+2*PI()*$F$2)+$E$2*SUM($E$4:$N$4*SIN($A885*$E$5:$N$5*$E$6:$N$6+2*PI()*$E$3:$N$3))","v":-0.44176450822987429}]
[5.5543358115466868,{"$f":"SIN($A886+2*PI()*$F$2)+$E$2*SUM($E$4:$N$4*SIN($A886*$E$5:$N$5*$E$6:$N$6+2*PI()*$E$3:$N$3))","v":-0.57503047021477238}]
[5.560618996853866,{"$f":"SIN($A887+2*PI()*$F$2)+$E$2*SUM($E$4:$N$4*SIN($A887*$E$5:$N$5*$E$6:$N$6+2*PI()*$E$3:$N$3))","v":-0.82101957723007768}]
[5.5669021821610452,{"$f":"SIN($A888+2*PI()*$F$2)+$E$2*SUM($E$4:$N$4*SIN($A888*$E$5:$N$5*$E$6:$N$6+2*PI()*$E$3:$N$3))","v":-0.75161408735763735}]
[5.5731853674682243,{"$f":"SIN($A889+2*PI()*$F$2)+$E$2*SUM($E$4:$N$4*SIN($A889*$E$5:$N$5*$E$6:$N$6+2*PI()*$E$3:$N$3))","v":-0.33771572065708266}]
[5.5794685527754035,{"$f":"SIN($A890+2*PI()*$F$2)+$E$2*SUM($E$4:$N$4*SIN($A890*$E$5:$N$5*$E$6:$N$6+2*PI()*$E$3:$N$3))","v":-0.29560115535081821}]
[5.5857517380825827,{"$f":"SIN($A891+2*PI()*$F$2)+$E$2*SUM($E$4:$N$4*SIN($A891*$E$5:$N$5*$E$6:$N$6+2*PI()*$E$3:$N$3))","v":-0.5266806930606045}]
[5.5920349233897619,{"$f":"SIN($A892+2*PI()*$F$2)+$E$2*SUM($E$4:$N$4*SIN($A892*$E$5:$N$5*$E$6:$N$6+2*PI()*$E$3:$N$3))","v":-0.83456444371475547}]
[5.5983181086969411,{"$f":"SIN($A893+2*PI()*$F$2)+$E$2*SUM($E$4:$N$4*SIN($A893*$E$5:$N$5*$E$6:$N$6+2*PI()*$E$3:$N$3))","v":-1.2073451080407918}]
[5.6046012940041203,{"$f":"SIN($A894+2*PI()*$F$2)+$E$2*SUM($E$4:$N$4*SIN($A894*$E$5:$N$5*$E$6:$N$6+2*PI()*$E$3:$N$3))","v":-1.1163146785614664}]
[5.6108844793112995,{"$f":"SIN($A895+2*PI()*$F$2)+$E$2*SUM($E$4:$N$4*SIN($A895*$E$5:$N$5*$E$6:$N$6+2*PI()*$E$3:$N$3))","v":-0.78225983382816588}]
[5.6171676646184787,{"$f":"SIN($A896+2*PI()*$F$2)+$E$2*SUM($E$4:$N$4*SIN($A896*$E$5:$N$5*$E$6:$N$6+2*PI()*$E$3:$N$3))","v":-0.77195975507873016}]
[5.6234508499256579,{"$f":"SIN($A897+2*PI()*$F$2)+$E$2*SUM($E$4:$N$4*SIN($A897*$E$5:$N$5*$E$6:$N$6+2*PI()*$E$3:$N$3))","v":-0.76602122675165885}]
[5.6297340352328371,{"$f":"SIN($A898+2*PI()*$F$2)+$E$2*SUM($E$4:$N$4*SIN($A898*$E$5:$N$5*$E$6:$N$6+2*PI()*$E$3:$N$3))","v":-0.80069542734477239}]
[5.6360172205400163,{"$f":"SIN($A899+2*PI()*$F$2)+$E$2*SUM($E$4:$N$4*SIN($A899*$E$5:$N$5*$E$6:$N$6+2*PI()*$E$3:$N$3))","v":-1.05189375485943}]
[5.6423004058471955,{"$f":"SIN($A900+2*PI()*$F$2)+$E$2*SUM($E$4:$N$4*SIN($A900*$E$5:$N$5*$E$6:$N$6+2*PI()*$E$3:$N$3))","v":-1.111636313641531}]
[5.6485835911543747,{"$f":"SIN($A901+2*PI()*$F$2)+$E$2*SUM($E$4:$N$4*SIN($A901*$E$5:$N$5*$E$6:$N$6+2*PI()*$E$3:$N$3))","v":-1.1240066521391554}]
[5.6548667764615539,{"$f":"SIN($A902+2*PI()*$F$2)+$E$2*SUM($E$4:$N$4*SIN($A902*$E$5:$N$5*$E$6:$N$6+2*PI()*$E$3:$N$3))","v":-1.1319399413059061}]
[5.6611499617687331,{"$f":"SIN($A903+2*PI()*$F$2)+$E$2*SUM($E$4:$N$4*SIN($A903*$E$5:$N$5*$E$6:$N$6+2*PI()*$E$3:$N$3))","v":-0.7364778289731978}]
[5.6674331470759123,{"$f":"SIN($A904+2*PI()*$F$2)+$E$2*SUM($E$4:$N$4*SIN($A904*$E$5:$N$5*$E$6:$N$6+2*PI()*$E$3:$N$3))","v":-0.4507139567383518}]
[5.6737163323830915,{"$f":"SIN($A905+2*PI()*$F$2)+$E$2*SUM($E$4:$N$4*SIN($A905*$E$5:$N$5*$E$6:$N$6+2*PI()*$E$3:$N$3))","v":-0.62079496802365264}]
[5.6799995176902707,{"$f":"SIN($A906+2*PI()*$F$2)+$E$2*SUM($E$4:$N$4*SIN($A906*$E$5:$N$5*$E$6:$N$6+2*PI()*$E$3:$N$3))","v":-0.81677925802824058}]
[5.6862827029974499,{"$f":"SIN($A907+2*PI()*$F$2)+$E$2*SUM($E$4:$N$4*SIN($A907*$E$5:$N$5*$E$6:$N$6+2*PI()*$E$3:$N$3))","v":-1.0275934198677719}]
[5.6925658883046291,{"$f":"SIN($A908+2*PI()*$F$2)+$E$2*SUM($E$4:$N$4*SIN($A908*$E$5:$N$5*$E$6:$N$6+2*PI()*$E$3:$N$3))","v":-1.0049083677635895}]
[5.6988490736118083,{"$f":"SIN($A909+2*PI()*$F$2)+$E$2*SUM($E$4:$N$4*SIN($A909*$E$5:$N$5*$E$6:$N$6+2*PI()*$E$3:$N$3))","v":-0.51620065756552469}]
[5.7051322589189875,{"$f":"SIN($A910+2*PI()*$F$2)+$E$2*SUM($E$4:$N$4*SIN($A910*$E$5:$N$5*$E$6:$N$6+2*PI()*$E$3:$N$3))","v":-0.25734647901691476}]
[5.7114154442261666,{"$f":"SIN($A911+2*PI()*$F$2)+$E$2*SUM($E$4:$N$4*SIN($A911*$E$5:$N$5*$E$6:$N$6+2*PI()*$E$3:$N$3))","v":-0.32664581428319539}]
[5.7176986295333458,{"$f":"SIN($A912+2*PI()*$F$2)+$E$2*SUM($E$4:$N$4*SIN($A912*$E$5:$N$5*$E$6:$N$6+2*PI()*$E$3:$N$3))","v":-0.33306381540399677}]
[5.723981814840525,{"$f":"SIN($A913+2*PI()*$F$2)+$E$2*SUM($E$4:$N$4*SIN($A913*$E$5:$N$5*$E$6:$N$6+2*PI()*$E$3:$N$3))","v":-0.50028868485929401}]
[5.7302650001477042,{"$f":"SIN($A914+2*PI()*$F$2)+$E$2*SUM($E$4:$N$4*SIN($A914*$E$5:$N$5*$E$6:$N$6+2*PI()*$E$3:$N$3))","v":-0.62290751193055982}]
[5.7365481854548834,{"$f":"SIN($A915+2*PI()*$F$2)+$E$2*SUM($E$4:$N$4*SIN($A915*$E$5:$N$5*$E$6:$N$6+2*PI()*$E$3:$N$3))","v":-0.4956046120452014}]
[5.7428313707620626,{"$f":"SIN($A916+2*PI()*$F$2)+$E$2*SUM($E$4:$N$4*SIN($A916*$E$5:$N$5*$E$6:$N$6+2*PI()*$E$3:$N$3))","v":-0.48396245384953551}]
[5.7491145560692418,{"$f":"SIN($A917+2*PI()*$F$2)+$E$2*SUM($E$4:$N$4*SIN($A917*$E$5:$N$5*$E$6:$N$6+2*PI()*$E$3:$N$3))","v":-0.32536036827151427}]
[5.755397741376421,{"$f":"SIN($A918+2*PI()*$F$2)+$E$2*SUM($E$4:$N$4*SIN($A918*$E$5:$N$5*$E$6:$N$6+2*PI()*$E$3:$N$3))","v":1.1727349952732613E-3}]
[5.7616809266836002,{"$f":"SIN($A919+2*PI()*$F$2)+$E$2*SUM($E$4:$N$4*SIN($A919*$E$5:$N$5*$E$6:$N$6+2*PI()*$E$3:$N$3))","v":-0.12672726085672081}]
[5.7679641119907794,{"$f":"SIN($A920+2*PI()*$F$2)+$E$2*SUM($E$4:$N$4*SIN($A920*$E$5:$N$5*$E$6:$N$6+2*PI()*$E$3:$N$3))","v":-0.45978853330119895}]
[5.7742472972979586,{"$f":"SIN($A921+2*PI()*$F$2)+$E$2*SUM($E$4:$N$4*SIN($A921*$E$5:$N$5*$E$6:$N$6+2*PI()*$E$3:$N$3))","v":-0.66587715455332519}]
[5.7805304826051378,{"$f":"SIN($A922+2*PI()*$F$2)+$E$2*SUM($E$4:$N$4*SIN($A922*$E$5:$N$5*$E$6:$N$6+2*PI()*$E$3:$N$3))","v":-0.8016851797682415}]
[5.786813667912317,{"$f":"SIN($A923+2*PI()*$F$2)+$E$2*SUM($E$4:$N$4*SIN($A923*$E$5:$N$5*$E$6:$N$6+2*PI()*$E$3:$N$3))","v":-0.52337549768651637}]
[5.7930968532194962,{"$f":"SIN($A924+2*PI()*$F$2)+$E$2*SUM($E$4:$N$4*SIN($A924*$E$5:$N$5*$E$6:$N$6+2*PI()*$E$3:$N$3))","v":-0.1640787154916451}]
[5.7993800385266754,{"$f":"SIN($A925+2*PI()*$F$2)+$E$2*SUM($E$4:$N$4*SIN($A925*$E$5:$N$5*$E$6:$N$6+2*PI()*$E$3:$N$3))","v":-0.31784442548916536}]
[5.8056632238338546,{"$f":"SIN($A926+2*PI()*$F$2)+$E$2*SUM($E$4:$N$4*SIN($A926*$E$5:$N$5*$E$6:$N$6+2*PI()*$E$3:$N$3))","v":-0.54932501741527484}]
[5.8119464091410338,{"$f":"SIN($A927+2*PI()*$F$2)+$E$2*SUM($E$4:$N$4*SIN($A927*$E$5:$N$5*$E$6:$N$6+2*PI()*$E$3:$N$3))","v":-0.70951988860335669}]
[5.818229594448213,{"$f":"SIN($A928+2*PI()*$F$2)+$E$2*SUM($E$4:$N$4*SIN($A928*$E$5:$N$5*$E$6:$N$6+2*PI()*$E$3:$N$3))","v":-0.92725447836036812}]
[5.8245127797553922,{"$f":"SIN($A929+2*PI()*$F$2)+$E$2*SUM($E$4:$N$4*SIN($A929*$E$5:$N$5*$E$6:$N$6+2*PI()*$E$3:$N$3))","v":-0.8493958908563326}]
[5.8307959650625714,{"$f":"SIN($A930+2*PI()*$F$2)+$E$2*SUM($E$4:$N$4*SIN($A930*$E$5:$N$5*$E$6:$N$6+2*PI()*$E$3:$N$3))","v":-0.72614905079695524}]
[5.8370791503697506,{"$f":"SIN($A931+2*PI()*$F$2)+$E$2*SUM($E$4:$N$4*SIN($A931*$E$5:$N$5*$E$6:$N$6+2*PI()*$E$3:$N$3))","v":-0.75570999978129916}]
[5.8433623356769298,{"$f":"SIN($A932+2*PI()*$F$2)+$E$2*SUM($E$4:$N$4*SIN($A932*$E$5:$N$5*$E$6:$N$6+2*PI()*$E$3:$N$3))","v":-0.56543336334741068}]
[5.8496455209841089,{"$f":"SIN($A933+2*PI()*$F$2)+$E$2*SUM($E$4:$N$4*SIN($A933*$E$5:$N$5*$E$6:$N$6+2*PI()*$E$3:$N$3))","v":-0.54624050979466965}]
[5.8559287062912881,{"$f":"SIN($A934+2*PI()*$F$2)+$E$2*SUM($E$4:$N$4*SIN($A934*$E$5:$N$5*$E$6:$N$6+2*PI()*$E$3:$N$3))","v":-0.91142034894022894}]
[{"$f":"2*PI()/1000+A934","v":5.8622118915984673},{"$f":"SIN($A935+2*PI()*$F$2)+$E$2*SUM($E$4:$N$4*SIN($A935*$E$5:$N$5*$E$6:$N$6+2*PI()*$E$3:$N$3))","v":-1.1144314386473346}]
[5.8684950769056465,{"$f":"SIN($A936+2*PI()*$F$2)+$E$2*SUM($E$4:$N$4*SIN($A936*$E$5:$N$5*$E$6:$N$6+2*PI()*$E$3:$N$3))","v":-1.1671317805877226}]
[5.8747782622128257,{"$f":"SIN($A937+2*PI()*$F$2)+$E$2*SUM($E$4:$N$4*SIN($A937*$E$5:$N$5*$E$6:$N$6+2*PI()*$E$3:$N$3))","v":-1.017200815826564}]
[5.8810614475200049,{"$f":"SIN($A938+2*PI()*$F$2)+$E$2*SUM($E$4:$N$4*SIN($A938*$E$5:$N$5*$E$6:$N$6+2*PI()*$E$3:$N$3))","v":-0.5670395246841311}]
[5.8873446328271841,{"$f":"SIN($A939+2*PI()*$F$2)+$E$2*SUM($E$4:$N$4*SIN($A939*$E$5:$N$5*$E$6:$N$6+2*PI()*$E$3:$N$3))","v":-0.51261215158175766}]
[5.8936278181343633,{"$f":"SIN($A940+2*PI()*$F$2)+$E$2*SUM($E$4:$N$4*SIN($A940*$E$5:$N$5*$E$6:$N$6+2*PI()*$E$3:$N$3))","v":-0.85395384541523689}]
[5.8999110034415425,{"$f":"SIN($A941+2*PI()*$F$2)+$E$2*SUM($E$4:$N$4*SIN($A941*$E$5:$N$5*$E$6:$N$6+2*PI()*$E$3:$N$3))","v":-1.0133224885496954}]
[5.9061941887487217,{"$f":"SIN($A942+2*PI()*$F$2)+$E$2*SUM($E$4:$N$4*SIN($A942*$E$5:$N$5*$E$6:$N$6+2*PI()*$E$3:$N$3))","v":-1.1328512188387909}]
[5.9124773740559009,{"$f":"SIN($A943+2*PI()*$F$2)+$E$2*SUM($E$4:$N$4*SIN($A943*$E$5:$N$5*$E$6:$N$6+2*PI()*$E$3:$N$3))","v":-1.0985404895593578}]
[5.9187605593630801,{"$f":"SIN($A944+2*PI()*$F$2)+$E$2*SUM($E$4:$N$4*SIN($A944*$E$5:$N$5*$E$6:$N$6+2*PI()*$E$3:$N$3))","v":-0.82033108542147271}]
[5.9250437446702593,{"$f":"SIN($A945+2*PI()*$F$2)+$E$2*SUM($E$4:$N$4*SIN($A945*$E$5:$N$5*$E$6:$N$6+2*PI()*$E$3:$N$3))","v":-0.78464775067413495}]
[5.9313269299774385,{"$f":"SIN($A946+2*PI()*$F$2)+$E$2*SUM($E$4:$N$4*SIN($A946*$E$5:$N$5*$E$6:$N$6+2*PI()*$E$3:$N$3))","v":-0.77829829251820559}]
[5.9376101152846177,{"$f":"SIN($A947+2*PI()*$F$2)+$E$2*SUM($E$4:$N$4*SIN($A947*$E$5:$N$5*$E$6:$N$6+2*PI()*$E$3:$N$3))","v":-0.65591931089892941}]
[5.9438933005917969,{"$f":"SIN($A948+2*PI()*$F$2)+$E$2*SUM($E$4:$N$4*SIN($A948*$E$5:$N$5*$E$6:$N$6+2*PI()*$E$3:$N$3))","v":-0.89331905465071682}]
[5.9501764858989761,{"$f":"SIN($A949+2*PI()*$F$2)+$E$2*SUM($E$4:$N$4*SIN($A949*$E$5:$N$5*$E$6:$N$6+2*PI()*$E$3:$N$3))","v":-1.1636612600467982}]
[5.9564596712061553,{"$f":"SIN($A950+2*PI()*$F$2)+$E$2*SUM($E$4:$N$4*SIN($A950*$E$5:$N$5*$E$6:$N$6+2*PI()*$E$3:$N$3))","v":-1.138834886943507}]
[5.9627428565133345,{"$f":"SIN($A951+2*PI()*$F$2)+$E$2*SUM($E$4:$N$4*SIN($A951*$E$5:$N$5*$E$6:$N$6+2*PI()*$E$3:$N$3))","v":-1.0434964739320298}]
[5.9690260418205137,{"$f":"SIN($A952+2*PI()*$F$2)+$E$2*SUM($E$4:$N$4*SIN($A952*$E$5:$N$5*$E$6:$N$6+2*PI()*$E$3:$N$3))","v":-0.70722657766814923}]
[5.9753092271276929,{"$f":"SIN($A953+2*PI()*$F$2)+$E$2*SUM($E$4:$N$4*SIN($A953*$E$5:$N$5*$E$6:$N$6+2*PI()*$E$3:$N$3))","v":-0.45679769953859761}]
[5.9815924124348721,{"$f":"SIN($A954+2*PI()*$F$2)+$E$2*SUM($E$4:$N$4*SIN($A954*$E$5:$N$5*$E$6:$N$6+2*PI()*$E$3:$N$3))","v":-0.77868091381455939}]
[5.9878755977420512,{"$f":"SIN($A955+2*PI()*$F$2)+$E$2*SUM($E$4:$N$4*SIN($A955*$E$5:$N$5*$E$6:$N$6+2*PI()*$E$3:$N$3))","v":-1.0781922034320672}]
[5.9941587830492304,{"$f":"SIN($A956+2*PI()*$F$2)+$E$2*SUM($E$4:$N$4*SIN($A956*$E$5:$N$5*$E$6:$N$6+2*PI()*$E$3:$N$3))","v":-1.0960256027082673}]
[6.0004419683564096,{"$f":"SIN($A957+2*PI()*$F$2)+$E$2*SUM($E$4:$N$4*SIN($A957*$E$5:$N$5*$E$6:$N$6+2*PI()*$E$3:$N$3))","v":-1.0521295863706484}]
[6.0067251536635888,{"$f":"SIN($A958+2*PI()*$F$2)+$E$2*SUM($E$4:$N$4*SIN($A958*$E$5:$N$5*$E$6:$N$6+2*PI()*$E$3:$N$3))","v":-0.75097704091519213}]
[6.013008338970768,{"$f":"SIN($A959+2*PI()*$F$2)+$E$2*SUM($E$4:$N$4*SIN($A959*$E$5:$N$5*$E$6:$N$6+2*PI()*$E$3:$N$3))","v":-0.53514521464715303}]
[6.0192915242779472,{"$f":"SIN($A960+2*PI()*$F$2)+$E$2*SUM($E$4:$N$4*SIN($A960*$E$5:$N$5*$E$6:$N$6+2*PI()*$E$3:$N$3))","v":-0.64255801526390055}]
[6.0255747095851264,{"$f":"SIN($A961+2*PI()*$F$2)+$E$2*SUM($E$4:$N$4*SIN($A961*$E$5:$N$5*$E$6:$N$6+2*PI()*$E$3:$N$3))","v":-0.59999371825016767}]
[6.0318578948923056,{"$f":"SIN($A962+2*PI()*$F$2)+$E$2*SUM($E$4:$N$4*SIN($A962*$E$5:$N$5*$E$6:$N$6+2*PI()*$E$3:$N$3))","v":-0.62796964276409395}]
[6.0381410801994848,{"$f":"SIN($A963+2*PI()*$F$2)+$E$2*SUM($E$4:$N$4*SIN($A963*$E$5:$N$5*$E$6:$N$6+2*PI()*$E$3:$N$3))","v":-0.87944030606569312}]
[6.044424265506664,{"$f":"SIN($A964+2*PI()*$F$2)+$E$2*SUM($E$4:$N$4*SIN($A964*$E$5:$N$5*$E$6:$N$6+2*PI()*$E$3:$N$3))","v":-0.83453043938869398}]
[6.0507074508138432,{"$f":"SIN($A965+2*PI()*$F$2)+$E$2*SUM($E$4:$N$4*SIN($A965*$E$5:$N$5*$E$6:$N$6+2*PI()*$E$3:$N$3))","v":-0.63000464127742706}]
[6.0569906361210224,{"$f":"SIN($A966+2*PI()*$F$2)+$E$2*SUM($E$4:$N$4*SIN($A966*$E$5:$N$5*$E$6:$N$6+2*PI()*$E$3:$N$3))","v":-0.39856311301485359}]
[6.0632738214282016,{"$f":"SIN($A967+2*PI()*$F$2)+$E$2*SUM($E$4:$N$4*SIN($A967*$E$5:$N$5*$E$6:$N$6+2*PI()*$E$3:$N$3))","v":-6.3201950853178701E-2}]
[6.0695570067353808,{"$f":"SIN($A968+2*PI()*$F$2)+$E$2*SUM($E$4:$N$4*SIN($A968*$E$5:$N$5*$E$6:$N$6+2*PI()*$E$3:$N$3))","v":-0.18503117535032365}]
[6.07584019204256,{"$f":"SIN($A969+2*PI()*$F$2)+$E$2*SUM($E$4:$N$4*SIN($A969*$E$5:$N$5*$E$6:$N$6+2*PI()*$E$3:$N$3))","v":-0.61953649577814474}]
[6.0821233773497392,{"$f":"SIN($A970+2*PI()*$F$2)+$E$2*SUM($E$4:$N$4*SIN($A970*$E$5:$N$5*$E$6:$N$6+2*PI()*$E$3:$N$3))","v":-0.67981211254945118}]
[6.0884065626569184,{"$f":"SIN($A971+2*PI()*$F$2)+$E$2*SUM($E$4:$N$4*SIN($A971*$E$5:$N$5*$E$6:$N$6+2*PI()*$E$3:$N$3))","v":-0.56461903559884696}]
[6.0946897479640976,{"$f":"SIN($A972+2*PI()*$F$2)+$E$2*SUM($E$4:$N$4*SIN($A972*$E$5:$N$5*$E$6:$N$6+2*PI()*$E$3:$N$3))","v":-0.35245583845236039}]
[6.1009729332712768,{"$f":"SIN($A973+2*PI()*$F$2)+$E$2*SUM($E$4:$N$4*SIN($A973*$E$5:$N$5*$E$6:$N$6+2*PI()*$E$3:$N$3))","v":-5.6166154298342374E-2}]
[6.107256118578456,{"$f":"SIN($A974+2*PI()*$F$2)+$E$2*SUM($E$4:$N$4*SIN($A974*$E$5:$N$5*$E$6:$N$6+2*PI()*$E$3:$N$3))","v":-0.16424647100704104}]
[6.1135393038856352,{"$f":"SIN($A975+2*PI()*$F$2)+$E$2*SUM($E$4:$N$4*SIN($A975*$E$5:$N$5*$E$6:$N$6+2*PI()*$E$3:$N$3))","v":-0.38314818335931777}]
[6.1198224891928144,{"$f":"SIN($A976+2*PI()*$F$2)+$E$2*SUM($E$4:$N$4*SIN($A976*$E$5:$N$5*$E$6:$N$6+2*PI()*$E$3:$N$3))","v":-0.39592153072519398}]
[6.1261056744999935,{"$f":"SIN($A977+2*PI()*$F$2)+$E$2*SUM($E$4:$N$4*SIN($A977*$E$5:$N$5*$E$6:$N$6+2*PI()*$E$3:$N$3))","v":-0.59976759622765075}]
[6.1323888598071727,{"$f":"SIN($A978+2*PI()*$F$2)+$E$2*SUM($E$4:$N$4*SIN($A978*$E$5:$N$5*$E$6:$N$6+2*PI()*$E$3:$N$3))","v":-0.72904593678256235}]
[6.1386720451143519,{"$f":"SIN($A979+2*PI()*$F$2)+$E$2*SUM($E$4:$N$4*SIN($A979*$E$5:$N$5*$E$6:$N$6+2*PI()*$E$3:$N$3))","v":-0.56102109274393619}]
[6.1449552304215311,{"$f":"SIN($A980+2*PI()*$F$2)+$E$2*SUM($E$4:$N$4*SIN($A980*$E$5:$N$5*$E$6:$N$6+2*PI()*$E$3:$N$3))","v":-0.4731974254795312}]
[6.1512384157287103,{"$f":"SIN($A981+2*PI()*$F$2)+$E$2*SUM($E$4:$N$4*SIN($A981*$E$5:$N$5*$E$6:$N$6+2*PI()*$E$3:$N$3))","v":-0.3522173353381336}]
[6.1575216010358895,{"$f":"SIN($A982+2*PI()*$F$2)+$E$2*SUM($E$4:$N$4*SIN($A982*$E$5:$N$5*$E$6:$N$6+2*PI()*$E$3:$N$3))","v":-0.38270540233390282}]
[6.1638047863430687,{"$f":"SIN($A983+2*PI()*$F$2)+$E$2*SUM($E$4:$N$4*SIN($A983*$E$5:$N$5*$E$6:$N$6+2*PI()*$E$3:$N$3))","v":-0.89038068820429372}]
[6.1700879716502479,{"$f":"SIN($A984+2*PI()*$F$2)+$E$2*SUM($E$4:$N$4*SIN($A984*$E$5:$N$5*$E$6:$N$6+2*PI()*$E$3:$N$3))","v":-1.1952016494238331}]
[6.1763711569574271,{"$f":"SIN($A985+2*PI()*$F$2)+$E$2*SUM($E$4:$N$4*SIN($A985*$E$5:$N$5*$E$6:$N$6+2*PI()*$E$3:$N$3))","v":-1.0652451233306079}]
[6.1826543422646063,{"$f":"SIN($A986+2*PI()*$F$2)+$E$2*SUM($E$4:$N$4*SIN($A986*$E$5:$N$5*$E$6:$N$6+2*PI()*$E$3:$N$3))","v":-0.9079364916218583}]
[6.1889375275717855,{"$f":"SIN($A987+2*PI()*$F$2)+$E$2*SUM($E$4:$N$4*SIN($A987*$E$5:$N$5*$E$6:$N$6+2*PI()*$E$3:$N$3))","v":-0.67107134512333921}]
[6.1952207128789647,{"$f":"SIN($A988+2*PI()*$F$2)+$E$2*SUM($E$4:$N$4*SIN($A988*$E$5:$N$5*$E$6:$N$6+2*PI()*$E$3:$N$3))","v":-0.66907795569221107}]
[6.2015038981861439,{"$f":"SIN($A989+2*PI()*$F$2)+$E$2*SUM($E$4:$N$4*SIN($A989*$E$5:$N$5*$E$6:$N$6+2*PI()*$E$3:$N$3))","v":-1.0445334440141403}]
[6.2077870834933231,{"$f":"SIN($A990+2*PI()*$F$2)+$E$2*SUM($E$4:$N$4*SIN($A990*$E$5:$N$5*$E$6:$N$6+2*PI()*$E$3:$N$3))","v":-1.1765688342344949}]
[6.2140702688005023,{"$f":"SIN($A991+2*PI()*$F$2)+$E$2*SUM($E$4:$N$4*SIN($A991*$E$5:$N$5*$E$6:$N$6+2*PI()*$E$3:$N$3))","v":-1.1832595455145838}]
[6.2203534541076815,{"$f":"SIN($A992+2*PI()*$F$2)+$E$2*SUM($E$4:$N$4*SIN($A992*$E$5:$N$5*$E$6:$N$6+2*PI()*$E$3:$N$3))","v":-1.2916124570469254}]
[6.2266366394148607,{"$f":"SIN($A993+2*PI()*$F$2)+$E$2*SUM($E$4:$N$4*SIN($A993*$E$5:$N$5*$E$6:$N$6+2*PI()*$E$3:$N$3))","v":-1.1101926110431741}]
[6.2329198247220399,{"$f":"SIN($A994+2*PI()*$F$2)+$E$2*SUM($E$4:$N$4*SIN($A994*$E$5:$N$5*$E$6:$N$6+2*PI()*$E$3:$N$3))","v":-0.88601319692702518}]
[6.2392030100292191,{"$f":"SIN($A995+2*PI()*$F$2)+$E$2*SUM($E$4:$N$4*SIN($A995*$E$5:$N$5*$E$6:$N$6+2*PI()*$E$3:$N$3))","v":-0.81882608003279733}]
[6.2454861953363983,{"$f":"SIN($A996+2*PI()*$F$2)+$E$2*SUM($E$4:$N$4*SIN($A996*$E$5:$N$5*$E$6:$N$6+2*PI()*$E$3:$N$3))","v":-0.71923421002266918}]
[6.2517693806435775,{"$f":"SIN($A997+2*PI()*$F$2)+$E$2*SUM($E$4:$N$4*SIN($A997*$E$5:$N$5*$E$6:$N$6+2*PI()*$E$3:$N$3))","v":-0.95995660966568741}]
[6.2580525659507567,{"$f":"SIN($A998+2*PI()*$F$2)+$E$2*SUM($E$4:$N$4*SIN($A998*$E$5:$N$5*$E$6:$N$6+2*PI()*$E$3:$N$3))","v":-1.3236644277231768}]
[{"$f":"2*PI()/1000+A998","v":6.2643357512579358},{"$f":"SIN($A999+2*PI()*$F$2)+$E$2*SUM($E$4:$N$4*SIN($A999*$E$5:$N$5*$E$6:$N$6+2*PI()*$E$3:$N$3))","v":-1.1564419705765641}]
[6.270618936565115,{"$f":"SIN($A1000+2*PI()*$F$2)+$E$2*SUM($E$4:$N$4*SIN($A1000*$E$5:$N$5*$E$6:$N$6+2*PI()*$E$3:$N$3))","v":-0.81289204128950521}]
[6.2769021218722942,{"$f":"SIN($A1001+2*PI()*$F$2)+$E$2*SUM($E$4:$N$4*SIN($A1001*$E$5:$N$5*$E$6:$N$6+2*PI()*$E$3:$N$3))","v":-0.55095321707007283}]
[6.2831853071794734,{"$f":"SIN($A1002+2*PI()*$F$2)+$E$2*SUM($E$4:$N$4*SIN($A1002*$E$5:$N$5*$E$6:$N$6+2*PI()*$E$3:$N$3))","v":-0.37063955451671715}]