{"text_format":"1","workbook":"xlsx","n_sheets":7,"sheets":["Summary","Wing Geometry","Fuselage Geometry","LIFT","DRAG","VLM","FIGURE"],"not_rendered":{"charts":33,"images":0,"macros":1,"external_links":0,"defined_names":0,"comments":0,"pivot_tables":0},"unopened":[],"bounds":{"document_bytes":16777216,"sheet_cells":100000,"rows_first":2000,"rows_last":500,"rows_between":2000,"halvings":0,"cell_chars":16384,"cell_head_chars":4096},"cells_cut":0,"cells_raw":0,"read":"whole","date_system":"1900"}

{"sheet":"Summary","index":0,"n_rows":23,"n_cols":6,"rows_kept":23,"cut":false,"hidden":false,"merged":[]}
[]
[null,"速度","V",30,"m/s"]
[null,null,null,{"$f":"D2*3.6","v":108},"km/h"]
[null,null,null,{"$f":"D2*1.94384","v":58.315199999999997},"kt"]
[null,"代表面積","Sref",{"$f":"'Wing Geometry'!D3","v":24},"㎡"]
[null,"代表長さ(縦)","cMAC",{"$f":"'Wing Geometry'!D6","v":2.166666666666667},"m"]
[null,"代表長(横･方向)","bref",{"$f":"'Wing Geometry'!D4","v":12},"m"]
[null,"レイノルズ数","Re",{"$f":"(D2*D6)/D23","v":4449921.2706236737},"-"]
[null,"マッハ数","M",{"$f":"D2/D21","v":8.8160098739310577E-2},"-"]
[null,null,"β",{"$f":"SQRT(1-D9^2)","v":0.99610631811582995},"-"]
[null,null,"W",600,"kg"]
[null,null,"W/S",{"$f":"D11/D5","v":25},"kg/㎡"]
[null,null,"CL",{"$f":"(D11*9.81)/(0.5*D20*D2*D2*D5)","v":0.44489795918367347},"-"]
[null,null,"α",0,"deg","仮置き"]
[]
[]
[null,"標準大気"]
[null,"空気の温度","T0",15,"℃"]
[null,"空気の圧力","P0",101325,"Pa"]
[null,"空気の密度","ρ0",1.2250000000000001,"kg/㎥"]
[null,"空気の音速","a0",340.29,"m/s"]
[null,"空気の粘性係数","μ0",{"$f":"1.7894*10^-5","v":1.7894000000000002E-5},"Ns/㎡"]
[null,"空気の動粘性係数","ν0",{"$f":"1.4607*10^-5","v":1.4607000000000003E-5},"㎡/s"]

{"sheet":"Wing Geometry","index":1,"n_rows":32,"n_cols":12,"rows_kept":32,"cut":false,"hidden":false,"merged":[]}
[]
[null,null,null,"Wing","Tail","Fin","unit","comment",null,"x","y","z"]
[null,"主翼面積","S",24,6,3,"㎡",null,null,{"$f":"D20+D24*D14*(1-COS(RADIANS(D23)))","v":2.0018269623051319},{"$f":"D21","v":0},{"$f":"D22+D24*D14*SIN(RADIANS(D23))","v":-0.19768264469190602}]
[null,"スパン","b",12,4,2,"m",null,null,{"$f":"D20+(D4/2)*TAN(RADIANS(D10))+D24*D15*(1-COS(RADIANS(D23+D25)))","v":5.4641016151377544},{"$f":"(D4/2)*COS(RADIANS(D26))","v":5.9771681885504737},{"$f":"L3+(D4/2)*SIN(RADIANS(D26))+D24*D15*SIN(RADIANS(D23+D25))","v":0.32525181179404306}]
[null,"平均幾何翼弦長","S/b",2,1.5,1.5,null,null,null,{"$f":"J4+D15*COS(RADIANS(D23+D25))","v":6.4641016151377544},{"$f":"K4","v":5.9771681885504737},{"$f":"L4-D15*SIN(RADIANS(D23+D25))","v":0.32525181179404306}]
[null,"平均空力翼弦長","cMAC",{"$f":"(2/3)*D14*(1+D13+D13^2)/(1+D13)","v":2.166666666666667},{"$f":"(2/3)*E14*(1+E13+E13^2)/(1+E13)","v":1.5555555555555554},{"$f":"(2/3)*F14*(1+F13+F13^2)/(1+F13)","v":1.5555555555555554},"m",null,null,{"$f":"J3+D14*COS(RADIANS(D23))","v":4.9945191130846043},{"$f":"K3","v":0},{"$f":"L3-D14*SIN(RADIANS(D23))","v":-0.4069520659242819}]
[null,"アスペクト比","A",{"$f":"D4*D4/D3","v":6},{"$f":"E4*E4/E3","v":2.6666666666666665},{"$f":"(2*F4)*(2*F4)/(2*F3)","v":2.6666666666666665},"-","垂直尾翼アスペクト比はフルスパンで計算",null,{"$f":"J3","v":2.0018269623051319},{"$f":"K3","v":0},{"$f":"L3","v":-0.19768264469190602}]
[null,"後退角","Λ",30,30,30,"deg"]
[null,"後退角定義位置","x/c_Λ",0,0,0,"-",null,null,{"$f":"E20+E24*E14*(1-COS(RADIANS(E23)))","v":7},{"$f":"E21","v":0},{"$f":"E22+E24*E14*SIN(RADIANS(E23))","v":0}]
[null,"前縁後退角","Λ_LE",{"$f":"DEGREES(ATAN(TAN(RADIANS(D8))-(4/D7)*((0-D9)*(1-D13)/(1+D13))))","v":29.999999999999996},{"$f":"DEGREES(ATAN(TAN(RADIANS(E8))-(4/E7)*((0-E9)*(1-E13)/(1+E13))))","v":29.999999999999996},{"$f":"DEGREES(ATAN(TAN(RADIANS(F8))-(4/F7)*((0-F9)*(1-F13)/(1+F13))))","v":29.999999999999996},"deg",null,null,{"$f":"E20+(E4/2)*TAN(RADIANS(E10))+E24*E15*(1-COS(RADIANS(E23+E25)))","v":8.1547005383792524},{"$f":"(E4/2)*COS(RADIANS(E26))","v":2},{"$f":"L9+(E4/2)*SIN(RADIANS(E26))+E24*E15*SIN(RADIANS(E23+E25))","v":0}]
[null,"c/4後退角","Λ_c/4",{"$f":"DEGREES(ATAN(TAN(RADIANS(D8))-(4/D7)*((0.25-D9)*(1-D13)/(1+D13))))","v":26.290151926293273},{"$f":"DEGREES(ATAN(TAN(RADIANS(E8))-(4/E7)*((0.25-E9)*(1-E13)/(1+E13))))","v":24.339630558638699},{"$f":"DEGREES(ATAN(TAN(RADIANS(F8))-(4/F7)*((0.25-F9)*(1-F13)/(1+F13))))","v":24.339630558638699},"deg",null,null,{"$f":"J10+E15*COS(RADIANS(E23+E25))","v":9.1547005383792524},{"$f":"K10","v":2},{"$f":"L10-E15*SIN(RADIANS(E23+E25))","v":0}]
[null,"c/2後退角","Λ_c/2",{"$f":"DEGREES(ATAN(TAN(RADIANS(D8))-(4/D7)*((0.5-D9)*(1-D13)/(1+D13))))","v":22.327152093734117},{"$f":"DEGREES(ATAN(TAN(RADIANS(E8))-(4/E7)*((0.5-E9)*(1-E13)/(1+E13))))","v":18.125873158100283},{"$f":"DEGREES(ATAN(TAN(RADIANS(F8))-(4/F7)*((0.5-F9)*(1-F13)/(1+F13))))","v":18.125873158100283},"deg",null,null,{"$f":"J9+E14*COS(RADIANS(E23))","v":9},{"$f":"K9","v":0},{"$f":"L9-E14*SIN(RADIANS(E23))","v":0}]
[null,"テーパー比","λ",{"$f":"D15/D14","v":0.33333333333333331},{"$f":"E15/E14","v":0.5},{"$f":"F15/F14","v":0.5},"-",null,null,{"$f":"J9","v":7},{"$f":"K9","v":0},{"$f":"L9","v":0}]
[null,"翼根コード長","cr",3,2,2,"m"]
[null,"翼単コード長","ct",1,1,1,"m",null,null,{"$f":"F20","v":7},{"$f":"E21","v":0},{"$f":"F22","v":0}]
[null,"MAC位置","yMAC",{"$f":"(1/3)*(D4/2)*(1+2*D13)/(1+D13)","v":2.5},{"$f":"(1/3)*(E4/2)*(1+2*E13)/(1+E13)","v":0.88888888888888884},{"$f":"(1/3)*(F4/2)*(1+2*F13)/(1+F13)","v":0.44444444444444442},"m",null,null,{"$f":"F20+F4*TAN(RADIANS(F10))","v":8.1547005383792524},{"$f":"K15","v":0},{"$f":"F4","v":2}]
[null,"モーメント基準点","xref",{"$f":"D20+D16*TAN(RADIANS(D10))+0.25*D6","v":3.9850423396407315},{"$f":"E20+E16*TAN(RADIANS(E10))+0.25*E6","v":7.9020891281685568},{"$f":"F20+F16*TAN(RADIANS(F10))+0.25*F6","v":7.6454890085287222},"m",null,null,{"$f":"J16+F15","v":9.1547005383792524},{"$f":"K16","v":0},{"$f":"L16","v":2}]
[null,"モーメント基準点","yref",{"$f":"D21","v":0},0,0,"m",null,null,{"$f":"J15+F14","v":9},{"$f":"K17","v":0},{"$f":"L15","v":0}]
[null,"モーメント基準点","zref",-0.25,0,0,"m",null,null,{"$f":"J15","v":7},{"$f":"K18","v":0},{"$f":"L15","v":0}]
[null,"翼根前縁位置","x_LE",2,7,7,"m"]
[null,"翼根前縁位置","y_LE",0,0,0,"m"]
[null,"翼根前縁位置","z_LE",-0.25,0,0,"m"]
[null,"翼根取付角","θr",4,0,0,"deg","胴体軸基準、前縁上げ正"]
[null,"取付角中心位置","x/c_θ",0.25,0,0,"-"]
[null,"ねじり下げ","θ",-4,0,0,"deg","翼根コードライン基準、ねじり下げで負"]
[null,"上反角","Γ",5,0,0,"deg"]
[null,"空力中心位置","xac/c",null,null,null,"-"]
[null,"翼型","NACA four digit",{"$f":"TEXT(4412,\"0000\")","v":"4412"},{"$f":"TEXT(10,\"0000\")","v":"0010"},{"$f":"TEXT(10,\"0000\")","v":"0010"},"-"]
[null,null,"max. camber",{"$f":"VALUE(LEFT(D28,1))","v":4},{"$f":"VALUE(LEFT(E28,1))","v":0},{"$f":"VALUE(LEFT(F28,1))","v":0},"%c"]
[null,null,"x/c_max. camber",{"$f":"MID(D28,2,1)*10","v":40},{"$f":"MID(E28,2,1)*10","v":0},{"$f":"MID(F28,2,1)*10","v":0},"%c"]
[null,null,"x/c_(t/c)max",30,30,30,"%c"]
[null,null,"t/c",{"$f":"RIGHT(D28,2)/100","v":0.12},{"$f":"RIGHT(E28,2)/100","v":0.1},{"$f":"RIGHT(F28,2)/100","v":0.1},"-"]

{"sheet":"Fuselage Geometry","index":2,"n_rows":7,"n_cols":10,"rows_kept":7,"cut":false,"hidden":false,"merged":[]}
[]
[null,null,null,"Body","unit","comment",null,"x","y","z"]
[null,"胴体長さ","Lf",10,"m",null,null,{"$f":"D20+D24*D14*(1-COS(RADIANS(D23)))","v":0},{"$f":"D21","v":0},{"$f":"D22+D24*D14*SIN(RADIANS(D23))","v":0}]
[null,"Finess Ratio","Lf/Rmax",15,"-",null,null,{"$f":"D20+(D4/2)*TAN(RADIANS(D10))+D24*D15*(1-COS(RADIANS(D23+D25)))","v":0},{"$f":"(D4/2)*COS(RADIANS(D26))","v":7.5},{"$f":"(D4/2)*SIN(RADIANS(D26))+D24*D15*SIN(RADIANS(D23+D25))","v":0}]
[null,"最大胴体直径","Dmax",{"$f":"(D3/D4)*2","v":1.3333333333333333},"m",null,null,{"$f":"H4+D15*COS(RADIANS(D23+D25))","v":0},{"$f":"I4","v":7.5},{"$f":"J4-D15*SIN(RADIANS(D23+D25))","v":0}]
[null,null,null,null,null,null,null,{"$f":"H3+D14*COS(RADIANS(D23))","v":0},{"$f":"I3","v":0},{"$f":"J3-D14*SIN(RADIANS(D23))","v":0}]
[null,null,null,null,null,null,null,{"$f":"H3","v":0},{"$f":"I3","v":0},{"$f":"J3","v":0}]

{"sheet":"LIFT","index":3,"n_rows":128,"n_cols":10,"rows_kept":128,"cut":false,"hidden":false,"merged":[]}
[null,null,null,null,"Wing","Tail","Fin"]
[]
[null,"4.1.1","design lift","NACA four digit",{"$f":"'Wing Geometry'!D28","v":"4412"},{"$f":"'Wing Geometry'!E28","v":"0010"},{"$f":"'Wing Geometry'!F28","v":"0010"},"-","input"]
[null,null,null,"cl_i",{"$f":"IF(MID(E3,2,1)<>\"0\",INDEX(FIGURE!$C$29:$C$34,MID(E3,2,1)-1)*(MID(E3,1,1)/6),0)","v":0.5066666666666666},{"$f":"IF(MID(F3,2,1)<>\"0\",INDEX(FIGURE!$C$29:$C$34,MID(F3,2,1)-1)*(MID(F3,2,1)/6),0)","v":0},{"$f":"IF(MID(G3,2,1)<>\"0\",INDEX(FIGURE!$C$29:$C$34,MID(G3,2,1)-1)*(MID(G3,2,1)/6),0)","v":0},"-","4.1.1"]
[null,null,null,"alpha_i",{"$f":"IF(MID(E3,2,1)<>\"0\",INDEX(FIGURE!$D$29:$D$34,MID(E3,2,1)-1)*(MID(E3,1,1)/6),0)","v":0.49333333333333329},{"$f":"IF(MID(F3,2,1)<>\"0\",INDEX(FIGURE!$D$29:$D$34,MID(F3,2,1)-1)*(MID(F3,1,1)/6),0)","v":0},{"$f":"IF(MID(G3,2,1)<>\"0\",INDEX(FIGURE!$D$29:$D$34,MID(G3,2,1)-1)*(MID(G3,1,1)/6),0)","v":0},"deg","4.1.1"]
[]
[null,"4.1.1.2","2次元揚力傾斜","NACA four digit",{"$f":"'Wing Geometry'!D$28","v":"4412"},{"$f":"'Wing Geometry'!E$28","v":"0010"},{"$f":"'Wing Geometry'!F$28","v":"0010"},"-","input"]
[null,null,null,"log10(Re)",{"$f":"LOG10(Summary!$D$8)","v":6.6483523273772986},{"$f":"LOG10(Summary!$D$8)","v":6.6483523273772986},{"$f":"LOG10(Summary!$D$8)","v":6.6483523273772986},"-","input"]
[null,null,null,"t/c",{"$f":"'Wing Geometry'!D$32","v":0.12},{"$f":"'Wing Geometry'!E$32","v":0.1},{"$f":"'Wing Geometry'!F$32","v":0.1},"-","input"]
[null,null,null,"β",{"$f":"Summary!$D$10","v":0.99610631811582995},{"$f":"Summary!$D$10","v":0.99610631811582995},{"$f":"Summary!$D$10","v":0.99610631811582995},"-","input"]
[null,null,null,"Y90/2",{"$f":"5*RIGHT(E7,2)*(0.2969*SQRT(0.9)-0.126*0.9-0.3516*(0.9^2)+0.2843*(0.9^3)-0.1015*(0.9^4))","v":1.4477172714718478},{"$f":"5*RIGHT(F7,2)*(0.2969*SQRT(0.9)-0.126*0.9-0.3516*(0.9^2)+0.2843*(0.9^3)-0.1015*(0.9^4))","v":1.2064310595598733},{"$f":"5*RIGHT(G7,2)*(0.2969*SQRT(0.9)-0.126*0.9-0.3516*(0.9^2)+0.2843*(0.9^3)-0.1015*(0.9^4))","v":1.2064310595598733},"%c","calculated"]
[null,null,null,"Y99/2",{"$f":"5*RIGHT(E7,2)*(0.2969*SQRT(0.99)-0.126*0.99-0.3516*(0.99^2)+0.2843*(0.99^3)-0.1015*(0.99^4))","v":0.26544724571732264},{"$f":"5*RIGHT(F7,2)*(0.2969*SQRT(0.99)-0.126*0.99-0.3516*(0.99^2)+0.2843*(0.99^3)-0.1015*(0.99^4))","v":0.22120603809776887},0.22120603809776887,"%c","calculated"]
[null,null,null,"tan((1/2)phi'_TE)",{"$f":"(E11-E12)/9","v":0.13136333619494722},{"$f":"(F11-F12)/9","v":0.10946944682912271},{"$f":"(G11-G12)/9","v":0.10946944682912271},"-","4.1.1.2-8a"]
[null,null,null,"cla/cla_theory",{"$f":"Interpolation2D(E13,E8,FIGURE!$B$40:$B$50,FIGURE!$C$38:$E$38,FIGURE!$C$40:$E$50)","v":0.81851526827252441},{"$f":"Interpolation2D(F13,F8,FIGURE!$B$40:$B$50,FIGURE!$C$38:$E$38,FIGURE!$C$40:$E$50)","v":0.83953320380431762},{"$f":"Interpolation2D(G13,G8,FIGURE!$B$40:$B$50,FIGURE!$C$38:$E$38,FIGURE!$C$40:$E$50)","v":0.83953320380431762},"-","4.1.1.2-8a"]
[null,null,null,"cla_theory",{"$f":"6.28+4.7*E9*(1+0.00375*20)","v":6.8863000000000003},{"$f":"6.28+4.7*F9*(1+0.00375*20)","v":6.7852500000000004},{"$f":"6.28+4.7*G9*(1+0.00375*20)","v":6.7852500000000004},"1/rad","4.1.1.2-8b"]
[null,null,null,"(cla)M",{"$f":"(1.05/E10)*E14*E15","v":5.9415030994835396},{"$f":"(1.05/F10)*F14*F15","v":6.0046449820564156},{"$f":"(1.05/G10)*G14*G15","v":6.0046449820564156},"1/rad","4.1.1.2-a"]
[]
[null,"4.1.1.4","2次元最大揚力係数","t/c",{"$f":"'Wing Geometry'!D$32","v":0.12},{"$f":"'Wing Geometry'!E$32","v":0.1},{"$f":"'Wing Geometry'!F$32","v":0.1},"-","input"]
[null,null,null,"x/c_(t/c)max",{"$f":"'Wing Geometry'!D$31","v":30},{"$f":"'Wing Geometry'!E$31","v":30},{"$f":"'Wing Geometry'!F$31","v":30},"%c","input"]
[null,null,null,"max. camber",{"$f":"'Wing Geometry'!D$29","v":4},{"$f":"'Wing Geometry'!E$29","v":0},{"$f":"'Wing Geometry'!F$29","v":0},"%c","input"]
[null,null,null,"x/c_max. camber",{"$f":"'Wing Geometry'!D$30","v":40},{"$f":"'Wing Geometry'!E$30","v":0},{"$f":"'Wing Geometry'!F$30","v":0},"%c","input"]
[null,null,null,"log10(Re)",{"$f":"LOG10(Summary!$D$8)","v":6.6483523273772986},{"$f":"LOG10(Summary!$D$8)","v":6.6483523273772986},{"$f":"LOG10(Summary!$D$8)","v":6.6483523273772986},"-","input"]
[null,null,null,"Δy",{"$f":"Interpolation1D(E18,FIGURE!$B$4:$B$24,FIGURE!$C$4:$C$24)","v":3.0725360087685298},{"$f":"Interpolation1D(F18,FIGURE!$B$4:$B$24,FIGURE!$C$4:$C$24)","v":2.5993282608003501},{"$f":"Interpolation1D(G18,FIGURE!$B$4:$B$24,FIGURE!$C$4:$C$24)","v":2.5993282608003501},"%c","2.2.1-8"]
[null,null,null,"clmax_base",{"$f":"Interpolation2D(E23,E19,FIGURE!$B$74:$B$92,FIGURE!$C$72:$F$72,FIGURE!$C$74:$F$92)","v":1.5715751368631048},{"$f":"Interpolation2D(F23,F19,FIGURE!$B$74:$B$92,FIGURE!$C$72:$F$72,FIGURE!$C$74:$F$92)","v":1.4664631997035438},{"$f":"Interpolation2D(G23,G19,FIGURE!$B$74:$B$92,FIGURE!$C$72:$F$72,FIGURE!$C$74:$F$92)","v":1.4664631997035438},"-","4.1.1.4-5"]
[null,null,null,"Δ1_clmax",{"$f":"Interpolation3D(E23,E20,E21,FIGURE!$H$74:$H$94,FIGURE!$I$72:$L$72,FIGURE!$L$71,FIGURE!$I$74:$L$94,FIGURE!$N$74:$N$89,FIGURE!$O$72:$R$72,FIGURE!$R$71,FIGURE!$O$74:$R$89,FIGURE!$T$74:$T$89,FIGURE!$U$72:$X$72,FIGURE!$X$71,FIGURE!$U$74:$X$89,FIGURE!$Z$74:$Z$89,FIGURE!$AA$72:$AD$72,FIGURE!$AD$71,FIGURE!$AA$74:$AD$89)","v":0.17392078916363676},{"$f":"Interpolation3D(F23,F20,F21,FIGURE!$H$74:$H$94,FIGURE!$I$72:$L$72,FIGURE!$L$71,FIGURE!$I$74:$L$94,FIGURE!$N$74:$N$89,FIGURE!$O$72:$R$72,FIGURE!$R$71,FIGURE!$O$74:$R$89,FIGURE!$T$74:$T$89,FIGURE!$U$72:$X$72,FIGURE!$X$71,FIGURE!$U$74:$X$89,FIGURE!$Z$74:$Z$89,FIGURE!$AA$72:$AD$72,FIGURE!$AD$71,FIGURE!$AA$74:$AD$89)","v":0},{"$f":"Interpolation3D(G23,G20,G21,FIGURE!$H$74:$H$94,FIGURE!$I$72:$L$72,FIGURE!$L$71,FIGURE!$I$74:$L$94,FIGURE!$N$74:$N$89,FIGURE!$O$72:$R$72,FIGURE!$R$71,FIGURE!$O$74:$R$89,FIGURE!$T$74:$T$89,FIGURE!$U$72:$X$72,FIGURE!$X$71,FIGURE!$U$74:$X$89,FIGURE!$Z$74:$Z$89,FIGURE!$AA$72:$AD$72,FIGURE!$AD$71,FIGURE!$AA$74:$AD$89)","v":0},"-","4.1.1.4-6"]
[null,null,null,"Δ2_clmax",{"$f":"Interpolation2D(E23,E19,FIGURE!$AF$74:$AF$91,FIGURE!$AG$72:$AJ$72,FIGURE!$AG$74:$AJ$91)","v":0},{"$f":"Interpolation2D(F23,F19,FIGURE!$AF$74:$AF$91,FIGURE!$AG$72:$AJ$72,FIGURE!$AG$74:$AJ$91)","v":0},{"$f":"Interpolation2D(G23,G19,FIGURE!$AF$74:$AF$91,FIGURE!$AG$72:$AJ$72,FIGURE!$AG$74:$AJ$91)","v":0},"-","4.1.1.4-7a"]
[null,null,null,"Δ3_clmax",{"$f":"Interpolation2D(E23,E22,FIGURE!$AL$74:$AL$89,FIGURE!$AM$72:$AP$72,FIGURE!$AM$74:$AP$89)","v":-7.7603098049896624E-2},{"$f":"Interpolation2D(F23,F22,FIGURE!$AL$74:$AL$89,FIGURE!$AM$72:$AP$72,FIGURE!$AM$74:$AP$89)","v":-5.6148273387307629E-2},{"$f":"Interpolation2D(G23,G22,FIGURE!$AL$74:$AL$89,FIGURE!$AM$72:$AP$72,FIGURE!$AM$74:$AP$89)","v":-5.6148273387307629E-2},"-","4.1.1.4-7a"]
[null,null,null,"Δ4_clmax",0,0,0,"-","4.1.1.4-8a"]
[null,null,null,"Δ5_clmax",0,0,0,"-","4.1.1.4-8b"]
[null,null,null,"clmax",{"$f":"SUM(E24:E29)","v":1.667892827976845},{"$f":"SUM(F24:F29)","v":1.4103149263162362},{"$f":"SUM(G24:G29)","v":1.4103149263162362},"-","4.1.1.4-a"]
[]
[null,"4.1.3.1","ゼロ揚力角","AR",{"$f":"'Wing Geometry'!D$7","v":6},{"$f":"'Wing Geometry'!E$7","v":2.6666666666666665},{"$f":"'Wing Geometry'!F$7","v":2.6666666666666665},"-","input"]
[null,null,null,"λ",{"$f":"'Wing Geometry'!D$13","v":0.33333333333333331},{"$f":"'Wing Geometry'!E$13","v":0.5},{"$f":"'Wing Geometry'!F$13","v":0.5},"-","input"]
[null,null,null,"Λ_c/4",{"$f":"'Wing Geometry'!D$11","v":26.290151926293273},{"$f":"'Wing Geometry'!E$11","v":24.339630558638699},{"$f":"'Wing Geometry'!F$11","v":24.339630558638699},"deg","input"]
[null,null,null,"θ",{"$f":"'Wing Geometry'!D$25","v":-4},{"$f":"'Wing Geometry'!E$25","v":0},{"$f":"'Wing Geometry'!F$25","v":0},"deg","input"]
[null,null,null,"θr",{"$f":"'Wing Geometry'!D$23","v":4},{"$f":"'Wing Geometry'!E$23","v":0},{"$f":"'Wing Geometry'!F$23","v":0},"deg","input"]
[null,null,null,"cl_i",{"$f":"E4","v":0.5066666666666666},0,0,"-","4.1.1"]
[null,null,null,"alpha_i",0.49333333333333329,0,0,"deg","4.1.1"]
[null,null,null,"(cla)M",{"$f":"E16","v":5.9415030994835396},{"$f":"F16","v":6.0046449820564156},6.0046449820564156,"1/rad","4.1.1.2-a"]
[null,null,null,"alpha0_theta=0",{"$f":"E38-(E37/RADIANS(E39))","v":-4.3926123834138489},{"$f":"F38-(F37/RADIANS(F39))","v":0},0,"deg","4.1.3.1-a"]
[null,null,null,"Δalpha0/theta",{"$f":"Interpolation3D(E34,E32,E33,FIGURE!$B$56:$B$68,FIGURE!$C$54:$E$54,FIGURE!$E$53,FIGURE!$C$56:$E$68,FIGURE!$G$56:$G$68,FIGURE!$H$54:$J$54,FIGURE!$J$53,FIGURE!$H$56:$J$68,FIGURE!$L$56:$L$68,FIGURE!$M$54:$P$54,FIGURE!$P$53,FIGURE!$M$56:$P$68)","v":-0.38387869499616489},{"$f":"Interpolation3D(F34,F32,F33,FIGURE!$B$56:$B$68,FIGURE!$C$54:$E$54,FIGURE!$E$53,FIGURE!$C$56:$E$68,FIGURE!$G$56:$G$68,FIGURE!$H$54:$J$54,FIGURE!$J$53,FIGURE!$H$56:$J$68,FIGURE!$L$56:$L$68,FIGURE!$M$54:$P$54,FIGURE!$P$53,FIGURE!$M$56:$P$68)","v":-0.40045485195401986},{"$f":"Interpolation3D(G34,G32,G33,FIGURE!$B$56:$B$68,FIGURE!$C$54:$E$54,FIGURE!$E$53,FIGURE!$C$56:$E$68,FIGURE!$G$56:$G$68,FIGURE!$H$54:$J$54,FIGURE!$J$53,FIGURE!$H$56:$J$68,FIGURE!$L$56:$L$68,FIGURE!$M$54:$P$54,FIGURE!$P$53,FIGURE!$M$56:$P$68)","v":-0.40045485195401986},null,"4.1.3.1-4"]
[null,null,null,"alpha0",{"$f":"E40+E41*E35","v":-2.8570976034291893},{"$f":"F40+F41*F35","v":0},{"$f":"G40+G41*G35","v":0},"deg","4.1.3.1-c","翼根コードライン基準"]
[null,null,null,"alpha0",{"$f":"E42-E36","v":-6.8570976034291888},{"$f":"F42-F36","v":0},{"$f":"G42-G36","v":0},"deg","4.1.3.1-c"]
[]
[null,"4.1.3.2","3次元揚力傾斜","β",{"$f":"Summary!$D$10","v":0.99610631811582995},{"$f":"Summary!$D$10","v":0.99610631811582995},{"$f":"Summary!$D$10","v":0.99610631811582995},"-","input"]
[null,null,null,"Λ_c/2",{"$f":"'Wing Geometry'!D$12","v":22.327152093734117},{"$f":"'Wing Geometry'!E$12","v":18.125873158100283},{"$f":"'Wing Geometry'!F$12","v":18.125873158100283},"deg","input"]
[null,null,null,"be",{"$f":"E57-E56","v":10.666666666666666},{"$f":"F57-F56","v":3.2},{"$f":"G57-G56/2","v":1.6},"m","input","Exposed Wing"]
[null,null,null,"Ae",{"$f":"(E47*E47)/E59","v":5.6470588235294112},{"$f":"(F47*F47)/F59","v":2.285714285714286},{"$f":"(2*G47*2*G47)/(2*G59)","v":2.285714285714286},"-","input","Exposed Wing"]
[null,null,null,"(cla)M",{"$f":"E16","v":5.9415030994835396},{"$f":"F16","v":6.0046449820564156},6.0046449820564156,"1/rad","4.1.1.2-a"]
[null,null,null,"κ",{"$f":"E49/(2*PI()/E45)","v":0.94193764582076189},{"$f":"F49/(2*PI()/F45)","v":0.95194785960463679},0.95194785960463679,"-","calculated"]
[null,null,null,"(Cla)e",{"$f":"(2*PI()*E48)/(2+SQRT((E48^2)/(E50^2)*(E45^2+(TAN(RADIANS(E46)))^2)+4))","v":4.0494825218067847},{"$f":"(2*PI()*F48)/(2+SQRT((F48^2)/(F50^2)*(F45^2+(TAN(RADIANS(F46)))^2)+4))","v":2.7537313984138008},2.7537313984138008,"1/rad","4.1.3.2"]
[]
[null,"4.1.3.4","3次元最大揚力係数","alpha_CLmax",{"$f":"VLM!T3","v":12.326459718784452},"-","-","deg","4.1.3.4"]
[null,null,null,"CLmax",{"$f":"VLM!T2","v":1.4069539119349428},"-","-","-","4.1.3.4"]
[]
[null,"4.3.1.2","翼胴３次元揚力傾斜","Dmax",{"$f":"'Fuselage Geometry'!D5","v":1.3333333333333333},{"$f":"E56*0.6","v":0.79999999999999993},{"$f":"F56","v":0.79999999999999993},"m","input"]
[null,null,null,"bref",{"$f":"'Wing Geometry'!D$4","v":12},{"$f":"'Wing Geometry'!E$4","v":4},{"$f":"'Wing Geometry'!F$4","v":2},"m","input"]
[null,null,null,"Sref",{"$f":"'Wing Geometry'!D$3","v":24},{"$f":"'Wing Geometry'!E$3","v":6},{"$f":"'Wing Geometry'!F$3","v":3},"m","input"]
[null,null,null,"Se",{"$f":"E58-(E77+E77*(1+(E33-1)*(E56/E57)))*E56/2","v":20.148148148148149},{"$f":"F58-(F77+F77*(1+(F33-1)*(F56/F57)))*F56/2","v":4.4800000000000004},{"$f":"(G58*2-(G77+G77*(1+(G33-1)*(G56/(G57*2))))*G56/2)/2","v":2.2400000000000002},"㎡","input","Exposed Wing"]
[null,null,null,"(Cla)e",{"$f":"E51","v":4.0494825218067847},{"$f":"F51","v":2.7537313984138008},2.7537313984138008,"1/rad","4.1.3.2"]
[null,null,null,"(CLa)N",2,"-","-","1/rad","4.3.1.2-4"]
[null,null,null,"SNref",{"$f":"PI()*(E56/2)^2","v":1.3962634015954636},"-","-","㎡","4.3.1.2-4"]
[null,null,null,"b/d",{"$f":"E56/E57","v":0.1111111111111111},{"$f":"F56/F57","v":0.19999999999999998},{"$f":"G56/(G57*2)","v":0.19999999999999998},"-","calculated"]
[null,null,null,"KN",{"$f":"(E61*E62)/(E60*E59)","v":3.422651539975715E-2},"-","-","-","4.3.1.2-4"]
[null,null,null,"KW(B)",{"$f":"Interpolation1D(E63,FIGURE!$B$132:$B$142,FIGURE!$D$132:$D$142)","v":1.0897909769283722},{"$f":"Interpolation1D(F63,FIGURE!$B$132:$B$142,FIGURE!$D$132:$D$142)","v":1.1700177489332699},{"$f":"Interpolation1D(G63,FIGURE!$B$132:$B$142,FIGURE!$D$132:$D$142)","v":1.1700177489332699},"-","4.3.4.2-10"]
[null,null,null,"KB(W)",{"$f":"Interpolation1D(E63,FIGURE!$B$132:$B$142,FIGURE!$C$132:$C$142)","v":0.14893018354508542},{"$f":"Interpolation1D(F63,FIGURE!$B$132:$B$142,FIGURE!$C$132:$C$142)","v":0.28246351608160902},{"$f":"Interpolation1D(G63,FIGURE!$B$132:$B$142,FIGURE!$C$132:$C$142)","v":0.28246351608160902},"-","4.3.4.2-10"]
[null,null,null,"(CLa)WB",{"$f":"E60*(E64+E65+E66)*(E59/E58)","v":4.3274690962268441},{"$f":"F60*(F65+F66)*(F59/F58)","v":2.986474971259188},{"$f":"G60*(G65+G66)*(G59/G58)","v":2.986474971259188},"1/rad","4.3.1.2-a/b"]
[]
[null,"4.4.1","吹き下ろし角 @水平尾翼MAC","α",0,{"$f":"E69+F36-E108","v":-3.5611773054034495},"-","-","input"]
[null,null,null,"alpha0",{"$f":"E43","v":-6.8570976034291888},{"$f":"F43","v":0},0,"deg","4.1.3.1-c"]
[null,null,null,"alpha_CLmax",{"$f":"E53","v":12.326459718784452},"-","-","deg","4.1.3.4"]
[null,null,null,"λ",{"$f":"'Wing Geometry'!D$13","v":0.33333333333333331},{"$f":"'Wing Geometry'!E$13","v":0.5},{"$f":"'Wing Geometry'!F$13","v":0.5},"-","input"]
[null,null,null,"Λ_c/4",{"$f":"'Wing Geometry'!D$11","v":26.290151926293273},{"$f":"'Wing Geometry'!E$11","v":24.339630558638699},{"$f":"'Wing Geometry'!F$11","v":24.339630558638699},"deg","input"]
[null,null,null,"AR",{"$f":"'Wing Geometry'!D$7","v":6},{"$f":"'Wing Geometry'!E$7","v":2.6666666666666665},{"$f":"'Wing Geometry'!F$7","v":2.6666666666666665},"-","input"]
[null,null,null,"bref",{"$f":"'Wing Geometry'!D$4","v":12},{"$f":"'Wing Geometry'!E$4","v":4},{"$f":"'Wing Geometry'!F$4","v":2},"m","input"]
[null,null,null,"cMAC",{"$f":"'Wing Geometry'!D$6","v":2.166666666666667},{"$f":"'Wing Geometry'!E$6","v":1.5555555555555554},{"$f":"'Wing Geometry'!F$6","v":1.5555555555555554},"m","input"]
[null,null,null,"cr",{"$f":"'Wing Geometry'!D$14","v":3},{"$f":"'Wing Geometry'!E$14","v":2},{"$f":"'Wing Geometry'!F$14","v":2},"m","input"]
[null,null,null,"ct",{"$f":"'Wing Geometry'!D$15","v":1},{"$f":"'Wing Geometry'!E$15","v":1},{"$f":"'Wing Geometry'!F$15","v":1},"m","input"]
[null,null,null,"xref",{"$f":"'Wing Geometry'!D$17","v":3.9850423396407315},{"$f":"'Wing Geometry'!E$17","v":7.9020891281685568},{"$f":"'Wing Geometry'!F$17","v":7.6454890085287222},"m","input"]
[null,null,null,"zref",{"$f":"'Wing Geometry'!D$19","v":-0.25},{"$f":"'Wing Geometry'!E$19","v":0},{"$f":"'Wing Geometry'!F$19","v":0},"m","input"]
[null,null,null,"xLE",{"$f":"'Wing Geometry'!D$20","v":2},{"$f":"'Wing Geometry'!E$20","v":7},{"$f":"'Wing Geometry'!F$20","v":7},"m","input"]
[null,null,null,"Λ_LE",{"$f":"'Wing Geometry'!D$10","v":29.999999999999996},{"$f":"'Wing Geometry'!E$10","v":29.999999999999996},{"$f":"'Wing Geometry'!F$10","v":29.999999999999996},"deg","input"]
[null,null,null,"Γ",{"$f":"'Wing Geometry'!D$26","v":5},{"$f":"'Wing Geometry'!E$26","v":0},{"$f":"'Wing Geometry'!F$26","v":0},"deg","input"]
[null,null,null,"θr",{"$f":"'Wing Geometry'!D$23","v":4},{"$f":"'Wing Geometry'!E$23","v":0},{"$f":"'Wing Geometry'!F$23","v":0},"deg","input"]
[null,null,null,"Δy",{"$f":"E23","v":3.0725360087685298},{"$f":"F23","v":2.5993282608003501},2.5993282608003501,"%c","2.2.1-8"]
[null,null,null,"CD0",{"$f":"DRAG!E20","v":8.5247825078894248E-3},{"$f":"DRAG!F20","v":8.2841570187575514E-3},{"$f":"DRAG!G20","v":8.2841570187575514E-3},"-","4.1.5.1-a"]
[null,null,null,"(CL)W",{"$f":"E60*RADIANS((E69+E36)-E42)","v":0.48463773652070663},{"$f":"F60*RADIANS((F69+F36)-F42)","v":-0.17115616271472511},"-","-","calculated"]
[null,null,null,"(α-α0)/(αCLmax-α0)",{"$f":"(E69-E70)/(E71-E70)","v":0.35744661369395747},"-","-","-","calculated"]
[null,null,null,"Aeff/A",{"$f":"Interpolation2D(Interpolation2D(E88,E73,FIGURE!$B$100:$B$104,FIGURE!$C$98:$F$98,FIGURE!$C$100:$F$104),E72,FIGURE!$H$100:$H$101,FIGURE!$I$98:$K$98,FIGURE!$I$100:$K$101)","v":1},"-","-","-","4.4.1-66"]
[null,null,null,"beff/b",{"$f":"IF(E89=1,1,Interpolation2D(E89,E72,FIGURE!$M$100:$M$106,FIGURE!$N$98:$O$98,FIGURE!$N$100:$O$106))","v":1},"-","-","-","4.4.1-66"]
[null,null,null,"Aeff",{"$f":"E89*E74","v":6},"-","-","-","calculated"]
[null,null,null,"beff",{"$f":"E90*E75","v":12},"-","-","m","calculated"]
[null,null,null,"l2",{"$f":"ABS(F79-(E81+E77))","v":2.9020891281685568},"-","-","m","4.4.1-4"]
[null,null,null,"l2/(b/2)",{"$f":"E93/(E75/2)","v":0.48368152136142611},"-","-","-","calculated"]
[null,null,null,"(∂ε/∂α)∞",{"$f":"Interpolation2D(E91,E73,FIGURE!$AE$100:$AE$108,FIGURE!$AF$98:$AI$98,FIGURE!$AF$100:$AI$108)","v":0.36179811196907791},"-","-","-","4.4.1-67"]
[null,null,null,"(∂ε/∂α)v",{"$f":"E95+0.2*(Interpolation2D(E94,E91,FIGURE!$Q$100:$Q$110,FIGURE!$R$98:$W$98,FIGURE!$R$100:$W$110)/2.5*Interpolation2D(E91,E73,FIGURE!$Y$100:$Y$108,FIGURE!$Z$98:$AC$98,FIGURE!$Z$100:$AC$108))","v":0.50793964458056695},"-","-","-","4.4.1-67"]
[null,null,null,"hH",{"$f":"ABS(F80-E80)","v":0.25},"-","-","m","4.4.1-5"]
[null,null,null,"leff",{"$f":"F79-(E81+(E75/2)*TAN(RADIANS(E82))+0.25*E78)","v":2.1879875130308024},"-","-","m","4.4.1-5"]
[null,null,null,"l3",{"$f":"ABS((E79-0.25*E76)-(E81+E77))","v":1.5566243270259355},"-","-","m","4.4.1-6"]
[null,null,null,"a",{"$f":"E97-IF(Interpolation1D(E73,FIGURE!$AK$99:$AK$110,FIGURE!$AM$99:$AM$110)<E85,E98,IF(Interpolation1D(E73,FIGURE!$AK$99:$AK$110,FIGURE!$AL$99:$AL$110)>E85,E93+E99,\"Caution!\"))*(RADIANS(E69)-(0.41*E87)/(PI()*E91))-(E92/2)*TAN(RADIANS(E83))","v":-0.25186744099828479},"-","-","m","4.4.1-c"]
[null,null,null,"ξru",{"$f":"(0.56*E74)/E87","v":6.9330135620927678},"-","-","-","4.4.1-f"]
[null,null,null,"bv_ru",{"$f":"(0.78+0.1*(E72-0.4)+0.003*E73)*E92","v":10.226445469346558},"-","-","m","4.4.1-f"]
[null,null,null,"bv",{"$f":"E92-(E92-E102)*((2*E98)/(E75*E101))^(1/2)","v":11.593247420706982},"-","-","m","4.4.1-e"]
[null,null,null,"2a/bv",{"$f":"ABS((E100)/(E103/2))","v":4.3450714344009982E-2},"-","-","-","4.4.1-68b"]
[null,null,null,"bH/bv",{"$f":"F75/E103","v":0.34502843378081471},"-","-","-","4.4.1-68b"]
[null,null,null,"(∂ε/∂α)/(∂ε/∂α)v",{"$f":"Interpolation2D(E105,E104,FIGURE!$AP$100:$AP$108,FIGURE!$AQ$98:$AT$98,FIGURE!$AQ$100:$AT$108)","v":1.0224478242152393},"-","-","-","4.4.1-68b"]
[null,null,null,"∂ε/∂α",{"$f":"E96*E106","v":0.51934178443406265},"-","-","-","4.4.1-6"]
[null,null,null,"ε",{"$f":"E107*(E69-E70)","v":3.5611773054034495},"-","-","-","4.4.1-7"]
[null,null,"動圧比 @水平尾翼MAC","x",{"$f":"F79-(E81+E77)","v":2.9020891281685568},"-","-","m","4.4.1-10"]
[null,null,null,"x/cMAC",{"$f":"E109/E76","v":1.3394257514624106},"-","-","-","calculated"]
[null,null,null,"zw/cMAC",{"$f":"0.68*SQRT(DRAG!E20*(E110+0.15))","v":7.6623148892104517E-2},"-","-","-","4.4.1-j"]
[null,null,null,"zw",{"$f":"E111*E76","v":0.1660168225995598},"-","-","m"]
[null,null,null,"ε",{"$f":"DEGREES((1.62*E87)/(PI()*E74))","v":2.3864577583582416},"-","-","deg","4.4.1-k"]
[null,null,null,"γ",{"$f":"E84+DEGREES(ATAN((F80-(E80-E77*0.75*SIN(RADIANS(E84))))/(F79-(E81+E77*COS(RADIANS(E84))))))","v":11.962589139729186},"-","-","deg","4.4.1-11"]
[null,null,null,"z",{"$f":"E109*TAN(RADIANS(E114+E113-(E69+E84)))","v":0.52996569986912323},"-","-","m","4.4.1-l"]
[null,null,null,"(Δq/q)0",{"$f":"(2.42*SQRT(DRAG!E20))/(E110+0.3)","v":0.13629040035728268},"-","-","-","4.4.1-m"]
[null,null,null,"Δq/q",{"$f":"E116*(COS((PI()/2)*(E115/E112)))^2","v":1.2054684615187322E-2},"-","-","-","4.4.1-n"]
[null,null,null,"q/q∞",{"$f":"IF(ABS(E115/E112)>1,1,1-E117)","v":1},"-","-","-","4.4.1-o"]
[]
[null,null,"WING-BODY-TAIL 揚力","Sref",{"$f":"'Wing Geometry'!D$3","v":24},{"$f":"'Wing Geometry'!E$3","v":6},{"$f":"'Wing Geometry'!F$3","v":3},"m","input"]
[null,null,null,"(CL)W",{"$f":"E87","v":0.48463773652070663},{"$f":"F87","v":-0.17115616271472511},"-","-","calculated"]
[null,null,null,"CL",{"$f":"E121+F121*(F120/E120)","v":0.44184869584202535},"-","-","-","calculated"]
[]
[null,"4.5.1.1","WING-BODY-TAIL 揚力傾斜","Sref",{"$f":"'Wing Geometry'!D$3","v":24},{"$f":"'Wing Geometry'!E$3","v":6},{"$f":"'Wing Geometry'!F$3","v":3},"m","input"]
[null,null,null,"(CLa)WB",{"$f":"$E$67","v":4.3274690962268441},{"$f":"$F$67","v":2.986474971259188},{"$f":"$G$67","v":2.986474971259188},"1/rad","4.3.1.2-a/b"]
[null,null,null,"∂ε/∂α",{"$f":"E107","v":0.51934178443406265},"-","-","-","4.4.1-6"]
[null,null,null,"q/q∞",{"$f":"E118","v":1},"-","-","-","4.4.1-o"]
[null,null,null,"CLa",{"$f":"E125+F125*(1-E126)*E127*(F124/E124)","v":4.6863375288562876},"-","-","1/rad","4.5.1.1"]

{"sheet":"DRAG","index":4,"n_rows":20,"n_cols":9,"rows_kept":20,"cut":false,"hidden":false,"merged":[]}
[null,null,null,null,"Wing","Tail","Fin","unit","comment"]
[]
[null,"4.1.5.1","ゼロ揚力有害抗力係数","Sref",{"$f":"'Wing Geometry'!D$3","v":24},{"$f":"'Wing Geometry'!E$3","v":6},{"$f":"'Wing Geometry'!F$3","v":3},"m","input"]
[null,null,null,"Swet",{"$f":"LIFT!E58*2","v":48},{"$f":"LIFT!F58*2","v":12},{"$f":"LIFT!G58*2","v":6},"㎡","input"]
[null,null,null,"cMAC",{"$f":"'Wing Geometry'!D$6","v":2.166666666666667},{"$f":"'Wing Geometry'!E$6","v":1.5555555555555554},{"$f":"'Wing Geometry'!F$6","v":1.5555555555555554},"m","input"]
[null,null,null,"AR",{"$f":"'Wing Geometry'!D$7","v":6},{"$f":"'Wing Geometry'!E$7","v":2.6666666666666665},{"$f":"'Wing Geometry'!F$7","v":2.6666666666666665},"-","input"]
[null,null,null,"Λ_LE",{"$f":"'Wing Geometry'!D$10","v":29.999999999999996},{"$f":"'Wing Geometry'!E$10","v":29.999999999999996},{"$f":"'Wing Geometry'!F$10","v":29.999999999999996},"deg","input"]
[null,null,null,"λ",{"$f":"'Wing Geometry'!D$13","v":0.33333333333333331},{"$f":"'Wing Geometry'!E$13","v":0.5},{"$f":"'Wing Geometry'!F$13","v":0.5},"-","input"]
[null,null,null,"M",{"$f":"Summary!$D$9","v":8.8160098739310577E-2},{"$f":"Summary!$D$9","v":8.8160098739310577E-2},{"$f":"Summary!$D$9","v":8.8160098739310577E-2},"-","input"]
[null,null,null,"t/c",{"$f":"'Wing Geometry'!D$32","v":0.12},{"$f":"'Wing Geometry'!E$32","v":0.1},{"$f":"'Wing Geometry'!F$32","v":0.1},"-","input"]
[null,null,null,"x/c_(t/c)max",{"$f":"'Wing Geometry'!D$31","v":30},{"$f":"'Wing Geometry'!E$31","v":30},{"$f":"'Wing Geometry'!F$31","v":30},"%c","input"]
[null,null,null,"k",{"$f":"0.08*0.001","v":8.0000000000000007E-5},{"$f":"E12","v":8.0000000000000007E-5},{"$f":"E12","v":8.0000000000000007E-5},"ich","4.1.5.1-A"]
[null,null,null,"l/k",{"$f":"IF(E12<>0,(39.3701*E5)/E12,\"-\")","v":1066273.5416666667},{"$f":"IF(F12<>0,(39.3701*F5)/F12,\"-\")","v":765529.72222222202},{"$f":"IF(G12<>0,(39.3701*G5)/G12,\"-\")","v":765529.72222222202},"-","calculated"]
[null,null,null,"Re_cutoff",{"$f":"IF(E12<>0,Interpolation2D(E13,E9,FIGURE!$H$116:$H$123,FIGURE!$I$114:$L$114,FIGURE!$I$116:$L$123),\"-\")","v":83502841.756026968},{"$f":"IF(F12<>0,Interpolation2D(F13,F9,FIGURE!$H$116:$H$123,FIGURE!$I$114:$L$114,FIGURE!$I$116:$L$123),\"-\")","v":59936657.581798539},{"$f":"IF(G12<>0,Interpolation2D(G13,G9,FIGURE!$H$116:$H$123,FIGURE!$I$114:$L$114,FIGURE!$I$116:$L$123),\"-\")","v":59936657.581798539},"-","4.1.5.1-27"]
[null,null,null,"log10(Re_calclated)",{"$f":"IF(E12<>0,MIN(LOG10(E14),LOG10(Summary!$D$8)),LOG10(Summary!$D$8))","v":6.6483523273772986},{"$f":"IF(F12<>0,MIN(LOG10(F14),LOG10(Summary!$D$8)),LOG10(Summary!$D$8))","v":6.6483523273772986},{"$f":"IF(G12<>0,MIN(LOG10(G14),LOG10(Summary!$D$8)),LOG10(Summary!$D$8))","v":6.6483523273772986},"-","calculated"]
[null,null,null,"Cf",{"$f":"Interpolation2D(E15,E9,FIGURE!$B$116:$B$127,FIGURE!$C$114:$F$114,FIGURE!$C$116:$F$127)","v":3.4561442858838812E-3},{"$f":"Interpolation2D(F15,F9,FIGURE!$B$116:$B$127,FIGURE!$C$114:$F$114,FIGURE!$C$116:$F$127)","v":3.4561442858838812E-3},{"$f":"Interpolation2D(G15,G9,FIGURE!$B$116:$B$127,FIGURE!$C$114:$F$114,FIGURE!$C$116:$F$127)","v":3.4561442858838812E-3},"-","4.1.5.1-26"]
[null,null,null,"L",{"$f":"IF(E11>=30,1.2,2)","v":1.2},{"$f":"IF(F11>=30,1.2,2)","v":1.2},{"$f":"IF(G11>=30,1.2,2)","v":1.2},"-","4.1.5.1-2"]
[null,null,null,"cos(Λ(t/c)max)",{"$f":"COS(RADIANS(DEGREES(ATAN(TAN(RADIANS(E7))-(4/E6)*((E11/100-0)*(1-E8)/(1+E8))))))","v":0.90245383376595745},{"$f":"COS(RADIANS(DEGREES(ATAN(TAN(RADIANS(F7))-(4/F6)*((F11/100-0)*(1-F8)/(1+F8))))))","v":0.91955111437258241},{"$f":"COS(RADIANS(DEGREES(ATAN(TAN(RADIANS(G7))-(4/G6)*((G11/100-0)*(1-G8)/(1+G8))))))","v":0.91955111437258241},"-","calculated"]
[null,null,null,"R_L.S.",{"$f":"Interpolation2D(E18,E9,FIGURE!$N$116:$N$126,FIGURE!$O$114:$R$114,FIGURE!$O$116:$R$126)","v":1.0588487983455659},{"$f":"Interpolation2D(F18,F9,FIGURE!$N$116:$N$126,FIGURE!$O$114:$R$114,FIGURE!$O$116:$R$126)","v":1.060591196369173},{"$f":"Interpolation2D(G18,G9,FIGURE!$N$116:$N$126,FIGURE!$O$114:$R$114,FIGURE!$O$116:$R$126)","v":1.060591196369173},"-","4.1.5.1-28b"]
[null,null,null,"CD0",{"$f":"E16*(1+E17*E10+100*(E10^4))*E19*(E4/E3)","v":8.5247825078894248E-3},{"$f":"F16*(1+F17*F10+100*(F10^4))*F19*(F4/F3)","v":8.2841570187575514E-3},{"$f":"G16*(1+G17*G10+100*(G10^4))*G19*(G4/G3)","v":8.2841570187575514E-3},"-","4.1.5.1-a"]

{"sheet":"VLM","index":5,"n_rows":45,"n_cols":22,"rows_kept":45,"cut":false,"hidden":false,"merged":[]}
[]
[null,"cr",{"$f":"'Wing Geometry'!D14","v":3},"CL",0.53302812001534916,0.674824842165474,0.81662156431559962,0.95841828646572436,1.1002150086158493,1.2420117307659746,1.3838084529160992,1.5256051750662249,1.6674018972163489,1.8091986193664746,1.9509953415165981,null,null,null,"CL",{"$f":"Interpolation1D(T3,E3:O3,E2:O2)","v":1.4069539119349428}]
[null,"λ",{"$f":"'Wing Geometry'!D13","v":0.33333333333333331},"alpha",0,2,4,6,8,10,12,14,16,18,20,null,null,null,"alpha",12.326459718784452,{"$f":"MAX(U5:U33)","v":0},"←ゴールシーク(S3)"]
[null,"n","y","eta","cl","cl","cl","cl","cl","cl","cl","cl","cl","cl","cl",null,"Chord","Re_local","clmax","cl","Δ"]
[null,1,{"$f":"-('Wing Geometry'!$D$4/2)*COS(PI()/(COUNT($B:$B)-1)*(B5-1))","v":-6},{"$f":"C5/(Summary!$D$7/2)","v":-1},0,0,0,0,0,0,0,0,0,0,0,null,{"$f":"$C$2*(1+($C$3-1)*ABS(D5))","v":0.99999999999999978},{"$f":"Summary!$D$8*(Q5/Summary!$D$6)","v":2053809.8172109257},{"$f":"LIFT!$E$30-LIFT!$E$27+Interpolation2D(LIFT!$E$23,LOG10(R5),FIGURE!$AL$74:$AL$89,FIGURE!$AM$72:$AP$72,FIGURE!$AM$74:$AP$89)","v":1.6150562503728167},{"$f":"Interpolation2D(D5,$T$3,$D$5:$D$45,$E$3:$O$3,$E$5:$O$45)","v":0},{"$f":"T5-S5","v":-1.6150562503728167}]
[null,2,{"$f":"-('Wing Geometry'!$D$4/2)*COS(PI()/(COUNT($B:$B)-1)*(B6-1))","v":-5.9815040023987676},{"$f":"C6/(Summary!$D$7/2)","v":-0.99691733373312796},0.18037468665649875,0.23513884521104042,0.28990300376558298,0.34466716232012495,0.39943132087466748,0.45419547942920974,0.50895963798375188,0.56372379653829396,0.61848795509283605,0.67325211364737803,0.72801627220192011,null,{"$f":"$C$2*(1+($C$3-1)*ABS(D6))","v":1.0061653325337439},{"$f":"Summary!$D$8*(Q6/Summary!$D$6)","v":2066472.2376950989},{"$f":"LIFT!$E$30-LIFT!$E$27+Interpolation2D(LIFT!$E$23,LOG10(R6),FIGURE!$AL$74:$AL$89,FIGURE!$AM$72:$AP$72,FIGURE!$AM$74:$AP$89)","v":1.6150562503728167},{"$f":"Interpolation2D(D6,$T$3,$D$5:$D$45,$E$3:$O$3,$E$5:$O$45)","v":0.51789878388434341},{"$f":"T6-S6","v":-1.0971574664884733}]
[null,3,{"$f":"-('Wing Geometry'!$D$4/2)*COS(PI()/(COUNT($B:$B)-1)*(B7-1))","v":-5.9261300435708266},{"$f":"C7/(Summary!$D$7/2)","v":-0.98768834059513777},0.27119283931938409,0.35390417846986894,0.43661551762035461,0.51932685677083978,0.60203819592132612,0.68474953507181147,0.76746087422229714,0.85017221337278226,0.93288355252326693,1.0155948916737527,1.0983062308242375,null,1.0246233188097242,{"$f":"Summary!$D$8*(Q7/Summary!$D$6)","v":2104381.4311146522},{"$f":"LIFT!$E$30-LIFT!$E$27+Interpolation2D(LIFT!$E$23,LOG10(R7),FIGURE!$AL$74:$AL$89,FIGURE!$AM$72:$AP$72,FIGURE!$AM$74:$AP$89)","v":1.6150562503728167},{"$f":"Interpolation2D(D7,$T$3,$D$5:$D$45,$E$3:$O$3,$E$5:$O$45)","v":0.78096183448197354},-0.83409441589084321]
[null,4,{"$f":"-('Wing Geometry'!$D$4/2)*COS(PI()/(COUNT($B:$B)-1)*(B8-1))","v":-5.8342195223860589},{"$f":"C8/(Summary!$D$7/2)","v":-0.97236992039767645},0.35287114369016198,0.46110625555300411,0.56934136741584662,0.67757647927868858,0.78581159114153276,0.89404670300437539,1.0022818148672183,1.1105169267300605,1.2187520385929016,1.3269871504557451,1.4352222623185864,null,1.0552601592046469,{"$f":"Summary!$D$8*(Q8/Summary!$D$6)","v":2167303.6746860687},{"$f":"LIFT!$E$30-LIFT!$E$27+Interpolation2D(LIFT!$E$23,LOG10(R8),FIGURE!$AL$74:$AL$89,FIGURE!$AM$72:$AP$72,FIGURE!$AM$74:$AP$89)","v":1.6150562503728167},{"$f":"Interpolation2D(D8,$T$3,$D$5:$D$45,$E$3:$O$3,$E$5:$O$45)","v":1.019949016957892},-0.59510723341492477]
[null,5,{"$f":"-('Wing Geometry'!$D$4/2)*COS(PI()/(COUNT($B:$B)-1)*(B9-1))","v":-5.706339097770921},{"$f":"C9/(Summary!$D$7/2)","v":-0.95105651629515353},0.41972204595946999,0.54902779479014285,0.67833354362081721,0.80763929245149013,0.93694504128216449,1.0662507901128391,1.1955565389435123,1.324862287774186,1.4541680366048575,1.583473785435533,1.7127795342662051,null,1.0978869674096927,{"$f":"Summary!$D$8*(Q9/Summary!$D$6)","v":2254851.031853959},{"$f":"LIFT!$E$30-LIFT!$E$27+Interpolation2D(LIFT!$E$23,LOG10(R9),FIGURE!$AL$74:$AL$89,FIGURE!$AM$72:$AP$72,FIGURE!$AM$74:$AP$89)","v":1.6150562503728167},{"$f":"Interpolation2D(D9,$T$3,$D$5:$D$45,$E$3:$O$3,$E$5:$O$45)","v":1.2166630981437496},-0.39839315222906713]
[null,6,{"$f":"-('Wing Geometry'!$D$4/2)*COS(PI()/(COUNT($B:$B)-1)*(B10-1))","v":-5.54327719506772},{"$f":"C10/(Summary!$D$7/2)","v":-0.92387953251128663},0.47149119918827581,0.61690317913452952,0.76231515908078529,0.90772713902703828,1.0531391189732928,1.198551098919548,1.3439630788658017,1.4893750588120558,1.6347870387583083,1.7801990187045649,1.9256109986508183,null,1.1522409349774265,{"$f":"Summary!$D$8*(Q10/Summary!$D$6)","v":2366483.7440489349},{"$f":"LIFT!$E$30-LIFT!$E$27+Interpolation2D(LIFT!$E$23,LOG10(R10),FIGURE!$AL$74:$AL$89,FIGURE!$AM$72:$AP$72,FIGURE!$AM$74:$AP$89)","v":1.6150562503728167},{"$f":"Interpolation2D(D10,$T$3,$D$5:$D$45,$E$3:$O$3,$E$5:$O$45)","v":1.367698655906374},-0.24735759446644279]
[null,7,{"$f":"-('Wing Geometry'!$D$4/2)*COS(PI()/(COUNT($B:$B)-1)*(B11-1))","v":-5.3460391451302076},{"$f":"C11/(Summary!$D$7/2)","v":-0.8910065241883679},0.51006118552099144,0.66681378859677143,0.82356639167255286,0.98031899474833251,1.1370715978241128,1.2938242008998933,1.4505768039756741,1.6073294070514537,1.7640820101272332,1.9208346132030154,2.0775872162787952,null,1.217986951623264,{"$f":"Summary!$D$8*(Q11/Summary!$D$6)","v":2501513.5584786688},{"$f":"LIFT!$E$30-LIFT!$E$27+Interpolation2D(LIFT!$E$23,LOG10(R11),FIGURE!$AL$74:$AL$89,FIGURE!$AM$72:$AP$72,FIGURE!$AM$74:$AP$89)","v":1.6150562503728167},{"$f":"Interpolation2D(D11,$T$3,$D$5:$D$45,$E$3:$O$3,$E$5:$O$45)","v":1.4761635093350991},-0.13889274103771765]
[null,8,{"$f":"-('Wing Geometry'!$D$4/2)*COS(PI()/(COUNT($B:$B)-1)*(B12-1))","v":-5.1158409861245531},{"$f":"C12/(Summary!$D$7/2)","v":-0.85264016435409218},0.53815373358721663,0.70213181045071682,0.86610988731421878,1.0300879641777192,1.1940660410412196,1.3580441179047202,1.522022194768222,1.6860002716317222,1.849978348495221,2.0139564253587237,2.177934502222223,null,1.2947196712918154,{"$f":"Summary!$D$8*(Q12/Summary!$D$6)","v":2659107.9714352335},{"$f":"LIFT!$E$30-LIFT!$E$27+Interpolation2D(LIFT!$E$23,LOG10(R12),FIGURE!$AL$74:$AL$89,FIGURE!$AM$72:$AP$72,FIGURE!$AM$74:$AP$89)","v":1.6150562503728167},{"$f":"Interpolation2D(D12,$T$3,$D$5:$D$45,$E$3:$O$3,$E$5:$O$45)","v":1.5487883131980587},-6.6267937174758096E-2]
[null,9,{"$f":"-('Wing Geometry'!$D$4/2)*COS(PI()/(COUNT($B:$B)-1)*(B13-1))","v":-4.8541019662496847},{"$f":"C13/(Summary!$D$7/2)","v":-0.80901699437494745},0.55839137498463487,0.72631216320622316,0.89423295142781334,1.0621537396494025,1.2300745278709908,1.39799531609258,1.5659161043141705,1.7338368925357572,1.9017576807573457,2.0696784689789367,2.2375992572005252,null,1.3819660112501047,{"$f":"Summary!$D$8*(Q13/Summary!$D$6)","v":2838295.36095729},{"$f":"LIFT!$E$30-LIFT!$E$27+Interpolation2D(LIFT!$E$23,LOG10(R13),FIGURE!$AL$74:$AL$89,FIGURE!$AM$72:$AP$72,FIGURE!$AM$74:$AP$89)","v":1.6150562503728167},{"$f":"Interpolation2D(D13,$T$3,$D$5:$D$45,$E$3:$O$3,$E$5:$O$45)","v":1.5933257909646119},-2.1730459408204839E-2]
[null,10,{"$f":"-('Wing Geometry'!$D$4/2)*COS(PI()/(COUNT($B:$B)-1)*(B14-1))","v":-4.5624357936001854},{"$f":"C14/(Summary!$D$7/2)","v":-0.76040596560003093},0.57283599978902899,0.74221241287578199,0.91158882596253665,1.0809652390492903,1.2503416521360424,1.4197180652227968,1.5890944783095515,1.758470891396303,1.9278473044830571,2.0972237175698125,2.2666001306565646,null,1.4791880687999379,{"$f":"Summary!$D$8*(Q14/Summary!$D$6)","v":3037970.9772025831},{"$f":"LIFT!$E$30-LIFT!$E$27+Interpolation2D(LIFT!$E$23,LOG10(R14),FIGURE!$AL$74:$AL$89,FIGURE!$AM$72:$AP$72,FIGURE!$AM$74:$AP$89)","v":1.6167417664020616},{"$f":"Interpolation2D(D14,$T$3,$D$5:$D$45,$E$3:$O$3,$E$5:$O$45)","v":1.6167417664020616},0]
[null,11,{"$f":"-('Wing Geometry'!$D$4/2)*COS(PI()/(COUNT($B:$B)-1)*(B15-1))","v":-4.2426406871192857},{"$f":"C15/(Summary!$D$7/2)","v":-0.70710678118654757},0.58291302189368988,0.75190515984406714,0.92089729779444518,1.0898894357448226,1.2588815736951993,1.4278737116455773,1.5968658495959551,1.7658579875463321,1.9348501254967083,2.1038422634470879,2.2728344013974633,null,1.5857864376269046,{"$f":"Summary!$D$8*(Q15/Summary!$D$6)","v":3256903.7535980786},{"$f":"LIFT!$E$30-LIFT!$E$27+Interpolation2D(LIFT!$E$23,LOG10(R15),FIGURE!$AL$74:$AL$89,FIGURE!$AM$72:$AP$72,FIGURE!$AM$74:$AP$89)","v":1.6260671198886933},{"$f":"Interpolation2D(D15,$T$3,$D$5:$D$45,$E$3:$O$3,$E$5:$O$45)","v":1.6244504125119867},-1.6167073767066054E-3]
[null,12,{"$f":"-('Wing Geometry'!$D$4/2)*COS(PI()/(COUNT($B:$B)-1)*(B16-1))","v":-3.8966882899811019},{"$f":"C16/(Summary!$D$7/2)","v":-0.64944804833018366},0.58951103040757658,0.75675676236406231,0.92400249432054893,1.0912482262770351,1.2584939582335193,1.425739690190007,1.592985422146491,1.7602311541029778,1.9274768860594609,2.0947226180159495,2.2619683499724332,null,1.7011039033396327,{"$f":"Summary!$D$8*(Q16/Summary!$D$6)","v":3493743.8967747642},{"$f":"LIFT!$E$30-LIFT!$E$27+Interpolation2D(LIFT!$E$23,LOG10(R16),FIGURE!$AL$74:$AL$89,FIGURE!$AM$72:$AP$72,FIGURE!$AM$74:$AP$89)","v":1.6354741940565689},{"$f":"Interpolation2D(D16,$T$3,$D$5:$D$45,$E$3:$O$3,$E$5:$O$45)","v":1.6202849194576983},-1.518927459887065E-2]
[null,13,{"$f":"-('Wing Geometry'!$D$4/2)*COS(PI()/(COUNT($B:$B)-1)*(B17-1))","v":-3.5267115137548388},{"$f":"C17/(Summary!$D$7/2)","v":-0.58778525229247314},0.59311367704464346,0.75758314105857105,0.92205260507249975,1.0865220690864286,1.2509915331003536,1.4154609971142849,1.5799304611282097,1.7443999251421385,1.9088693891560635,2.0733388531699952,2.2378083171839207,null,1.8244294954150537,{"$f":"Summary!$D$8*(Q17/Summary!$D$6)","v":3747031.2084926139},{"$f":"LIFT!$E$30-LIFT!$E$27+Interpolation2D(LIFT!$E$23,LOG10(R17),FIGURE!$AL$74:$AL$89,FIGURE!$AM$72:$AP$72,FIGURE!$AM$74:$AP$89)","v":1.6448535284582864},{"$f":"Interpolation2D(D17,$T$3,$D$5:$D$45,$E$3:$O$3,$E$5:$O$45)","v":1.606776788613518},-3.8076739844768337E-2]
[null,14,{"$f":"-('Wing Geometry'!$D$4/2)*COS(PI()/(COUNT($B:$B)-1)*(B18-1))","v":-3.1349913882956937},{"$f":"C18/(Summary!$D$7/2)","v":-0.52249856471594891},0.59390928995705627,0.75479417537560012,0.91567906079414407,1.0765639462126888,1.2374488316312309,1.3983337170497776,1.5592186024683194,1.7201034878868637,1.8809883733054049,2.0418732587239519,2.2027581441424933,null,1.955002870568102,{"$f":"Summary!$D$8*(Q18/Summary!$D$6)","v":4015204.0882483092},{"$f":"LIFT!$E$30-LIFT!$E$27+Interpolation2D(LIFT!$E$23,LOG10(R18),FIGURE!$AL$74:$AL$89,FIGURE!$AM$72:$AP$72,FIGURE!$AM$74:$AP$89)","v":1.6541168628318608},{"$f":"Interpolation2D(D18,$T$3,$D$5:$D$45,$E$3:$O$3,$E$5:$O$45)","v":1.5854798196935229},-6.863704313833785E-2]
[null,15,{"$f":"-('Wing Geometry'!$D$4/2)*COS(PI()/(COUNT($B:$B)-1)*(B19-1))","v":-2.7239429984372809},{"$f":"C19/(Summary!$D$7/2)","v":-0.4539904997395468},0.59186827807820053,0.74850204562156142,0.90513581316492175,1.0617695807082821,1.2184033482516414,1.3750371157950032,1.5316708833383632,1.6883046508817239,1.8449384184250797,2.0015721859684428,2.1582059535118017,null,2.0920190005209061,{"$f":"Summary!$D$8*(Q19/Summary!$D$6)","v":4296609.1610616259},{"$f":"LIFT!$E$30-LIFT!$E$27+Interpolation2D(LIFT!$E$23,LOG10(R19),FIGURE!$AL$74:$AL$89,FIGURE!$AM$72:$AP$72,FIGURE!$AM$74:$AP$89)","v":1.6631944111767589},{"$f":"Interpolation2D(D19,$T$3,$D$5:$D$45,$E$3:$O$3,$E$5:$O$45)","v":1.5572381911905406},-0.10595621998621829]
[null,16,{"$f":"-('Wing Geometry'!$D$4/2)*COS(PI()/(COUNT($B:$B)-1)*(B20-1))","v":-2.296100594190539},{"$f":"C20/(Summary!$D$7/2)","v":-0.38268343236508984},0.5867924420100803,0.73859440974709989,0.89039637748411971,1.0421983452211381,1.1940003129581562,1.3458022806951764,1.4976042484321952,1.6494062161692153,1.8012081839062291,1.9530101516432521,2.1048121193802696,null,2.2346331352698203,{"$f":"Summary!$D$8*(Q20/Summary!$D$6)","v":4589511.471081988},{"$f":"LIFT!$E$30-LIFT!$E$27+Interpolation2D(LIFT!$E$23,LOG10(R20),FIGURE!$AL$74:$AL$89,FIGURE!$AM$72:$AP$72,FIGURE!$AM$74:$AP$89)","v":1.672032011544238},{"$f":"Interpolation2D(D20,$T$3,$D$5:$D$45,$E$3:$O$3,$E$5:$O$45)","v":1.5223828622813722},-0.14964914926286577]
[null,17,{"$f":"-('Wing Geometry'!$D$4/2)*COS(PI()/(COUNT($B:$B)-1)*(B21-1))","v":-1.8541019662496847},{"$f":"C21/(Summary!$D$7/2)","v":-0.30901699437494745},0.57834306852533179,0.72478086146997867,0.87121865441462631,1.0176564473592722,1.1640942403039192,1.3105320332485668,1.4569698261932131,1.6034076191378612,1.7498454120825044,1.8962832050271548,2.0427209979717991,null,2.3819660112501051,{"$f":"Summary!$D$8*(Q21/Summary!$D$6)","v":4892105.1781682167},{"$f":"LIFT!$E$30-LIFT!$E$27+Interpolation2D(LIFT!$E$23,LOG10(R21),FIGURE!$AL$74:$AL$89,FIGURE!$AM$72:$AP$72,FIGURE!$AM$74:$AP$89)","v":1.6805884181526161},{"$f":"Interpolation2D(D21,$T$3,$D$5:$D$45,$E$3:$O$3,$E$5:$O$45)","v":1.4808728465452761},-0.19971557160733999]
[null,18,{"$f":"-('Wing Geometry'!$D$4/2)*COS(PI()/(COUNT($B:$B)-1)*(B22-1))","v":-1.4006721831354327},{"$f":"C22/(Summary!$D$7/2)","v":-0.23344536385590545},0.56605589554542013,0.70662451590184894,0.84719313625827852,0.98776175661470611,1.1283303769711353,1.2688989973275653,1.409467617683994,1.5500362380404236,1.6906048583968503,1.8311734787532805,1.9717420991097079,null,2.5331092722881889,{"$f":"Summary!$D$8*(Q22/Summary!$D$6)","v":5202524.6914935075},{"$f":"LIFT!$E$30-LIFT!$E$27+Interpolation2D(LIFT!$E$23,LOG10(R22),FIGURE!$AL$74:$AL$89,FIGURE!$AM$72:$AP$72,FIGURE!$AM$74:$AP$89)","v":1.6888328735289044},{"$f":"Interpolation2D(D22,$T$3,$D$5:$D$45,$E$3:$O$3,$E$5:$O$45)","v":1.4324126138197333},-0.25642025970917115]
[null,19,{"$f":"-('Wing Geometry'!$D$4/2)*COS(PI()/(COUNT($B:$B)-1)*(B23-1))","v":-0.93860679024138549},{"$f":"C23/(Summary!$D$7/2)","v":-0.15643446504023092},0.54935950520246501,0.68358246785035848,0.81780543049825305,0.95202839314614551,1.086251355794039,1.2204743184419342,1.3546972810898272,1.4889202437377205,1.6231432063856133,1.7573661690335083,1.8915891316814013,null,2.6871310699195381,{"$f":"Summary!$D$8*(Q23/Summary!$D$6)","v":5518856.1715332465},{"$f":"LIFT!$E$30-LIFT!$E$27+Interpolation2D(LIFT!$E$23,LOG10(R23),FIGURE!$AL$74:$AL$89,FIGURE!$AM$72:$AP$72,FIGURE!$AM$74:$AP$89)","v":1.6967430134868657},{"$f":"Interpolation2D(D23,$T$3,$D$5:$D$45,$E$3:$O$3,$E$5:$O$45)","v":1.376606476410051},-0.32013653707681478]
[null,20,{"$f":"-('Wing Geometry'!$D$4/2)*COS(PI()/(COUNT($B:$B)-1)*(B24-1))","v":-0.47075457436707002},{"$f":"C24/(Summary!$D$7/2)","v":-7.8459095727844999E-2},0.52767800031257084,0.65515973956778695,0.78264147882300394,0.91012321807821972,1.0376049573334367,1.1650866965886535,1.2925684358438689,1.4200501750990853,1.5475319143543016,1.6750136536095186,1.8024953928647347,null,2.8430818085443104,{"$f":"Summary!$D$8*(Q24/Summary!$D$6)","v":5839149.3295220993},{"$f":"LIFT!$E$30-LIFT!$E$27+Interpolation2D(LIFT!$E$23,LOG10(R24),FIGURE!$AL$74:$AL$89,FIGURE!$AM$72:$AP$72,FIGURE!$AM$74:$AP$89)","v":1.704303106805529},{"$f":"Interpolation2D(D24,$T$3,$D$5:$D$45,$E$3:$O$3,$E$5:$O$45)","v":1.3133772622175743},-0.39092584458795465]
[null,21,{"$f":"-('Wing Geometry'!$D$4/2)*COS(PI()/(COUNT($B:$B)-1)*(B25-1))","v":-3.67544536472586E-16},{"$f":"C25/(Summary!$D$7/2)","v":-6.1257422745431001E-17},0.50237499833595867,0.62324625526591537,0.74411751219587285,0.86498876912582956,0.98586002605578693,1.1067312829857441,1.2276025399157005,1.3484737968456577,1.469345053775615,1.5902163107055716,1.7110875676355286,null,3,{"$f":"Summary!$D$8*(Q25/Summary!$D$6)","v":6161429.4516327782},{"$f":"LIFT!$E$30-LIFT!$E$27+Interpolation2D(LIFT!$E$23,LOG10(R25),FIGURE!$AL$74:$AL$89,FIGURE!$AM$72:$AP$72,FIGURE!$AM$74:$AP$89)","v":1.7104035380986178},{"$f":"Interpolation2D(D25,$T$3,$D$5:$D$45,$E$3:$O$3,$E$5:$O$45)","v":1.247332338188939},-0.46307119990967882]
[null,22,{"$f":"-('Wing Geometry'!$D$4/2)*COS(PI()/(COUNT($B:$B)-1)*(B26-1))","v":0.47075457436706925},{"$f":"C26/(Summary!$D$7/2)","v":7.8459095727844874E-2},0.52767800031257106,0.65515973956778717,0.78264147882300428,0.91012321807822039,1.0376049573334367,1.165086696588653,1.29256843584387,1.4200501750990864,1.5475319143543023,1.6750136536095179,1.8024953928647351,null,2.8430818085443104,{"$f":"Summary!$D$8*(Q26/Summary!$D$6)","v":5839149.3295220993},{"$f":"LIFT!$E$30-LIFT!$E$27+Interpolation2D(LIFT!$E$23,LOG10(R26),FIGURE!$AL$74:$AL$89,FIGURE!$AM$72:$AP$72,FIGURE!$AM$74:$AP$89)","v":1.704303106805529},{"$f":"Interpolation2D(D26,$T$3,$D$5:$D$45,$E$3:$O$3,$E$5:$O$45)","v":1.3133772622175754},-0.39092584458795354]
[null,23,{"$f":"-('Wing Geometry'!$D$4/2)*COS(PI()/(COUNT($B:$B)-1)*(B27-1))","v":0.93860679024138483},{"$f":"C27/(Summary!$D$7/2)","v":0.15643446504023081},0.54935950520246546,0.6835824678503587,0.81780543049825261,0.95202839314614607,1.0862513557940403,1.2204743184419333,1.3546972810898275,1.4889202437377218,1.6231432063856144,1.7573661690335076,1.8915891316814017,null,2.6871310699195385,{"$f":"Summary!$D$8*(Q27/Summary!$D$6)","v":5518856.1715332475},{"$f":"LIFT!$E$30-LIFT!$E$27+Interpolation2D(LIFT!$E$23,LOG10(R27),FIGURE!$AL$74:$AL$89,FIGURE!$AM$72:$AP$72,FIGURE!$AM$74:$AP$89)","v":1.6967430134868657},{"$f":"Interpolation2D(D27,$T$3,$D$5:$D$45,$E$3:$O$3,$E$5:$O$45)","v":1.3766064764100512},-0.32013653707681455]
[null,24,{"$f":"-('Wing Geometry'!$D$4/2)*COS(PI()/(COUNT($B:$B)-1)*(B28-1))","v":1.4006721831354321},{"$f":"C28/(Summary!$D$7/2)","v":0.23344536385590534},0.56605589554542046,0.70662451590184949,0.84719313625827875,0.98776175661470711,1.1283303769711361,1.2688989973275651,1.4094676176839938,1.5500362380404236,1.690604858396852,1.8311734787532812,1.9717420991097092,null,2.5331092722881894,{"$f":"Summary!$D$8*(Q28/Summary!$D$6)","v":5202524.6914935075},{"$f":"LIFT!$E$30-LIFT!$E$27+Interpolation2D(LIFT!$E$23,LOG10(R28),FIGURE!$AL$74:$AL$89,FIGURE!$AM$72:$AP$72,FIGURE!$AM$74:$AP$89)","v":1.6888328735289044},{"$f":"Interpolation2D(D28,$T$3,$D$5:$D$45,$E$3:$O$3,$E$5:$O$45)","v":1.4324126138197331},-0.25642025970917137]
[null,25,{"$f":"-('Wing Geometry'!$D$4/2)*COS(PI()/(COUNT($B:$B)-1)*(B29-1))","v":1.854101966249684},{"$f":"C29/(Summary!$D$7/2)","v":0.30901699437494734},0.57834306852533213,0.72478086146997944,0.87121865441462665,1.0176564473592729,1.1640942403039196,1.3105320332485666,1.4569698261932129,1.6034076191378606,1.7498454120825075,1.8962832050271539,2.0427209979718,null,2.3819660112501051,{"$f":"Summary!$D$8*(Q29/Summary!$D$6)","v":4892105.1781682167},{"$f":"LIFT!$E$30-LIFT!$E$27+Interpolation2D(LIFT!$E$23,LOG10(R29),FIGURE!$AL$74:$AL$89,FIGURE!$AM$72:$AP$72,FIGURE!$AM$74:$AP$89)","v":1.6805884181526161},{"$f":"Interpolation2D(D29,$T$3,$D$5:$D$45,$E$3:$O$3,$E$5:$O$45)","v":1.4808728465452756},-0.19971557160734044]
[null,26,{"$f":"-('Wing Geometry'!$D$4/2)*COS(PI()/(COUNT($B:$B)-1)*(B30-1))","v":2.2961005941905386},{"$f":"C30/(Summary!$D$7/2)","v":0.38268343236508978},0.58679244201008118,0.73859440974710022,0.89039637748411904,1.0421983452211381,1.1940003129581567,1.3458022806951759,1.4976042484321939,1.6494062161692136,1.8012081839062322,1.9530101516432514,2.1048121193802696,null,2.2346331352698203,{"$f":"Summary!$D$8*(Q30/Summary!$D$6)","v":4589511.471081988},{"$f":"LIFT!$E$30-LIFT!$E$27+Interpolation2D(LIFT!$E$23,LOG10(R30),FIGURE!$AL$74:$AL$89,FIGURE!$AM$72:$AP$72,FIGURE!$AM$74:$AP$89)","v":1.672032011544238},{"$f":"Interpolation2D(D30,$T$3,$D$5:$D$45,$E$3:$O$3,$E$5:$O$45)","v":1.5223828622813709},-0.1496491492628671]
[null,27,{"$f":"-('Wing Geometry'!$D$4/2)*COS(PI()/(COUNT($B:$B)-1)*(B31-1))","v":2.72394299843728},{"$f":"C31/(Summary!$D$7/2)","v":0.45399049973954669},0.59186827807820153,0.74850204562156153,0.90513581316492109,1.0617695807082816,1.2184033482516419,1.3750371157950019,1.5316708833383608,1.6883046508817219,1.8449384184250817,2.0015721859684423,2.1582059535118008,null,2.0920190005209065,{"$f":"Summary!$D$8*(Q31/Summary!$D$6)","v":4296609.1610616269},{"$f":"LIFT!$E$30-LIFT!$E$27+Interpolation2D(LIFT!$E$23,LOG10(R31),FIGURE!$AL$74:$AL$89,FIGURE!$AM$72:$AP$72,FIGURE!$AM$74:$AP$89)","v":1.6631944111767589},{"$f":"Interpolation2D(D31,$T$3,$D$5:$D$45,$E$3:$O$3,$E$5:$O$45)","v":1.5572381911905382},-0.10595621998622073]
[null,28,{"$f":"-('Wing Geometry'!$D$4/2)*COS(PI()/(COUNT($B:$B)-1)*(B32-1))","v":3.1349913882956928},{"$f":"C32/(Summary!$D$7/2)","v":0.5224985647159488},0.59390928995705683,0.75479417537560045,0.91567906079414396,1.0765639462126875,1.2374488316312318,1.3983337170497749,1.5592186024683179,1.7201034878868622,1.8809883733054062,2.0418732587239501,2.2027581441424915,null,1.9550028705681024,{"$f":"Summary!$D$8*(Q32/Summary!$D$6)","v":4015204.0882483101},{"$f":"LIFT!$E$30-LIFT!$E$27+Interpolation2D(LIFT!$E$23,LOG10(R32),FIGURE!$AL$74:$AL$89,FIGURE!$AM$72:$AP$72,FIGURE!$AM$74:$AP$89)","v":1.6541168628318608},{"$f":"Interpolation2D(D32,$T$3,$D$5:$D$45,$E$3:$O$3,$E$5:$O$45)","v":1.5854798196935214},-6.8637043138339404E-2]
[null,29,{"$f":"-('Wing Geometry'!$D$4/2)*COS(PI()/(COUNT($B:$B)-1)*(B33-1))","v":3.5267115137548384},{"$f":"C33/(Summary!$D$7/2)","v":0.58778525229247303},0.59311367704464357,0.75758314105857116,0.92205260507249942,1.0865220690864266,1.2509915331003547,1.415460997114282,1.5799304611282095,1.7443999251421372,1.9088693891560651,2.0733388531699934,2.2378083171839198,null,1.8244294954150539,{"$f":"Summary!$D$8*(Q33/Summary!$D$6)","v":3747031.2084926139},{"$f":"LIFT!$E$30-LIFT!$E$27+Interpolation2D(LIFT!$E$23,LOG10(R33),FIGURE!$AL$74:$AL$89,FIGURE!$AM$72:$AP$72,FIGURE!$AM$74:$AP$89)","v":1.6448535284582864},{"$f":"Interpolation2D(D33,$T$3,$D$5:$D$45,$E$3:$O$3,$E$5:$O$45)","v":1.6067767886135176},-3.8076739844768781E-2]
[null,30,{"$f":"-('Wing Geometry'!$D$4/2)*COS(PI()/(COUNT($B:$B)-1)*(B34-1))","v":3.8966882899811015},{"$f":"C34/(Summary!$D$7/2)","v":0.64944804833018355},0.58951103040757658,0.7567567623640622,0.92400249432054871,1.091248226277034,1.2584939582335199,1.4257396901900052,1.5929854221464903,1.7602311541029763,1.9274768860594618,2.0947226180159486,2.2619683499724328,null,1.7011039033396327,{"$f":"Summary!$D$8*(Q34/Summary!$D$6)","v":3493743.8967747642},{"$f":"LIFT!$E$30-LIFT!$E$27+Interpolation2D(LIFT!$E$23,LOG10(R34),FIGURE!$AL$74:$AL$89,FIGURE!$AM$72:$AP$72,FIGURE!$AM$74:$AP$89)","v":1.6354741940565689},{"$f":"Interpolation2D(D34,$T$3,$D$5:$D$45,$E$3:$O$3,$E$5:$O$45)","v":1.6202849194576974},-1.5189274598871538E-2]
[null,31,{"$f":"-('Wing Geometry'!$D$4/2)*COS(PI()/(COUNT($B:$B)-1)*(B35-1))","v":4.2426406871192848},{"$f":"C35/(Summary!$D$7/2)","v":0.70710678118654746},0.58291302189368899,0.75190515984406647,0.92089729779444418,1.0898894357448214,1.2588815736951986,1.4278737116455753,1.5968658495959529,1.7658579875463296,1.9348501254967072,2.1038422634470857,2.2728344013974611,null,1.5857864376269051,{"$f":"Summary!$D$8*(Q35/Summary!$D$6)","v":3256903.7535980796},{"$f":"LIFT!$E$30-LIFT!$E$27+Interpolation2D(LIFT!$E$23,LOG10(R35),FIGURE!$AL$74:$AL$89,FIGURE!$AM$72:$AP$72,FIGURE!$AM$74:$AP$89)","v":1.6260671198886933},{"$f":"Interpolation2D(D35,$T$3,$D$5:$D$45,$E$3:$O$3,$E$5:$O$45)","v":1.6244504125119845},-1.6167073767088258E-3]
[null,32,{"$f":"-('Wing Geometry'!$D$4/2)*COS(PI()/(COUNT($B:$B)-1)*(B36-1))","v":4.5624357936001854},{"$f":"C36/(Summary!$D$7/2)","v":0.76040596560003093},0.57283599978902822,0.74221241287578199,0.91158882596253532,1.080965239049289,1.2503416521360422,1.4197180652227954,1.5890944783095493,1.7584708913963023,1.9278473044830553,2.0972237175698099,2.2666001306565611,null,1.4791880687999379,{"$f":"Summary!$D$8*(Q36/Summary!$D$6)","v":3037970.9772025831},{"$f":"LIFT!$E$30-LIFT!$E$27+Interpolation2D(LIFT!$E$23,LOG10(R36),FIGURE!$AL$74:$AL$89,FIGURE!$AM$72:$AP$72,FIGURE!$AM$74:$AP$89)","v":1.6167417664020616},{"$f":"Interpolation2D(D36,$T$3,$D$5:$D$45,$E$3:$O$3,$E$5:$O$45)","v":1.6167417664020596},-1.9984014443252818E-15]
[null,33,{"$f":"-('Wing Geometry'!$D$4/2)*COS(PI()/(COUNT($B:$B)-1)*(B37-1))","v":4.8541019662496838},{"$f":"C37/(Summary!$D$7/2)","v":0.80901699437494734},0.5583913749846342,0.72631216320622327,0.89423295142781212,1.0621537396494016,1.2300745278709899,1.3979953160925787,1.5659161043141676,1.7338368925357568,1.9017576807573455,2.0696784689789349,2.237599257200523,null,1.3819660112501051,{"$f":"Summary!$D$8*(Q37/Summary!$D$6)","v":2838295.360957291},{"$f":"LIFT!$E$30-LIFT!$E$27+Interpolation2D(LIFT!$E$23,LOG10(R37),FIGURE!$AL$74:$AL$89,FIGURE!$AM$72:$AP$72,FIGURE!$AM$74:$AP$89)","v":1.6150562503728167},{"$f":"Interpolation2D(D37,$T$3,$D$5:$D$45,$E$3:$O$3,$E$5:$O$45)","v":1.5933257909646095},-2.1730459408207281E-2]
[null,34,{"$f":"-('Wing Geometry'!$D$4/2)*COS(PI()/(COUNT($B:$B)-1)*(B38-1))","v":5.1158409861245531},{"$f":"C38/(Summary!$D$7/2)","v":0.85264016435409218},0.53815373358721685,0.70213181045071738,0.86610988731421878,1.0300879641777201,1.1940660410412203,1.3580441179047207,1.5220221947682213,1.6860002716317224,1.8499783484952239,2.0139564253587245,2.1779345022222256,null,1.2947196712918154,{"$f":"Summary!$D$8*(Q38/Summary!$D$6)","v":2659107.9714352335},{"$f":"LIFT!$E$30-LIFT!$E$27+Interpolation2D(LIFT!$E$23,LOG10(R38),FIGURE!$AL$74:$AL$89,FIGURE!$AM$72:$AP$72,FIGURE!$AM$74:$AP$89)","v":1.6150562503728167},{"$f":"Interpolation2D(D38,$T$3,$D$5:$D$45,$E$3:$O$3,$E$5:$O$45)","v":1.5487883131980582},-6.626793717475854E-2]
[null,35,{"$f":"-('Wing Geometry'!$D$4/2)*COS(PI()/(COUNT($B:$B)-1)*(B39-1))","v":5.3460391451302067},{"$f":"C39/(Summary!$D$7/2)","v":0.89100652418836779},0.510061185520992,0.66681378859677187,0.82356639167255274,0.98031899474833406,1.1370715978241135,1.2938242008998939,1.4505768039756741,1.6073294070514546,1.7640820101272354,1.9208346132030161,2.0775872162787965,null,1.2179869516232644,{"$f":"Summary!$D$8*(Q39/Summary!$D$6)","v":2501513.5584786697},{"$f":"LIFT!$E$30-LIFT!$E$27+Interpolation2D(LIFT!$E$23,LOG10(R39),FIGURE!$AL$74:$AL$89,FIGURE!$AM$72:$AP$72,FIGURE!$AM$74:$AP$89)","v":1.6150562503728167},{"$f":"Interpolation2D(D39,$T$3,$D$5:$D$45,$E$3:$O$3,$E$5:$O$45)","v":1.4761635093350991},-0.13889274103771765]
[null,36,{"$f":"-('Wing Geometry'!$D$4/2)*COS(PI()/(COUNT($B:$B)-1)*(B40-1))","v":5.54327719506772},{"$f":"C40/(Summary!$D$7/2)","v":0.92387953251128663},0.4714911991882762,0.61690317913453041,0.76231515908078495,0.90772713902704016,1.0531391189732937,1.1985510989195485,1.3439630788658028,1.4893750588120569,1.6347870387583117,1.780199018704566,1.9256109986508212,null,1.1522409349774265,{"$f":"Summary!$D$8*(Q40/Summary!$D$6)","v":2366483.7440489349},{"$f":"LIFT!$E$30-LIFT!$E$27+Interpolation2D(LIFT!$E$23,LOG10(R40),FIGURE!$AL$74:$AL$89,FIGURE!$AM$72:$AP$72,FIGURE!$AM$74:$AP$89)","v":1.6150562503728167},{"$f":"Interpolation2D(D40,$T$3,$D$5:$D$45,$E$3:$O$3,$E$5:$O$45)","v":1.3676986559063751},-0.24735759446644168]
[null,37,{"$f":"-('Wing Geometry'!$D$4/2)*COS(PI()/(COUNT($B:$B)-1)*(B41-1))","v":5.706339097770921},{"$f":"C41/(Summary!$D$7/2)","v":0.95105651629515353},0.41972204595946994,0.54902779479014341,0.6783335436208171,0.80763929245149135,0.93694504128216494,1.0662507901128384,1.1955565389435121,1.3248622877741854,1.4541680366048597,1.5834737854355339,1.7127795342662078,null,1.0978869674096927,{"$f":"Summary!$D$8*(Q41/Summary!$D$6)","v":2254851.031853959},{"$f":"LIFT!$E$30-LIFT!$E$27+Interpolation2D(LIFT!$E$23,LOG10(R41),FIGURE!$AL$74:$AL$89,FIGURE!$AM$72:$AP$72,FIGURE!$AM$74:$AP$89)","v":1.6150562503728167},{"$f":"Interpolation2D(D41,$T$3,$D$5:$D$45,$E$3:$O$3,$E$5:$O$45)","v":1.2166630981437494},-0.39839315222906735]
[null,38,{"$f":"-('Wing Geometry'!$D$4/2)*COS(PI()/(COUNT($B:$B)-1)*(B42-1))","v":5.8342195223860589},{"$f":"C42/(Summary!$D$7/2)","v":0.97236992039767645},0.35287114369016226,0.46110625555300472,0.56934136741584762,0.67757647927869058,0.78581159114153354,0.89404670300437583,1.0022818148672186,1.1105169267300612,1.2187520385929043,1.3269871504557473,1.43522226231859,null,1.0552601592046469,{"$f":"Summary!$D$8*(Q42/Summary!$D$6)","v":2167303.6746860687},{"$f":"LIFT!$E$30-LIFT!$E$27+Interpolation2D(LIFT!$E$23,LOG10(R42),FIGURE!$AL$74:$AL$89,FIGURE!$AM$72:$AP$72,FIGURE!$AM$74:$AP$89)","v":1.6150562503728167},{"$f":"Interpolation2D(D42,$T$3,$D$5:$D$45,$E$3:$O$3,$E$5:$O$45)","v":1.0199490169578922},-0.59510723341492455]
[null,39,{"$f":"-('Wing Geometry'!$D$4/2)*COS(PI()/(COUNT($B:$B)-1)*(B43-1))","v":5.9261300435708257},{"$f":"C43/(Summary!$D$7/2)","v":0.98768834059513766},0.27119283931938359,0.35390417846986871,0.43661551762035428,0.51932685677083967,0.60203819592132535,0.68474953507181036,0.7674608742222957,0.85017221337278115,0.93288355252326671,1.0155948916737521,1.0983062308242375,null,1.0246233188097245,{"$f":"Summary!$D$8*(Q43/Summary!$D$6)","v":2104381.4311146527},{"$f":"LIFT!$E$30-LIFT!$E$27+Interpolation2D(LIFT!$E$23,LOG10(R43),FIGURE!$AL$74:$AL$89,FIGURE!$AM$72:$AP$72,FIGURE!$AM$74:$AP$89)","v":1.6150562503728167},{"$f":"Interpolation2D(D43,$T$3,$D$5:$D$45,$E$3:$O$3,$E$5:$O$45)","v":0.78096183448197221},-0.83409441589084454]
[null,40,{"$f":"-('Wing Geometry'!$D$4/2)*COS(PI()/(COUNT($B:$B)-1)*(B44-1))","v":5.9815040023987676},{"$f":"C44/(Summary!$D$7/2)","v":0.99691733373312796},0.18037468665649764,0.23513884521103931,0.28990300376558131,0.34466716232012329,0.39943132087466526,0.45419547942920702,0.50895963798374888,0.56372379653829097,0.61848795509283305,0.67325211364737503,0.72801627220191667,null,1.0061653325337439,{"$f":"Summary!$D$8*(Q44/Summary!$D$6)","v":2066472.2376950989},{"$f":"LIFT!$E$30-LIFT!$E$27+Interpolation2D(LIFT!$E$23,LOG10(R44),FIGURE!$AL$74:$AL$89,FIGURE!$AM$72:$AP$72,FIGURE!$AM$74:$AP$89)","v":1.6150562503728167},{"$f":"Interpolation2D(D44,$T$3,$D$5:$D$45,$E$3:$O$3,$E$5:$O$45)","v":0.51789878388434041},-1.0971574664884765]
[null,41,{"$f":"-('Wing Geometry'!$D$4/2)*COS(PI()/(COUNT($B:$B)-1)*(B45-1))","v":6},{"$f":"C45/(Summary!$D$7/2)","v":1},0,0,0,0,0,0,0,0,0,0,0,null,0.99999999999999978,{"$f":"Summary!$D$8*(Q45/Summary!$D$6)","v":2053809.8172109257},{"$f":"LIFT!$E$30-LIFT!$E$27+Interpolation2D(LIFT!$E$23,LOG10(R45),FIGURE!$AL$74:$AL$89,FIGURE!$AM$72:$AP$72,FIGURE!$AM$74:$AP$89)","v":1.6150562503728167},{"$f":"Interpolation2D(D45,$T$3,$D$5:$D$45,$E$3:$O$3,$E$5:$O$45)","v":0},-1.6150562503728167]

{"sheet":"FIGURE","index":6,"n_rows":142,"n_cols":46,"rows_kept":142,"cut":false,"hidden":false,"merged":[]}
[]
[null,"FIGURE 2.2.1-8"]
[null,"t/c","Δy"]
[null,0,0]
[null,0.01,0.2632529320467204]
[null,0.02,0.5265058640934408]
[null,0.03,0.7897587961401612]
[null,0.04,1.0530117281868816]
[null,0.05,1.3162646602336021]
[null,0.06,1.5795175922803224]
[null,7.0000000000000007E-2,1.8427705243270431]
[null,0.08,2.1060234563737632]
[null,0.09,2.3692763884204835]
[null,0.1,2.5993282608003501]
[null,0.11,2.83240175188855]
[null,0.12,3.0725360087685298]
[null,0.13,3.3197310314403001]
[null,0.14000000000000001,3.55987665831351]
[null,0.15,3.7929274094152601]
[null,0.16,4.0259895305102296]
[null,0.17,4.2731845531820003]
[null,0.18,4.50624667427698]
[null,0.19,4.7463809311569598]
[null,0.2,4.9865151880369396]
[]
[]
[null,"TABLE 4.1.1-D"]
[null,"Mean Line","cl_i","alpha_i","cm_c/4"]
[null,62,0.9,2.81,-0.113]
[null,63,0.8,1.6,-0.13400000000000001]
[null,64,0.76,0.74,-0.157]
[null,65,0.73,0,-0.187]
[null,66,0.76,-0.74,-0.222]
[null,67,0.8,-1.6,-0.26600000000000001]
[]
[]
[null,"FIGURE 4.1.1.2-8a"]
[null,"log10(Re)",6,7,8]
[null,"tan((1/2)phi'_TE)","cla/cla_theory","cla/cla_theory","cla/cla_theory"]
[null,7.6940294331605196E-5,0.90178571428571397,0.95178571428571401,0.96726190476190399]
[null,2.030524313133E-2,0.88035714285714195,0.93928571428571395,0.95773809523809506]
[null,4.0063510715684598E-2,0.85892857142857104,0.92440476190476095,0.94702380952380905]
[null,6.0057262231175197E-2,0.83690476190476104,0.91011904761904705,0.93630952380952304]
[null,7.9815529815529807E-2,0.81547619047619002,0.89464285714285696,0.92499999999999905]
[null,9.9809281331020405E-2,0.79345238095238002,0.878571428571428,0.91130952380952301]
[null,0.12027213548952601,0.77261904761904698,0.86011904761904701,0.89642857142857102]
[null,0.140266353309831,0.75,0.84226190476190399,0.88035714285714195]
[null,0.160024154589372,0.72916666666666596,0.82321428571428501,0.86249999999999905]
[null,0.17978148956409801,0.70892857142857102,0.80238095238095197,0.84285714285714197]
[null,0.200010725010725,0.68630952380952304,0.78154761904761805,0.82202380952380905]
[]
[]
[null,"FIGURE 4.1.3.1-4",null,"λ",0,null,"FIGURE 4.1.3.1-4",null,"λ",0.5,null,"FIGURE 4.1.3.1-4",null,null,"λ",1]
[null,"AR",1.5,3.5,6,null,"AR",1.5,3.5,6,null,"AR",1.5,3.5,6,10]
[null,"Λ_c/4","Δalpha0/theta","Δalpha0/theta","Δalpha0/theta",null,"Λ_c/4","Δalpha0/theta","Δalpha0/theta","Δalpha0/theta",null,"Λ_c/4","Δalpha0/theta","Δalpha0/theta","Δalpha0/theta","Δalpha0/theta"]
[null,0,-0.39999981398671097,-0.38184491700086998,-0.36681504326669101,null,0,-0.407105815449191,-0.40991320831358702,-0.41261742603750501,null,0,-0.40701104830707802,-0.41735632183908,-0.42689644023768902,-0.437241267823896]
[null,5,-0.39926859574848,-0.37903034992819801,-0.36355423031421302,null,5,-0.40609247850517899,-0.407964795883826,-0.410563942861011,null,5,-0.40828522693066599,-0.41621637289987401,-0.42552660624101102,-0.43506705909896598]
[null,10,-0.398536819470383,-0.376364035446692,-0.360590480583932,null,10,-0.40528657504569698,-0.40528657504569698,-0.40851073048540998,null,10,-0.40863964235147199,-0.41507642396066702,-0.424271937745967,-0.43312240097216098]
[null,15,-0.39765660458783098,-0.37369790697847399,-0.35718029896055697,null,15,-0.40489662175885099,-0.40323309186920298,-0.40624818901902299,null,15,-0.409223942829749,-0.41416658305183002,-0.42313221177965799,-0.43083324971849601]
[null,20,-0.39677601767870302,-0.37118058914128799,-0.35406736657266702,null,20,-0.40377848486899998,-0.40076311691828498,-0.403674226524947,null,20,-0.40900364560687602,-0.41279708351449801,-0.42199237432690001,-0.42865915248001601]
[null,25,-0.39559799552079999,-0.36806802877997602,-0.35065737096258098,null,25,-0.40276460632319999,-0.39839685870963298,-0.401516755805294,null,25,-0.40889817942628998,-0.411657023088843,-0.42085242538769402,-0.42694426792423301]
[null,30,-0.39427134874515402,-0.36540190031175801,-0.34680094345939999,null,30,-0.40185498612145398,-0.39603195450544898,-0.39946327262879899,null,30,-0.40821844654782202,-0.41074707069355698,-0.41925292930644198,-0.424885001728039]
[null,35,-0.39279570532518798,-0.36288495450114899,-0.34294414392964201,null,35,-0.40104881186107899,-0.39356197955453198,-0.39720154356509302,null,35,-0.40673355853595899,-0.409492290712063,-0.41845769646699399,-0.42385999531756902]
[null,40,-0.39117106526090201,-0.35977202211325898,-0.33908734439988297,null,40,-0.39972324148669602,-0.39109227540450803,-0.39504353124365299,null,40,-0.404904177397237,-0.40835234177285701,-0.41731797050068498,-0.42295015440873102]
[null,45,-0.38850456476610601,-0.35576678397904699,-0.33537954151444499,null,45,-0.39808489608015701,-0.38841459616816698,-0.39247011035136398,null,45,-0.40272996867230698,-0.40709756179136403,-0.41640801810539901,-0.422729968672307]
[null,50,-0.384350702014151,-0.35012407086362202,-0.33092749946056099,null,50,-0.395823979419132,-0.38469704150023698,-0.38948019768465197,null,50,-0.39952105421585998,-0.40630277489771099,-0.41618772088252598,-0.42262450249172201]
[null,55,-0.37930341743614099,-0.343291244726523,-0.32528534438500201,null,55,-0.39252129172026201,-0.38035447836977798,-0.38524216369913999,null,55,-0.395622484586998,-0.40562259607344697,-0.416197197230676,-0.42343835356812298]
[null,60,-0.37202415940594802,-0.334821687661366,-0.31756002648829201,null,60,-0.38714047796357698,-0.37476568952677503,-0.380173041771037,null,60,-0.39034471609975802,-0.40505747126436698,-0.41689666321058599,-0.424827697693345]
[]
[]
[null,"FIGURE 4.1.1.4-5",null,null,null,null,null,"FIGURE 4.1.1.4-6",null,null,"max camber",15,null,"FIGURE 4.1.1.4-6",null,null,"max camber",30,null,"FIGURE 4.1.1.4-6",null,null,"max camber",40,null,"FIGURE 4.1.1.4-6",null,null,"max camber",50,null,"FIGURE 4.1.1.4-7a",null,null,null,null,null,"FIGURE 4.1.1.4-7b"]
[null,"x/c_t/cmax",30,35,40,45,null,"camber",0,2,4,6,null,"camber",0,2,4,6,null,"camber",0,2,4,6,null,"camber",0,2,4,6,null,"x/c_(t/c)max",30,35,40,45,null,"log10(Re)",{"$f":"LOG10(3*10^6)","v":6.4771212547196626},{"$f":"LOG10(6*10^6)","v":6.7781512503836439},{"$f":"LOG10(9*10^6)","v":6.9542425094393252},{"$f":"LOG10(25*10^6)","v":7.3979400086720375}]
[null,"Δy","clmax_base","clmax_base","clmax_base","clmax_base",null,"Δy","Δ1_clmax","Δ1_clmax","Δ1_clmax","Δ1_clmax",null,"Δy","Δ1_clmax","Δ1_clmax","Δ1_clmax","Δ1_clmax",null,"Δy","Δ1_clmax","Δ1_clmax","Δ1_clmax","Δ1_clmax",null,"Δy","Δ1_clmax","Δ1_clmax","Δ1_clmax","Δ1_clmax",null,"Δy","Δ2_clmax","Δ2_clmax","Δ2_clmax","Δ2_clmax",null,"Δy","Δ3_clmax","Δ3_clmax","Δ3_clmax","Δ3_clmax"]
[null,0,0.79935719453643606,0.79935719453643606,0.79935719453643606,0.79935719453643606,null,0.32090993426728398,0,2.0791896935723399E-4,null,null,null,1.5,0,7.0414201183432001E-2,0.27455621301775102,0.65266272189349095,null,1.5,0,5.34761317463801E-2,0.27714620045574601,0.50969195274513701,null,1.5,0,3.2588461083297798E-2,0.18150391130823401,0.35120649409230298,null,0.25,0,0.158086769018948,0.158086769018948,0.158086769018948,null,1,-9.2170022371364596E-2,-8.0536912751677497E-3,0,0.126174496644295]
[null,1,0.800585604272532,0.800585604272532,0.800585604272532,0.800585604272532,null,0.5,0,2.8828542654071299E-2,null,null,null,1.75,0,0.15562130177514799,0.34556213017751403,0.62426035502958499,null,1.75,0,0.12787269422516001,0.335563689997741,0.51485818329972299,null,1.75,0,6.3991438171143999E-2,0.22329222214790001,0.39646207120107402,null,0.5,0,0.16706464010286401,0.16706464010286401,0.16706464010286401,null,1.25,-0.117225950782997,-5.1006711409395902E-2,0,0.14228187919463001]
[null,1.25,0.85663540895311896,0.85663540895311896,0.85663540895311896,0.85663540895311896,null,0.75,0,7.3531121065873395E-2,null,null,null,2,0,0.22307692307692301,0.402366863905325,0.55857988165680394,null,2,0,0.19516586734718,0.36912642302292697,0.49871424578403001,null,2,0,9.5398531522863206E-2,0.26336542304044303,0.43132819829415098,null,0.75,0,0.17599999999999999,0.17599999999999999,0.17599999999999999,null,1.5,-0.13512304250559201,-7.6062639821028996E-2,0,0.136912751677852]
[null,1.5,0.96889812666099295,0.96889812666099295,0.96889812666099295,0.96889812666099295,null,1,0,0.123578949648234,null,null,null,2.25,0,0.25502958579881602,0.40059171597633098,0.47337278106508801,null,2.25,0,0.232281716297116,0.37962090621826799,0.455946100021002,null,2.25,0,0.123334242341605,0.29650409139477801,0.45580075910766199,null,1,0,0.18679974170130001,0.18679974170130001,0.18679974170130001,null,1.75,-0.14228187919463001,-8.5011185682326504E-2,0,0.110067114093959]
[null,1.75,1.0850380656935801,1.0850380656935801,1.0850380656935801,1.0850380656935801,null,1.25,0,0.16828441582349901,null,null,null,2.5,0,0.24792899408284,0.33668639053254401,0.38461538461538403,null,2.5,0,0.228566578286197,0.34217532811051599,0.39899107299363401,null,2.5,0,0.14608757694412,0.29499891090518299,0.449113202401839,null,1.25,0,0.19399825335461099,0.19399825335461099,0.19399825335461099,null,2,-0.13154362416107299,-7.4272930648769594E-2,0,6.8903803131991001E-2]
[null,2,1.19923939406381,1.19923939406381,1.19923939406381,1.19923939406381,null,1.5,0,0.22902274474697701,null,null,null,2.75,0,0.20177514792899401,0.25857988165680401,0.29763313609467401,null,2.75,0,0.19645493780467899,0.26746040644487801,0.329584506519572,null,2.75,0,0.15151281272886,0.26233361289625401,0.37315852932752203,null,1.5,0,0.201196765007922,0.201196765007922,0.201196765007922,null,2.25,-0.1082774049217,-4.9217002237136397E-2,0,2.77404921700223E-2]
[null,2.25,1.3115089079528,1.3115089079528,1.3115089079528,1.2901807925763,null,1.75,0,0.29154859925423499,null,null,null,3,0,0.15384615384615299,0.18402366863905301,0.22130177514792901,null,3,0,0.14481110846162701,0.19096182058501601,0.25131646892918502,null,3,0,0.13962641475131701,0.22101043987424801,0.29374070624797399,null,1.75,0,0.19949705715854299,0.19949705715854299,0.19949705715854299,null,2.5,-9.2170022371364596E-2,-3.1319910514541298E-2,0,1.34228187919463E-2]
[null,2.5,1.4257136344135899,1.4218364130888701,1.39276065124405,1.33265352643926,null,2,0,0.32200006497467698,0.398612429655886,0.398612429655886,null,3.25,0,0.111242603550295,0.127218934911242,0.15739644970414199,null,3.25,0,9.6726080028803701E-2,0.13222881434890299,0.17837952647229199,null,3.25,0,0.115627224283212,0.17968726685224101,0.24376377447676201,null,2,0,0.174667099060964,0.174667099060964,0.174667099060964,null,2.75,-9.5749440715883594E-2,-2.23713646532437E-2,0,4.5637583892617399E-2]
[null,2.75,1.5282765026285601,1.4778760234977899,1.4255335356141099,1.3441084897044899,null,2.25,0,0.28830852864841799,0.36848728120679602,0.36848728120679602,null,3.5,0,7.7514792899408297E-2,8.4615384615384495E-2,9.8816568047337294E-2,null,3.5,0,6.8159027993815999E-2,9.8336352165900504E-2,0.128513676337984,null,3.5,0,9.1611568759615403E-2,0.141831360099339,0.20589551893224101,null,2.25,0,0.14449906267157001,0.14449906267157001,0.14449906267157001,null,3,-0.11901565995525699,-3.1319910514541298E-2,0,0.110067114093959]
[null,3,1.5688140239197199,1.50289786330897,1.44280433086641,1.3497510190731901,null,2.5,0,0.226111879175976,0.30272713162064802,0.30272713162064802,null,3.75,0,6.5088757396449703E-2,6.3313609467455498E-2,6.5088757396449703E-2,null,3.75,0,6.2677280745112002E-2,8.0425805412422002E-2,0.103502582720486,null,3.75,0,5.7222928275817202E-2,0.12821338711918101,0.192285778479829,null,2.5,0,0.107212166210092,0.107212166210092,0.107212166210092,null,3.25,-0.15838926174496601,-5.2796420581655401E-2,0,0.15123042505592799]
[null,3.25,1.57833037652259,1.51823344598947,1.4465048514822001,1.3495743183642701,null,2.75,0,0.169254704347166,0.22806111951370001,0.22806111951370001,null,4,0,6.15384615384615E-2,6.6863905325443798E-2,7.3964497041419996E-2,null,4,0,5.54118693021836E-2,8.0263783326253293E-2,0.10688514908084799,null,4,0,6.0916589057941603E-2,0.14230473044474501,0.19772336305618801,null,2.75,0,7.88234892513036E-2,7.88234892513036E-2,8.0602848681908507E-2,null,3.5,-0.204921700223713,-7.06935123042505E-2,0,0.176286353467561]
[null,3.5,1.5781502777231,1.51805674528054,1.4463281507732699,1.3435817856682699,null,3,0,0.117748555215842,0.16051633210723701,0.16051633210723701,null,4.25,0,6.15384615384615E-2,7.9289940828402405E-2,8.4615384615384495E-2,null,4.25,0,5.88001206480252E-2,9.2527718252119501E-2,0.117385317261668,null,4.25,0,7.6743623649994194E-2,0.15639607377030901,0.218741006392214,null,3,0,4.3315952220430103E-2,4.3315952220430103E-2,7.8904563182194506E-2,null,3.75,-0.22281879194630799,-8.6800894854586003E-2,0,0.19060402684563699]
[null,3.75,1.5682839217929401,1.5062517786880201,1.44033561807727,1.34146647429698,null,3.25,0,8.2281044359656497E-2,0.11969779555356599,0.11969779555356599,null,4.5,0,6.15384615384615E-2,6.8639053254437907E-2,8.6390532544378604E-2,null,4.5,0,5.8635256069116702E-2,8.5265149301931006E-2,0.126093293770045,null,4.5,0,9.6025575719531506E-2,0.168755842093257,0.239746300936621,null,3.25,0,1.13685564004312E-2,2.73827912758761E-2,8.2544355974295297E-2,null,4,-0.23892617449664399,-0.10648769574944,0,0.19776286353467501]
[null,4,1.5429120786544599,1.48280835194023,1.4246500320694799,1.33159672027626,null,3.5,0,7.1749371009020596E-2,0.103817984268908,0.103817984268908,null,4.75,0,3.4911242603550198E-2,4.9112426035502997E-2,6.6863905325443798E-2,null,4.75,0,4.4277825240387897E-2,7.2680012696467497E-2,0.115274766402367,null,4.75,0,9.6260202760297994E-2,0.15341041037435699,0.22785990295907901,null,3.5,0,-1.1682042266542601E-2,2.2127209264616799E-2,9.8639664780630895E-2,null,4.25,-0.25145413870245997,-0.11901565995525699,0]
[null,4.25,1.5039563685172499,1.4477400573994099,1.3876397287757301,null,null,3.75,0,7.1911085762965204E-2,0.103982586786316,0.103982586786316,null,5,0,2.9585798816568198E-3,1.18343195266272E-2,2.6035502958579801E-2,null,5,0,1.92525191591905E-2,4.4107275675999903E-2,8.8482851083384495E-2,null,5,0,7.5728278561297199E-2,0.11901353736281201,0.200397562485743,null,3.75,0,-2.2278547268946399E-2,3.4660954510412997E-2,0.114733551237302,null,4.5,-0.255033557046979,-0.12796420581655399,0]
[null,4.5,1.4630756400799101,1.41072975410567,1.3486908148196299,null,null,4,0,7.5633412867152E-2,0.10414718930372401,0.10414718930372401,null,5.25,0,-3.4319526627218898E-2,-2.5443786982248501E-2,-1.8343195266272101E-2,null,5.25,0,-9.3088478903177105E-3,6.6730675392065999E-3,3.5075254995286097E-2,null,5.25,0,4.9989280562830397E-2,9.3274539364345904E-2,0.167736380740687,null,4,0,-3.1094270491080399E-2,3.6519965522244097E-2,0.11837192167973801,null,4.75,-0.25682326621923901,-0.13512304250559201,0]
[null,4.75,1.4357549920074,1.3756580614742899,null,null,null,4.25,0,6.8671015157148504E-2,0.104308904057668,0.104308904057668,null,null,null,null,null,null,null,null,null,null,null,null,null,null,null,null,null,null,null,4.25,0,-3.63498525023397E-2,2.9483601730715001E-2,0.109556198457604]
[null,5,1.4142501759219801,null,null,null,null,4.5,0,6.3487479740534397E-2,9.7340730820738505E-2,9.7340730820738505E-2,null,null,null,null,null,null,null,null,null,null,null,null,null,null,null,null,null,null,null,4.5,0,-4.3387638643533497E-2,1.5329800216766099E-2,8.6504177440965294E-2]
[null,5.25,1.4121348645506899,null,null,null,null,4.75,0,5.1185607386898903E-2,8.5033082940176294E-2,8.5033082940176294E-2]
[null,null,null,null,null,null,null,5,0,3.17538470423889E-2,5.8480097895181403E-2,5.8480097895181403E-2]
[null,null,null,null,null,null,null,5.25,0,1.62003530290844E-3,2.1222173691752898E-2,2.1222173691752898E-2]
[]
[]
[null,"FIGURE4.4.1-66",null,null,null,null,null,"FIGURE4.4.1-66",null,null,null,null,"FIGURE4.4.1-66",null,null,null,"FIGURE 4.4.1-67",null,null,null,null,null,null,null,"FIGURE 4.4.1-67",null,null,null,null,null,"FIGURE 4.4.1-67",null,null,null,null,null,"FIGURE4.4.1-68a",null,null,null,null,"FIGURE 4.4.1-68b"]
[null,"Λ_c/4",0,30,45,60,null,"λ",0,0.5,1,null,"λ",0,1,null,"Aeff",1.5,2,3,5,7,10,null,"λ_c/4",0,30,45,60,null,"λ_c/4",0,30,45,60,null,"Λ_c/4","Δy","Δy",null,null,"2a/bv",0,0.2,0.6,1]
[null,"(α-α0)/(αCLmax-α0)","-","-","-","-",null,"-","Aeff/A","Aeff/A","Aeff/A",null,"Aeff/A","beff/b","beff/b",null,"l2/(b/2)","-","-","-","-","-","-",null,"Aeff","-","-","-","-",null,"Aeff","(∂ε/∂α)∞","(∂ε/∂α)∞","(∂ε/∂α)∞","(∂ε/∂α)∞",null,0,1.2622111580351101,1.7094892198266201,null,null,"bH/bv","(∂ε/∂α)/(∂ε/∂α)v","(∂ε/∂α)/(∂ε/∂α)v","(∂ε/∂α)/(∂ε/∂α)v","(∂ε/∂α)/(∂ε/∂α)v"]
[null,0.2,5,5,5,5,null,0.31625471538764599,0.29825798096953998,0.41633627278448621,0.53023560455600849,null,0.4,0.55570875275802301,null,null,0.2,3.3527059305261702,3.2199276598648701,2.7883436838872502,2.25728519757046,1.9253395209172099,1.5269501126049201,null,1,-0.21803819726234899,-0.02,0.23,0.6,null,1,{"$f":"1-Z100/2.5","v":1.0872152789049396},{"$f":"1-AA100/2.5","v":1.008},{"$f":"1-AB100/2.5","v":0.90800000000000003},{"$f":"1-AC100/2.5","v":0.76},null,5,1.25516425872416,1.70800622360524,null,null,0.2,0.99380032167230903,0.95652883700487301,0.73291007182082901,0.50695169602449697]
[null,0.40599591277950797,5,5,5,5,null,5,1,1,1,null,0.5,0.65742369863921701,null,null,0.4,2.4500000000000002,2.28884187538387,1.9237016310652999,1.4423803999181,1.21001842626083,0.89461543711185398,null,2,0.46870096845750098,0.59984850944110701,0.87859113780230402,1.18,null,2,0.81251961261699956,0.76006059622355715,0.64856354487907841,0.52800000000000002,null,10,1.25368126250277,1.70666725939097,null,null,0.4,1.05813285162985,0.95798602222726603,0.71571122906835705,0.49442193167602799]
[null,0.55599293664808203,5,5,5,{"$f":"InterpolationLinear(B102,$B$101,$F$101,$B$104,$F$104)","v":4.0480391563961868},null,null,null,null,null,null,0.6,0.74714443992007595,0.59115159894319103,null,0.6,1.80582815805637,1.6399099160581401,1.3744079710639401,0.99256125025592001,0.79344844059236996,0.61087831843308504,null,3,0.92614835254017103,1.0244549045068401,1.2211762159822499,1.4998647405724099,null,3,0.62954065898393163,0.59021803819726393,0.51152951360710008,0.40005410377103601,null,15,1.25800222271615,1.7050402311624799,null,null,0.6,1.1690953087039799,0.97807894978337795,0.68456600802731704,0.47257429616070001]
[null,0.72998948433562805,5,5,{"$f":"InterpolationLinear(B103,$B$102,$E$102,$B$104,$E$104)","v":4.0980378617553619},{"$f":"InterpolationLinear(B103,$B$101,$F$101,$B$104,$F$104)","v":2.9437645778157622},null,null,null,null,null,null,0.7,0.82285963201106005,0.69486084412079396,null,0.8,1.3892581723879001,1.2564799017266,0.99092336040401197,0.69211765508769396,0.57599126458745598,0.39347573875656899,null,4,1.1867662176053599,1.30152031596602,1.44906129957257,1.67862360006492,null,4,0.52529351295785598,0.47939187361359203,0.42037548017097204,0.32855055997403204,null,20,1.2962347188264001,1.7094092020448901,null,null,0.8,1.35459059229242,1.02379602304835,0.63943383741541604,0.439109750148519]
[null,1,5,4,2.6983591595404799,1.2301343227316901,null,null,null,null,null,null,0.8,0.88656925597295499,0.79657579000198797,null,1,1.1220637412134,0.98923087422370704,0.75686890056643596,0.54110421074182702,0.42497782024158798,0.28999999999999998,null,5,1.36547097332684,1.49661851431044,1.6113185089000699,1.8244332629984299,null,5,0.45381161066926401,0.40135259427582404,0.35547259643997209,0.270226694800628,null,25,1.3570108913091701,1.76457346076906,null,null,0.82731026888134296,{"$f":"InterpolationLinear($AP104,$AP$103,AQ$103,$AP$105,AQ$105)","v":1.3328398427267572},1.03532164816004,{"$f":"InterpolationLinear($AP104,$AP$103,AS$103,$AP$105,AS$105)","v":0.6316819040645989},{"$f":"InterpolationLinear($AP104,$AP$103,AT$103,$AP$105,AT$105)","v":0.43358307549289221}]
[null,null,null,null,null,null,null,null,null,null,null,null,0.9,0.94229031922046202,0.89028512987566399,null,1.2,0.92120384904115105,0.80502286221251496,0.58920357605950902,0.423230737732887,0.30704975090425102,0.207466047908278,null,6,1.49494129740842,1.6096953957690801,1.7245035979007699,1.92117080560515,null,6,0.40202348103663199,0.35612184169236794,0.31019856083969199,0.23153167775794004,null,30,1.4630664592131499,1.8650171149144199,null,null,1,1.1953043570659201,0.94140251058958702,0.58266447066551297,0.398636515120047]
[null,null,null,null,null,null,null,null,null,null,null,null,1,0.98800011363528695,0.98800011363528695,null,1.4,0.78673309219954901,0.65395482153825102,0.47138469937896599,0.338551832389271,0.24,0.14499999999999999,null,7,1.6080722826381,1.7064329383757999,1.82118703673646,1.9851755667369999,null,7,0.35677108694476001,0.31742682464968008,0.27152518530541603,0.20592977330520001,null,35,1.5975656812625001,2.0107881751500298,null,null,1.2,0.99409784440913196,0.78445588597537697,0.511918297165323,0.34651594113300099]
[null,null,null,null,null,null,null,null,null,null,null,null,null,null,null,null,1.6,0.63571964785368096,0.536081348529311,0.38670579403535099,0.27052480720671501,0.19,0.121203849041151,null,8,1.6883622788508299,1.7703835957366201,1.9015311367202199,2.0490721203267799,null,8,0.32465508845966806,0.29184656170535195,0.23938754531191209,0.18037115186928809,null,40,1.78856812625027,2.2130624583240701,null,null,1.4,0.74165318315518902,0.576260969943441,0.43881222741169701,0.289726288741952]
[null,null,null,null,null,null,null,null,null,null,null,null,null,null,null,null,1.8,0.56763802634272797,0.46805432334675501,0.33527605268545602,0.23569234968948299,0.169303214358834,0.102914079028185,null,10,1.7671373694746499,1.8654980252123501,1.9802521235730099,2.09500622193366,null,10,0.29314505221013998,0.25380078991505994,0.207899150570796,0.16199751122653594,null,45,2.0419737719493201,2.5117474994443199,null,null,1.5,0.60145911718821599,0.457011828460754,0.39645580869674402,0.26601575518129]
[null,null,null,null,null,null,null,null,null,null,null,null,null,null,null,null,2,0.48295912099911298,0.40002729816419802,0.28379171500716599,0.21740257967651699,0.151013444345867,8.4569712686821605E-2,null,null,null,null,null,null,null,null,null,null,null,null,null,50,2.44800533451878,3.0027739497666102]
[null,null,null,null,null,null,null,null,null,null,null,null,null,null,null,null,2.2000000000000002,0.431529379649219,0.34854296048590599,0.248959257489934,0.182570122159284,0.11618098682863499,8.2986419163311106E-2,null,null,null,null,null,null,null,null,null,null,null,null,null,55,3.00124294287619]
[]
[]
[null,"FIGURE4.1.5.1-26",null,null,null,null,null,"FIGURE4.1.5.1-27",null,null,null,null,null,"FIGURE4.1.5.1-28b"]
[null,"M",0,0.3,0.7,1,null,"M",0,1,2,3,null,"M",0.125,0.6,0.8,0.9]
[null,"Re","Cf",null,"Cf","Cf",null,"l/k","Re","Re","Re","Re",null,"cos(Λ(t/c)max)","R_L.S.","R_L.S.","R_L.S.","R_L.S."]
[null,5.3695018450726142,null,null,null,5.4999999999999997E-3,null,383.165273078957,null,null,null,101410.63043254599,null,0.5,0.81019108280254704,0.8828025477707,1,1.0929936305732399]
[null,5.4377445785396183,null,null,5.4999999999999997E-3,5.3374398553298601E-3,null,791.988420298498,null,null,99802.260358883999,214985.62548102401,null,0.55000000000000004,0.84713375796178303,0.92101910828025402,1.0382165605095499,1.1312101910828001]
[null,5.4847917284381911,null,5.4999999999999997E-3,5.3935156779797797E-3,5.2125113830852098E-3,null,1462.30008892862,null,100575.152834191,198459.48298731699,409454.39580125001,null,0.6,0.88662420382165597,0.96050955414012695,1.07515923566878,1.1668789808917099]
[null,5.5220806900013795,5.4999999999999997E-3,5.4174766687118498E-3,5.3110191494171203E-3,5.11999870830238E-3,null,1893.21839856613,95816.647156317005,124653.547489595,245884.6998878,541405.32599527901,null,0.65,0.92484076433120999,1.00127388535031,1.1108280254777001,1.20254777070063]
[null,5.6989700043360187,5.0710110763070304E-3,5.0147253527949099E-3,4.8780314528368901E-3,4.7091742823005102E-3,null,2568610.8076422899,196024446.19552499,255019804.36751899,481798461.058613,993675997.74615896,null,0.7,0.96178343949044498,1.04076433121019,1.14904458598726,1.2394904458598699]
[null,6,4.4747473116543398E-3,4.4184777343623796E-3,4.2898246520489498E-3,4.14508993444634E-3,null,4907881.4359365096,389938399.64750201,485702147.20645303,979307001.19784904,null,null,0.75,0.99872611464968097,1.0777070063694201,1.18089171974522,1.2713375796178299]
[null,6.6989700043360187,3.3944521587496298E-3,3.3381664352375101E-3,3.2577744050117799E-3,3.1451868117673598E-3,null,9508756.1138078198,758317745.64769804,1008409351.7835,null,null,null,0.8,1.0254777070063601,1.10700636942675,1.21273885350318,1.3019108280254701]
[null,7,3.0233635805857798E-3,2.9751348209384101E-3,2.89471049827235E-3,2.7901960151128602E-3,null,10142478.5285396,808723331.22275698,null,null,null,null,0.85,1.0471337579617801,1.12866242038216,1.23312101910828,1.32866242038216]
[null,7.6989700043360187,2.3531824199954699E-3,2.3129783317725298E-3,2.2486517906158102E-3,2.1843091032389302E-3,null,null,null,null,null,null,null,0.9,1.0585987261146399,1.1414012738853501,1.24585987261146,1.3439490445859801]
[null,8,2.1348532308586498E-3,2.1027061065004601E-3,2.0464042367681701E-3,1.98207769561145E-3,null,null,null,null,null,null,null,0.95,1.06369426751592,1.1452229299362999,1.2509554140127299,1.35286624203821]
[null,8.6989700043360187,1.73805987018438E-3,1.7058965996060299E-3,1.6576355475183199E-3,1.59330900636161E-3,null,null,null,null,null,null,null,1,1.0662420382165601,1.14777070063694,1.25605095541401,1.3566878980891699]
[null,9,1.59209803984887E-3,1.5599509154906801E-3,1.5197306810475601E-3,1.4634611037556101E-3]
[]
[]
[null,"FIGURE4.3.1.2-10"]
[null,"d/b","KB(W)","KW(B)"]
[null,0,0,1]
[null,0.1,0.13223851697802,1.0797626304277601]
[null,0.2,0.28246351608160902,1.1700177489332699]
[null,0.3,0.447676503280863,1.2602639033310601]
[null,0.4,0.62188497256983,1.3535219979203199]
[null,0.5,0.80209491197246197,1.4557666104915901]
[null,0.6,1.0032987916382801,1.56101419914661]
[null,0.7,1.22248915342966,1.66925579977769]
[null,0.8,1.4506660332030501,1.7775018824626101]
[null,0.9,1.70284431137724,1.8887464591774501]
[null,1,2,2]